BEGIN:VCALENDAR
VERSION:2.0
PRODID:-//chikkutakku.com//RDFCal 1.0//EN
X-WR-CALDESC:GoogleカレンダーやiCalendar形式情報を共有シェ
 アしましょう。近所のイベントから全国のイベントま
 で今日のイベント検索やスケジュールを決めるならち
 っくたっく
X-WR-CALNAME:ちっくたっく
X-WR-TIMEZONE:UTC
BEGIN:VEVENT
SUMMARY:とらドラ！(12)
DTSTART;VALUE=DATE:20260426
DTEND;VALUE=DATE:20260427
UID:296753555809
DESCRIPTION:2026-04-27とらドラ！(12)竹宮 ゆゆこ/絶叫/ヤスKAD
 OKAWA
LOCATION:
END:VEVENT
BEGIN:VEVENT
SUMMARY:倫敦スコーンの謎
DTSTART;VALUE=DATE:20260429
DTEND;VALUE=DATE:20260430
UID:103141976262
DESCRIPTION:2026-04-30倫敦スコーンの謎米澤穂信東京創元社
LOCATION:
END:VEVENT
BEGIN:VEVENT
SUMMARY:拳々囂々
DTSTART;VALUE=DATE:20260429
DTEND;VALUE=DATE:20260430
UID:573914037421
DESCRIPTION:2026-04拳々囂々不知火丈文芸社
LOCATION:
END:VEVENT
BEGIN:VEVENT
SUMMARY:ゴールデンマン（9）
DTSTART;VALUE=DATE:20260430
DTEND;VALUE=DATE:20260501
UID:207043748660
DESCRIPTION:2026-05-01ゴールデンマン（9）ペトス/恵 広史講
 談社
LOCATION:
END:VEVENT
BEGIN:VEVENT
SUMMARY:クライマックスネクロマンス 4
DTSTART;VALUE=DATE:20260507
DTEND;VALUE=DATE:20260508
UID:112565901709
DESCRIPTION:2026-05-08クライマックスネクロマンス 4水上 悟
 志/瀬戸 一里少年画報社
LOCATION:
END:VEVENT
BEGIN:VEVENT
SUMMARY:ファイブスター物語 19
DTSTART;VALUE=DATE:20260508
DTEND;VALUE=DATE:20260509
UID:881372788590
DESCRIPTION:2026-05-09ファイブスター物語 19永野 護KADOKAWA
LOCATION:
END:VEVENT
BEGIN:VEVENT
SUMMARY:ソードアート・オンライン オルタナティブ ギャ
 ンブラーズ・オナー（1）
DTSTART;VALUE=DATE:20260508
DTEND;VALUE=DATE:20260509
UID:135372343306
DESCRIPTION:2026-05-09ソードアート・オンライン オルタナテ
 ィブ ギャンブラーズ・オナー（1）周藤 蓮/Enji/川原 礫K
 ADOKAWA
LOCATION:
END:VEVENT
BEGIN:VEVENT
SUMMARY:仮面紳士 ハイカラ右京探偵全集
DTSTART;VALUE=DATE:20260511
DTEND;VALUE=DATE:20260512
UID:724357868245
DESCRIPTION:2026-05-12仮面紳士 ハイカラ右京探偵全集日影丈
 吉/日下三蔵光文社
LOCATION:
END:VEVENT
BEGIN:VEVENT
SUMMARY:若殿はつらいよ 豊太閤の幻女（第23巻）
DTSTART;VALUE=DATE:20260512
DTEND;VALUE=DATE:20260513
UID:144347676153
DESCRIPTION:2026-05-13若殿はつらいよ 豊太閤の幻女（第23巻
 ）鳴海 丈コスミック出版
LOCATION:
END:VEVENT
BEGIN:VEVENT
SUMMARY:なんとかなる本 樹本図書館のコトバ使い 完結編
DTSTART;VALUE=DATE:20260513
DTEND;VALUE=DATE:20260514
UID:388813556500
DESCRIPTION:2026-05-14なんとかなる本 樹本図書館のコトバ使
 い 完結編令丈 ヒロ子/浮雲 宇一講談社
LOCATION:
END:VEVENT
BEGIN:VEVENT
SUMMARY:ダンジョンに出会いを求めるのは間違っているだ
 ろうか ファミリアクロニクル episodeヘイズ
DTSTART;VALUE=DATE:20260514
DTEND;VALUE=DATE:20260515
UID:251237752016
DESCRIPTION:2026-05-15ダンジョンに出会いを求めるのは間違
 っているだろうか ファミリアクロニクル episodeヘイズ
 大森藤ノ/西島ふみかる/ニリツSBクリエイティブ
LOCATION:
END:VEVENT
BEGIN:VEVENT
SUMMARY:BLACK LAGOON 掃除屋ソーヤー 解体！ゴアゴア娘（11
 ）
DTSTART;VALUE=DATE:20260518
DTEND;VALUE=DATE:20260519
UID:119455998413
DESCRIPTION:2026-05-19BLACK LAGOON 掃除屋ソーヤー 解体！ゴア
 ゴア娘（11）イダ タツヒコ/広江 礼威小学館
LOCATION:
END:VEVENT
BEGIN:VEVENT
SUMMARY:慰謝料狩り 5
DTSTART;VALUE=DATE:20260518
DTEND;VALUE=DATE:20260519
UID:147685807260
DESCRIPTION:2026-05-19慰謝料狩り 5きづきあきら＋サトウナ
 ンキ集英社
LOCATION:
END:VEVENT
BEGIN:VEVENT
SUMMARY:エロ漫画家だけど食っていけないから、日雇い探
 索者でダンジョン行ってくる
DTSTART;VALUE=DATE:20260519
DTEND;VALUE=DATE:20260520
UID:130364895689
DESCRIPTION:2026-05-20エロ漫画家だけど食っていけないから
 、日雇い探索者でダンジョン行ってくる赤丈聖/福きつ
 ねマイクロマガジン社
LOCATION:
END:VEVENT
BEGIN:VEVENT
SUMMARY:さよなら平成おじさん
DTSTART;VALUE=DATE:20260519
DTEND;VALUE=DATE:20260520
UID:236573446026
DESCRIPTION:2026-05-20さよなら平成おじさん桂明日香/上野ド
 リコム
LOCATION:
END:VEVENT
BEGIN:VEVENT
SUMMARY:最果てのパラディン105（15）
DTSTART;VALUE=DATE:20260519
DTEND;VALUE=DATE:20260520
UID:336541277545
DESCRIPTION:2026-05-20最果てのパラディン105（15）奥橋 睦/柳
 野かなた/輪くすさがオーバーラップ
LOCATION:
END:VEVENT
BEGIN:VEVENT
SUMMARY:世界の終わりの世界録 14
DTSTART;VALUE=DATE:20260521
DTEND;VALUE=DATE:20260522
UID:338020595078
DESCRIPTION:2026-05-22世界の終わりの世界録 14雨水 龍/細音 
 啓/ふゆの 春秋KADOKAWA
LOCATION:
END:VEVENT
END:VCALENDAR
