BEGIN:VCALENDAR
VERSION:2.0
PRODID:-//chikkutakku.com//RDFCal 1.0//EN
X-WR-CALDESC:GoogleカレンダーやiCalendar形式情報を共有シェ
 アしましょう。近所のイベントから全国のイベントま
 で今日のイベント検索やスケジュールを決めるならち
 っくたっく
X-WR-CALNAME:ちっくたっく
X-WR-TIMEZONE:UTC
BEGIN:VEVENT
SUMMARY:Hearing Screening 21 March
DTSTART;VALUE=DATE:20260420
DTEND;VALUE=DATE:20260422
UID:115970894865
DESCRIPTION:Hearing Screening 21 March
LOCATION:
END:VEVENT
BEGIN:VEVENT
SUMMARY:Netball & Rugby Mini Festival (Gr. 1 -3) 
DTSTART;VALUE=DATE-TIME:20260423T120000Z
DTEND;VALUE=DATE-TIME:20260423T150000Z
UID:150902756187
DESCRIPTION:Netball & Rugby Mini Festival (Gr. 1 -3) 
LOCATION:Penryn South Africa\, Boschrand Farm\, R40\, Mbombela\, 1200\, So
 uth Africa
END:VEVENT
BEGIN:VEVENT
SUMMARY:JP Special Visitors Day
DTSTART;VALUE=DATE-TIME:20260424T060000Z
DTEND;VALUE=DATE-TIME:20260424T090000Z
UID:161260772837
DESCRIPTION:JP Special Visitors Day
LOCATION:
END:VEVENT
BEGIN:VEVENT
SUMMARY:School Closes @ 11h00 (next week off)
DTSTART;VALUE=DATE:20260423
DTEND;VALUE=DATE:20260424
UID:121148506796
DESCRIPTION:School Closes @ 11h00 (next week off)
LOCATION:
END:VEVENT
BEGIN:VEVENT
SUMMARY:Mpumalanga Open Chess Champs
DTSTART;VALUE=DATE:20260424
DTEND;VALUE=DATE:20260426
UID:746072354538
DESCRIPTION:Mpumalanga Open Chess Champs
LOCATION:
END:VEVENT
BEGIN:VEVENT
SUMMARY:School Days Off
DTSTART;VALUE=DATE:20260427
DTEND;VALUE=DATE:20260430
UID:309123857786
DESCRIPTION:School Days Off
LOCATION:
END:VEVENT
BEGIN:VEVENT
SUMMARY:Normal School Resumes
DTSTART;VALUE=DATE:20260503
DTEND;VALUE=DATE:20260504
UID:283279145086
DESCRIPTION:Normal School Resumes
LOCATION:
END:VEVENT
BEGIN:VEVENT
SUMMARY:Netball & Rugby Fixture v Komatipoort (u10 - u13)
DTSTART;VALUE=DATE-TIME:20260505T120000Z
DTEND;VALUE=DATE-TIME:20260505T143000Z
UID:179800815777
DESCRIPTION:Netball & Rugby Fixture v Komatipoort (u10 - u13)
LOCATION:Penryn South Africa\, Boschrand Farm\, R40\, Mbombela\, 1200\, So
 uth Africa
END:VEVENT
BEGIN:VEVENT
SUMMARY:Gr. 1 - 3 Parent Braai
DTSTART;VALUE=DATE-TIME:20260507T150000Z
DTEND;VALUE=DATE-TIME:20260507T170000Z
UID:174551523011
DESCRIPTION:Gr. 1 - 3 Parent Braai
LOCATION:
END:VEVENT
BEGIN:VEVENT
SUMMARY:Netball & Tag Rugby Mini Festival (u7-u9)
DTSTART;VALUE=DATE-TIME:20260508T120000Z
DTEND;VALUE=DATE-TIME:20260508T150000Z
UID:178409281285
DESCRIPTION:Netball & Tag Rugby Mini Festival (u7-u9)
LOCATION:Uplands Preparatory School\, White River\, South Africa
END:VEVENT
BEGIN:VEVENT
SUMMARY:Rugby & Netball v Uplands (A)
DTSTART;VALUE=DATE:20260508
DTEND;VALUE=DATE:20260509
UID:235902281410
DESCRIPTION:Rugby & Netball v Uplands (A)
LOCATION:Uplands Prep
END:VEVENT
BEGIN:VEVENT
SUMMARY:TRAC Chess Tournament
DTSTART;VALUE=DATE:20260508
DTEND;VALUE=DATE:20260509
UID:204202678702
DESCRIPTION:TRAC Chess Tournament
LOCATION:Treeside Private Academy\, 24 Potgieter St\, Mashishing\, 1120\, 
 South Africa
END:VEVENT
BEGIN:VEVENT
SUMMARY:u12A Netball League Fixture v Sabie
DTSTART;VALUE=DATE-TIME:20260512T120000Z
DTEND;VALUE=DATE-TIME:20260512T130000Z
UID:839037541974
DESCRIPTION:u12A Netball League Fixture v Sabie
LOCATION:
END:VEVENT
BEGIN:VEVENT
SUMMARY:Internal Science Expo
DTSTART;VALUE=DATE-TIME:20260511T220000Z
DTEND;VALUE=DATE-TIME:20260512T220000Z
UID:322712099831
DESCRIPTION:Internal Science Expo
LOCATION:Shalamuka Community Hall
END:VEVENT
BEGIN:VEVENT
SUMMARY:SP Football Trials
DTSTART;VALUE=DATE-TIME:20260514T120000Z
DTEND;VALUE=DATE-TIME:20260514T131500Z
UID:236347032292
DESCRIPTION:SP Football Trials
LOCATION:
END:VEVENT
BEGIN:VEVENT
SUMMARY:Netball & Tag Rugby Mini Festival (Gr. 1 - 3)
DTSTART;VALUE=DATE-TIME:20260515T120000Z
DTEND;VALUE=DATE-TIME:20260515T150000Z
UID:164514868930
DESCRIPTION:Netball & Tag Rugby Mini Festival (Gr. 1 - 3)
LOCATION:Curro Nelspruit\, The Rest Nature Estate\, Johanna Dr\, Sonheuwel
 \, Mbombela\, 1213\, South Africa
END:VEVENT
BEGIN:VEVENT
SUMMARY:Battle Boards Online Chess Tournament
DTSTART;VALUE=DATE:20260515
DTEND;VALUE=DATE:20260516
UID:984661673642
DESCRIPTION:Battle Boards Online Chess Tournament
LOCATION:
END:VEVENT
BEGIN:VEVENT
SUMMARY:St Andrew's Netball Festival (u13 A Girls)
DTSTART;VALUE=DATE:20260514
DTEND;VALUE=DATE:20260516
UID:316082896286
DESCRIPTION:St Andrew's Netball Festival (u13 A Girls)
LOCATION:
END:VEVENT
BEGIN:VEVENT
SUMMARY:u12 Girls Netball League v Numbi
DTSTART;VALUE=DATE-TIME:20260519T120000Z
DTEND;VALUE=DATE-TIME:20260519T130000Z
UID:772579103071
DESCRIPTION:u12 Girls Netball League v Numbi
LOCATION:Penryn South Africa\, Boschrand Farm\, R40\, Mbombela\, 1200\, So
 uth Africa
END:VEVENT
END:VCALENDAR
