BEGIN:VCALENDAR
VERSION:2.0
PRODID:-//chikkutakku.com//RDFCal 1.0//EN
X-WR-CALDESC:GoogleカレンダーやiCalendar形式情報を共有シェ
 アしましょう。近所のイベントから全国のイベントま
 で今日のイベント検索やスケジュールを決めるならち
 っくたっく
X-WR-CALNAME:ちっくたっく
X-WR-TIMEZONE:UTC
BEGIN:VEVENT
SUMMARY:Perfume 『BUDOUKaaaaaaaaaaN!!!!!』
DTSTART;VALUE=DATE-TIME:20260421T150000Z
DTEND;VALUE=DATE-TIME:20260422T150000Z
UID:224420417685
DESCRIPTION:［RELEASE］［DVD］\n2009年
LOCATION:
END:VEVENT
BEGIN:VEVENT
SUMMARY:Perfume First Tour 『GAME』
DTSTART;VALUE=DATE-TIME:20260426T150000Z
DTEND;VALUE=DATE-TIME:20260427T150000Z
UID:189872416201
DESCRIPTION:［LIVE］\n2008年
LOCATION:Zepp Osaka
END:VEVENT
BEGIN:VEVENT
SUMMARY:森永乳業 エスキモー pino 「pino AirLines篇」 CM放映
 開始
DTSTART;VALUE=DATE-TIME:20260428T150000Z
DTEND;VALUE=DATE-TIME:20260429T150000Z
UID:177020143099
DESCRIPTION:［TV］\n2010年
LOCATION:
END:VEVENT
BEGIN:VEVENT
SUMMARY:Perfume First Tour 『GAME』
DTSTART;VALUE=DATE-TIME:20260428T150000Z
DTEND;VALUE=DATE-TIME:20260429T150000Z
UID:288307371783
DESCRIPTION:［LIVE］\n2008年
LOCATION:高松 オリーブホール
END:VEVENT
BEGIN:VEVENT
SUMMARY:Perfume First Tour 『GAME』
DTSTART;VALUE=DATE-TIME:20260430T150000Z
DTEND;VALUE=DATE-TIME:20260501T150000Z
UID:950802726062
DESCRIPTION:［LIVE］\n2008年
LOCATION:広島 CLUB QUATTRO
END:VEVENT
BEGIN:VEVENT
SUMMARY:Perfume First Tour 『GAME』
DTSTART;VALUE=DATE-TIME:20260501T150000Z
DTEND;VALUE=DATE-TIME:20260502T150000Z
UID:678324079999
DESCRIPTION:［LIVE］\n2008年
LOCATION:福岡 DRUM LOGOS
END:VEVENT
BEGIN:VEVENT
SUMMARY:Perfume 6th Tour 2016 「COSMIC EXPLORER」
DTSTART;VALUE=DATE-TIME:20260502T150000Z
DTEND;VALUE=DATE-TIME:20260503T150000Z
UID:104521849804
DESCRIPTION:［LIVE］\n2016年
LOCATION:宮城セキスイハイムスーパーアリーナ（宮城）
END:VEVENT
BEGIN:VEVENT
SUMMARY:Perfume First Tour 『GAME』
DTSTART;VALUE=DATE-TIME:20260503T150000Z
DTEND;VALUE=DATE-TIME:20260504T150000Z
UID:149853600929
DESCRIPTION:［LIVE］\n2008年
LOCATION:Zepp Tokyo
END:VEVENT
BEGIN:VEVENT
SUMMARY:Perfume 6th Tour 2016 「COSMIC EXPLORER」
DTSTART;VALUE=DATE-TIME:20260503T150000Z
DTEND;VALUE=DATE-TIME:20260504T150000Z
UID:269274932564
DESCRIPTION:［LIVE］\n2016年
LOCATION:宮城セキスイハイムスーパーアリーナ（宮城）
END:VEVENT
BEGIN:VEVENT
SUMMARY:Perfume First Tour 『GAME』
DTSTART;VALUE=DATE-TIME:20260505T150000Z
DTEND;VALUE=DATE-TIME:20260506T150000Z
UID:137087561668
DESCRIPTION:［LIVE］\n2008年
LOCATION:Zepp Nagoya
END:VEVENT
BEGIN:VEVENT
SUMMARY:SUNSTAR 「Ora2×Perfume ＆ステインケア篇」 CM放映開
 始
DTSTART;VALUE=DATE-TIME:20260505T150000Z
DTEND;VALUE=DATE-TIME:20260506T150000Z
UID:120424085330
DESCRIPTION:［TV］\n2017年
LOCATION:
END:VEVENT
BEGIN:VEVENT
SUMMARY:Perfume 3rd Tour 「JPN」
DTSTART;VALUE=DATE-TIME:20260507T150000Z
DTEND;VALUE=DATE-TIME:20260508T150000Z
UID:786941598165
DESCRIPTION:［LIVE］\n2012年
LOCATION:日本武道館
END:VEVENT
BEGIN:VEVENT
SUMMARY:Perfume 3rd Tour 「JPN」
DTSTART;VALUE=DATE-TIME:20260508T150000Z
DTEND;VALUE=DATE-TIME:20260509T150000Z
UID:260831004706
DESCRIPTION:［LIVE］\n2012年
LOCATION:日本武道館
END:VEVENT
BEGIN:VEVENT
SUMMARY:ディスコ！ディスコ！ディスコ！
DTSTART;VALUE=DATE-TIME:20260508T150000Z
DTEND;VALUE=DATE-TIME:20260509T150000Z
UID:267380146505
DESCRIPTION:［LIVE］\n2009年
LOCATION:代々木第1体育館
END:VEVENT
BEGIN:VEVENT
SUMMARY:Perfume First Tour 『GAME』
DTSTART;VALUE=DATE-TIME:20260509T150000Z
DTEND;VALUE=DATE-TIME:20260510T150000Z
UID:158703329769
DESCRIPTION:［LIVE］\n2008年
LOCATION:新潟LOTS
END:VEVENT
BEGIN:VEVENT
SUMMARY:ディスコ！ディスコ！ディスコ！
DTSTART;VALUE=DATE-TIME:20260509T150000Z
DTEND;VALUE=DATE-TIME:20260510T150000Z
UID:373025707703
DESCRIPTION:［LIVE］\n2009年
LOCATION:代々木第1体育館
END:VEVENT
BEGIN:VEVENT
SUMMARY:Perfume 3rd Tour 「JPN」
DTSTART;VALUE=DATE-TIME:20260510T150000Z
DTEND;VALUE=DATE-TIME:20260511T150000Z
UID:322766872601
DESCRIPTION:［LIVE］\n2012年
LOCATION:日本武道館
END:VEVENT
BEGIN:VEVENT
SUMMARY:Perfume 3rd Tour 「JPN」
DTSTART;VALUE=DATE-TIME:20260511T150000Z
DTEND;VALUE=DATE-TIME:20260512T150000Z
UID:120955043859
DESCRIPTION:［LIVE］\n2012年
LOCATION:日本武道館
END:VEVENT
BEGIN:VEVENT
SUMMARY:Perfume First Tour 『GAME』
DTSTART;VALUE=DATE-TIME:20260515T150000Z
DTEND;VALUE=DATE-TIME:20260516T150000Z
UID:153456471095
DESCRIPTION:［LIVE］\n2008年
LOCATION:仙台CLUB JUNK BOX
END:VEVENT
BEGIN:VEVENT
SUMMARY:キリンチューハイ 氷結やさしい果実の3％ ｢氷結
  Triple Screen｣篇 CM放映開始
DTSTART;VALUE=DATE-TIME:20260515T150000Z
DTEND;VALUE=DATE-TIME:20260516T150000Z
UID:335318170960
DESCRIPTION:［TV］\n2012年
LOCATION:
END:VEVENT
BEGIN:VEVENT
SUMMARY:レーザービーム / 微かなカオリ
DTSTART;VALUE=DATE-TIME:20260517T150000Z
DTEND;VALUE=DATE-TIME:20260518T150000Z
UID:119892741047
DESCRIPTION:［RELEASE］［SINGLE］\n2011年
LOCATION:
END:VEVENT
BEGIN:VEVENT
SUMMARY:Perfume First Tour 『GAME』
DTSTART;VALUE=DATE-TIME:20260517T150000Z
DTEND;VALUE=DATE-TIME:20260518T150000Z
UID:212792484937
DESCRIPTION:［LIVE］\n2008年
LOCATION:札幌　PENNY LANE 24
END:VEVENT
BEGIN:VEVENT
SUMMARY:キリンチューハイ 氷結 ｢氷結 ICE MUSIC｣篇 CM放映
 開始
DTSTART;VALUE=DATE-TIME:20260519T150000Z
DTEND;VALUE=DATE-TIME:20260520T150000Z
UID:208518562412
DESCRIPTION:［TV］\n2011年
LOCATION:
END:VEVENT
BEGIN:VEVENT
SUMMARY:Perfume 6th Tour 2016 「COSMIC EXPLORER」
DTSTART;VALUE=DATE-TIME:20260520T150000Z
DTEND;VALUE=DATE-TIME:20260521T150000Z
UID:333460710541
DESCRIPTION:［LIVE］\n2016年
LOCATION:静岡エコパアリーナ（静岡）
END:VEVENT
END:VCALENDAR
