BEGIN:VCALENDAR
VERSION:2.0
PRODID:-//chikkutakku.com//RDFCal 1.0//EN
X-WR-CALDESC:GoogleカレンダーやiCalendar形式情報を共有シェ
 アしましょう。近所のイベントから全国のイベントま
 で今日のイベント検索やスケジュールを決めるならち
 っくたっく
X-WR-CALNAME:ちっくたっく
X-WR-TIMEZONE:UTC
BEGIN:VEVENT
SUMMARY:Yr 5 | Bush Fire Incursion
DTSTART;VALUE=DATE:20260423
DTEND;VALUE=DATE:20260424
UID:200827895464
DESCRIPTION:Time: 1.30pm - 3:00pm\nVenue: Yr 5 - classrooms &amp\; Carey P
 rimary Oval
LOCATION:
END:VEVENT
BEGIN:VEVENT
SUMMARY:Year 4 Camp | Boshack
DTSTART;VALUE=DATE:20260422
DTEND;VALUE=DATE:20260424
UID:603797502520
DESCRIPTION:Year 4 Camp | Boshack
LOCATION:
END:VEVENT
BEGIN:VEVENT
SUMMARY:T2\, W2
DTSTART;VALUE=DATE:20260427
DTEND;VALUE=DATE:20260428
UID:315241605100
DESCRIPTION:T2\, W2
LOCATION:
END:VEVENT
BEGIN:VEVENT
SUMMARY:Swimming Lessons | Snr Y4-6
DTSTART;VALUE=DATE-TIME:20260419T160000Z
DTEND;VALUE=DATE-TIME:20260430T160000Z
UID:826774997006
DESCRIPTION:Swimming Lessons | Snr Y4-6
LOCATION:
END:VEVENT
BEGIN:VEVENT
SUMMARY:Assembly | Year 5's
DTSTART;VALUE=DATE:20260430
DTEND;VALUE=DATE:20260501
UID:153022268475
DESCRIPTION:Assembly | Year 5's
LOCATION:
END:VEVENT
BEGIN:VEVENT
SUMMARY:T2\, W3
DTSTART;VALUE=DATE:20260503
DTEND;VALUE=DATE:20260504
UID:332684497832
DESCRIPTION:T2\, W3
LOCATION:
END:VEVENT
BEGIN:VEVENT
SUMMARY:WACSSA Soccer
DTSTART;VALUE=DATE:20260506
DTEND;VALUE=DATE:20260507
UID:362865963099
DESCRIPTION:WACSSA Soccer
LOCATION:
END:VEVENT
BEGIN:VEVENT
SUMMARY:Mother's Day Stall
DTSTART;VALUE=DATE:20260506
DTEND;VALUE=DATE:20260508
UID:495314176839
DESCRIPTION:Mother's Day Stall
LOCATION:
END:VEVENT
BEGIN:VEVENT
SUMMARY:T2\, W4
DTSTART;VALUE=DATE:20260510
DTEND;VALUE=DATE:20260511
UID:339737921901
DESCRIPTION:T2\, W4
LOCATION:
END:VEVENT
BEGIN:VEVENT
SUMMARY:Yr 5 Excursion | WA Museum
DTSTART;VALUE=DATE:20260512
DTEND;VALUE=DATE:20260513
UID:362907097633
DESCRIPTION:Yr 5 Excursion | WA Museum
LOCATION:
END:VEVENT
BEGIN:VEVENT
SUMMARY:Assembly | 3S
DTSTART;VALUE=DATE:20260514
DTEND;VALUE=DATE:20260515
UID:336678411953
DESCRIPTION:Assembly | 3S
LOCATION:
END:VEVENT
BEGIN:VEVENT
SUMMARY:Parent Orientation
DTSTART;VALUE=DATE:20260515
DTEND;VALUE=DATE:20260516
UID:199120804696
DESCRIPTION:Parent Orientation
LOCATION:
END:VEVENT
BEGIN:VEVENT
SUMMARY:T2\, W5
DTSTART;VALUE=DATE:20260517
DTEND;VALUE=DATE:20260518
UID:911136138985
DESCRIPTION:T2\, W5
LOCATION:
END:VEVENT
END:VCALENDAR
