BEGIN:VCALENDAR
VERSION:2.0
PRODID:-//chikkutakku.com//RDFCal 1.0//EN
X-WR-CALDESC:GoogleカレンダーやiCalendar形式情報を共有シェ
 アしましょう。近所のイベントから全国のイベントま
 で今日のイベント検索やスケジュールを決めるならち
 っくたっく
X-WR-CALNAME:ちっくたっく
X-WR-TIMEZONE:UTC
BEGIN:VEVENT
SUMMARY:Terranova Testing (Grades 5-7)
DTSTART;VALUE=DATE:20260427
DTEND;VALUE=DATE:20260428
UID:166176880257
DESCRIPTION:SCHOOL\nAmanda Gelpi
LOCATION:
END:VEVENT
BEGIN:VEVENT
SUMMARY:Terranova Testing (Grades 5-7)
DTSTART;VALUE=DATE:20260428
DTEND;VALUE=DATE:20260429
UID:843937156720
DESCRIPTION:SCHOOL\nAmanda Gelpi
LOCATION:
END:VEVENT
BEGIN:VEVENT
SUMMARY:100th Anniversary School Mass / Feast of SCS (1st - 7th)
DTSTART;VALUE=DATE-TIME:20260429T140000Z
DTEND;VALUE=DATE-TIME:20260429T150000Z
UID:225983004966
DESCRIPTION:CHURCH\nAmanda Gelpi\n\n通过 Google Meet 加入：https://me
 et.google.com/ito-hajz-wpr\n或者拨打以下号码：(US) +1 619-738-055
 4 PIN 码： 552340280#\n更多电话号码: https://tel.meet/ito-hajz-wpr
 ?pin=7155652974217&hs=7\n\n如需详细了解 Google Meet，请访问：ht
 tps://support.google.com/a/users/answer/9282720
LOCATION:
END:VEVENT
BEGIN:VEVENT
SUMMARY:100th Anniversary Reception
DTSTART;VALUE=DATE-TIME:20260429T210000Z
DTEND;VALUE=DATE-TIME:20260430T000000Z
UID:151288221864
DESCRIPTION:BARRETT\nJan Carrol\n\n通过 Google Meet 加入：https://mee
 t.google.com/puj-tsuq-ijd\n\n如需详细了解 Google Meet，请访问：
 https://support.google.com/a/users/answer/9282720
LOCATION:
END:VEVENT
BEGIN:VEVENT
SUMMARY:Men's Club Board Meeting
DTSTART;VALUE=DATE-TIME:20260430T010000Z
DTEND;VALUE=DATE-TIME:20260430T030000Z
UID:913030595312
DESCRIPTION:OFF CAMPUS\nCliff Worley\n\n通过 Google Meet 加入：https:
 //meet.google.com/say-brjf-cpv\n或者拨打以下号码：(US) +1 224-777
 -0401 PIN 码： 671083858#\n更多电话号码: https://tel.meet/say-brjf
 -cpv?pin=4343488326576&hs=7\n\n如需详细了解 Google Meet，请访问
 ：https://support.google.com/a/users/answer/9282720
LOCATION:
END:VEVENT
BEGIN:VEVENT
SUMMARY:No Aftercare
DTSTART;VALUE=DATE:20260429
DTEND;VALUE=DATE:20260430
UID:365716005987
DESCRIPTION:SCHOOL\nAmanda Gelpi\n\n通过 Google Meet 加入：https://me
 et.google.com/uoz-kuoa-ghd\n\n如需详细了解 Google Meet，请访问
 ：https://support.google.com/a/users/answer/9282720
LOCATION:
END:VEVENT
BEGIN:VEVENT
SUMMARY:1st Grade Play
DTSTART;VALUE=DATE-TIME:20260430T183000Z
DTEND;VALUE=DATE-TIME:20260430T193000Z
UID:285360052371
DESCRIPTION:BARRETT COMPLEX\n\n通过 Google Meet 加入：https://meet.go
 ogle.com/ycw-nyxd-cwf\n\n如需详细了解 Google Meet，请访问：http
 s://support.google.com/a/users/answer/9282720
LOCATION:
END:VEVENT
BEGIN:VEVENT
SUMMARY:1st Grade Play
DTSTART;VALUE=DATE-TIME:20260430T230000Z
DTEND;VALUE=DATE-TIME:20260501T000000Z
UID:205241572194
DESCRIPTION:BARRETT COMPLEX\n\n通过 Google Meet 加入：https://meet.go
 ogle.com/ycw-nyxd-cwf\n\n如需详细了解 Google Meet，请访问：http
 s://support.google.com/a/users/answer/9282720
LOCATION:
END:VEVENT
BEGIN:VEVENT
SUMMARY:Terranova Testing (Grades 5-7)
DTSTART;VALUE=DATE:20260430
DTEND;VALUE=DATE:20260501
UID:246444061683
DESCRIPTION:SCHOOL\nAmanda Gelpi
LOCATION:
END:VEVENT
BEGIN:VEVENT
SUMMARY:1st Grade Play
DTSTART;VALUE=DATE-TIME:20260501T143000Z
DTEND;VALUE=DATE-TIME:20260501T160000Z
UID:172655823886
DESCRIPTION:BARRETT COMPLEX\n\n通过 Google Meet 加入：https://meet.go
 ogle.com/ycw-nyxd-cwf\n\n如需详细了解 Google Meet，请访问：http
 s://support.google.com/a/users/answer/9282720
LOCATION:
END:VEVENT
BEGIN:VEVENT
SUMMARY:DRESS DOWN DAY:  100th Anniversary T-Shirt
DTSTART;VALUE=DATE:20260501
DTEND;VALUE=DATE:20260502
UID:104767782925
DESCRIPTION:SCHOOL\nAmanda Gelpi
LOCATION:
END:VEVENT
BEGIN:VEVENT
SUMMARY:Muffins with Mom (Pk3-K)
DTSTART;VALUE=DATE-TIME:20260503T150000Z
DTEND;VALUE=DATE-TIME:20260503T163000Z
UID:140239024736
DESCRIPTION:BARRETT\nElise Chouest\n\n通过 Google Meet 加入：https://
 meet.google.com/ori-bkym-tqf\n\n如需详细了解 Google Meet，请访问
 ：https://support.google.com/a/users/answer/9282720
LOCATION:
END:VEVENT
BEGIN:VEVENT
SUMMARY:School Mass (1st - 7th)
DTSTART;VALUE=DATE-TIME:20260506T140000Z
DTEND;VALUE=DATE-TIME:20260506T150000Z
UID:120432900915
DESCRIPTION:CHURCH\nAmanda Gelpi\n\n通过 Google Meet 加入：https://me
 et.google.com/ito-hajz-wpr\n或者拨打以下号码：(US) +1 619-738-055
 4 PIN 码： 552340280#\n更多电话号码: https://tel.meet/ito-hajz-wpr
 ?pin=7155652974217&hs=7\n\n如需详细了解 Google Meet，请访问：ht
 tps://support.google.com/a/users/answer/9282720
LOCATION:
END:VEVENT
BEGIN:VEVENT
SUMMARY:Early Childhood Prayer Service (PK3 - K)
DTSTART;VALUE=DATE-TIME:20260506T153000Z
DTEND;VALUE=DATE-TIME:20260506T160000Z
UID:613600038290
DESCRIPTION:CHURCH\nAmanda Gelpi\n\n通过 Google Meet 加入：https://me
 et.google.com/msk-ucnh-dsi\n\n如需详细了解 Google Meet，请访问
 ：https://support.google.com/a/users/answer/9282720
LOCATION:
END:VEVENT
BEGIN:VEVENT
SUMMARY:Co-op Board Installation Dinner
DTSTART;VALUE=DATE-TIME:20260508T163000Z
DTEND;VALUE=DATE-TIME:20260508T190000Z
UID:259856092447
DESCRIPTION:SCHOOL (OFF CAMPUS)\nAshley Schepens\n\n通过 Google Meet 加
 入：https://meet.google.com/qct-xuik-nxz\n或者拨打以下号码：(US
 ) +1 570-599-8489 PIN 码： 600699746#\n更多电话号码: https://tel.m
 eet/qct-xuik-nxz?pin=2355562637425&hs=7\n\n如需详细了解 Google Meet
 ，请访问：https://support.google.com/a/users/answer/9282720
LOCATION:
END:VEVENT
BEGIN:VEVENT
SUMMARY:7th Grade Exams
DTSTART;VALUE=DATE:20260507
DTEND;VALUE=DATE:20260509
UID:662927653411
DESCRIPTION:SCHOOL\nAmanda Gelpi
LOCATION:
END:VEVENT
BEGIN:VEVENT
SUMMARY:Teacher Appreciation Week
DTSTART;VALUE=DATE:20260504
DTEND;VALUE=DATE:20260509
UID:321911934013
DESCRIPTION:SCHOOL
LOCATION:
END:VEVENT
BEGIN:VEVENT
SUMMARY:7th Grade Exams
DTSTART;VALUE=DATE:20260511
DTEND;VALUE=DATE:20260512
UID:163302663112
DESCRIPTION:SCHOOL\nAmanda Gelpi
LOCATION:
END:VEVENT
BEGIN:VEVENT
SUMMARY:School Mass (K - 7th)
DTSTART;VALUE=DATE-TIME:20260513T140000Z
DTEND;VALUE=DATE-TIME:20260513T150000Z
UID:185514926645
DESCRIPTION:CHURCH\nAmanda Gelpi\n\n通过 Google Meet 加入：https://me
 et.google.com/ito-hajz-wpr\n或者拨打以下号码：(US) +1 619-738-055
 4 PIN 码： 552340280#\n更多电话号码: https://tel.meet/ito-hajz-wpr
 ?pin=7155652974217&hs=7\n\n如需详细了解 Google Meet，请访问：ht
 tps://support.google.com/a/users/answer/9282720
LOCATION:
END:VEVENT
BEGIN:VEVENT
SUMMARY:7th Grade Countdown
DTSTART;VALUE=DATE-TIME:20260513T154500Z
DTEND;VALUE=DATE-TIME:20260513T163000Z
UID:189354528979
DESCRIPTION:FIELD\nAmanda Gelpi
LOCATION:
END:VEVENT
BEGIN:VEVENT
SUMMARY:Athletic Awards Banquet
DTSTART;VALUE=DATE-TIME:20260513T230000Z
DTEND;VALUE=DATE-TIME:20260514T010000Z
UID:191047254022
DESCRIPTION:GYM\nJeff Lionnett\n\n通过 Google Meet 加入：https://meet
 .google.com/qrp-cuwb-hyo\n或者拨打以下号码：(US) +1 401-646-0965 
 PIN 码： 179354553#\n更多电话号码: https://tel.meet/qrp-cuwb-hyo?p
 in=4702404246725&hs=7\n\n如需详细了解 Google Meet，请访问：http
 s://support.google.com/a/users/answer/9282720
LOCATION:
END:VEVENT
BEGIN:VEVENT
SUMMARY:Beloved Women's Holy Hour (C)
DTSTART;VALUE=DATE-TIME:20260114T060000Z
DTEND;VALUE=DATE-TIME:20260514T050000Z
UID:294606941340
DESCRIPTION:CHURCH\nMichelle Macicek\n\n通过 Google Meet 加入：https:
 //meet.google.com/ycy-tgeu-jxs\n或者拨打以下号码：(US) +1 682-305
 -7866 PIN 码： 464035067#\n更多电话号码: https://tel.meet/ycy-tgeu
 -jxs?pin=1940483393838&hs=7\n\n如需详细了解 Google Meet，请访问
 ：https://support.google.com/a/users/answer/9282720
LOCATION:
END:VEVENT
BEGIN:VEVENT
SUMMARY:7th Grade Brunch & Awards
DTSTART;VALUE=DATE-TIME:20260514T150000Z
DTEND;VALUE=DATE-TIME:20260514T170000Z
UID:257638871460
DESCRIPTION:Off Campus\n\n通过 Google Meet 加入：https://meet.google.
 com/wks-chpz-yiu\n\n如需详细了解 Google Meet，请访问：https://s
 upport.google.com/a/users/answer/9282720
LOCATION:
END:VEVENT
BEGIN:VEVENT
SUMMARY:Class of 2026 Mass & Graduation
DTSTART;VALUE=DATE-TIME:20260514T220000Z
DTEND;VALUE=DATE-TIME:20260514T233000Z
UID:222620363109
DESCRIPTION:Class of 2026 Mass & Graduation
LOCATION:
END:VEVENT
BEGIN:VEVENT
SUMMARY:PK3 Closing Program
DTSTART;VALUE=DATE-TIME:20260515T150000Z
DTEND;VALUE=DATE-TIME:20260515T160000Z
UID:339328344665
DESCRIPTION:Church
LOCATION:
END:VEVENT
BEGIN:VEVENT
SUMMARY:PK3 Closing Program 
DTSTART;VALUE=DATE-TIME:20260515T160000Z
DTEND;VALUE=DATE-TIME:20260515T170000Z
UID:302362755461
DESCRIPTION:Church\n\n通过 Google Meet 加入：https://meet.google.com/
 jsq-bwvs-hec\n\n如需详细了解 Google Meet，请访问：https://suppo
 rt.google.com/a/users/answer/9282720
LOCATION:
END:VEVENT
BEGIN:VEVENT
SUMMARY:PK4 Closing Program
DTSTART;VALUE=DATE-TIME:20260518T140000Z
DTEND;VALUE=DATE-TIME:20260518T150000Z
UID:686743032079
DESCRIPTION:Barrett Complex
LOCATION:
END:VEVENT
BEGIN:VEVENT
SUMMARY:PK4 Closing Program
DTSTART;VALUE=DATE-TIME:20260518T160000Z
DTEND;VALUE=DATE-TIME:20260518T170000Z
UID:112027516191
DESCRIPTION:Barrett Complex
LOCATION:
END:VEVENT
BEGIN:VEVENT
SUMMARY:Kindergarten Graduation
DTSTART;VALUE=DATE-TIME:20260519T140000Z
DTEND;VALUE=DATE-TIME:20260519T150000Z
UID:239930276469
DESCRIPTION:Barrett Complex
LOCATION:
END:VEVENT
BEGIN:VEVENT
SUMMARY:Kindergarten Graduation
DTSTART;VALUE=DATE-TIME:20260519T160000Z
DTEND;VALUE=DATE-TIME:20260519T170000Z
UID:263793981056
DESCRIPTION:Barrett Complex\n\n通过 Google Meet 加入：https://meet.go
 ogle.com/cod-dtvb-rfw\n\n如需详细了解 Google Meet，请访问：http
 s://support.google.com/a/users/answer/9282720
LOCATION:
END:VEVENT
BEGIN:VEVENT
SUMMARY:Men's Club Board Installation Dinner
DTSTART;VALUE=DATE-TIME:20260521T000000Z
DTEND;VALUE=DATE-TIME:20260521T030000Z
UID:259471504649
DESCRIPTION:TBD\nCliff Worley\n\n通过 Google Meet 加入：https://meet.
 google.com/pfg-kbqo-dfx\n或者拨打以下号码：(US) +1 316-789-6773 P
 IN 码： 412059370#\n更多电话号码: https://tel.meet/pfg-kbqo-dfx?pi
 n=3308910520597&hs=7\n\n如需详细了解 Google Meet，请访问：https
 ://support.google.com/a/users/answer/9282720
LOCATION:
END:VEVENT
BEGIN:VEVENT
SUMMARY:NO AFTERCARE
DTSTART;VALUE=DATE:20260520
DTEND;VALUE=DATE:20260521
UID:306835193058
DESCRIPTION:NO AFTERCARE
LOCATION:
END:VEVENT
BEGIN:VEVENT
SUMMARY:EARLY DISMISSAL (Noon) / RECORDS DAY
DTSTART;VALUE=DATE:20260520
DTEND;VALUE=DATE:20260521
UID:301158511044
DESCRIPTION:EARLY DISMISSAL (Noon) / RECORDS DAY
LOCATION:
END:VEVENT
BEGIN:VEVENT
SUMMARY:5th & 6th Grade Exams
DTSTART;VALUE=DATE:20260518
DTEND;VALUE=DATE:20260521
UID:154304270417
DESCRIPTION:SCHOOL\nAmanda Gelpi
LOCATION:
END:VEVENT
BEGIN:VEVENT
SUMMARY:School Mass (1st-6th)
DTSTART;VALUE=DATE-TIME:20260521T140000Z
DTEND;VALUE=DATE-TIME:20260521T150000Z
UID:108842645715
DESCRIPTION:CHURCH\nAmanda Gelpi\n\n通过 Google Meet 加入：https://me
 et.google.com/yue-poyq-obu\n或者拨打以下号码：(US) +1 347-450-599
 0 PIN 码： 596880088#\n更多电话号码: https://tel.meet/yue-poyq-obu
 ?pin=5957635279577&hs=7\n\n如需详细了解 Google Meet，请访问：ht
 tps://support.google.com/a/users/answer/9282720
LOCATION:
END:VEVENT
BEGIN:VEVENT
SUMMARY:Academic Awards
DTSTART;VALUE=DATE-TIME:20260521T150000Z
DTEND;VALUE=DATE-TIME:20260521T160000Z
UID:762096675488
DESCRIPTION:CHURCH\nAmanda Gelpi\n\n通过 Google Meet 加入：https://me
 et.google.com/acw-hfya-acv\n\n如需详细了解 Google Meet，请访问
 ：https://support.google.com/a/users/answer/9282720
LOCATION:
END:VEVENT
BEGIN:VEVENT
SUMMARY:Men's Holy Hour (C)
DTSTART;VALUE=DATE-TIME:20260522T010000Z
DTEND;VALUE=DATE-TIME:20260522T020000Z
UID:245527008557
DESCRIPTION:Church\nKyle Devillier
LOCATION:
END:VEVENT
BEGIN:VEVENT
SUMMARY:EARLY DISMISSAL (11 am)
DTSTART;VALUE=DATE:20260521
DTEND;VALUE=DATE:20260522
UID:174525566228
DESCRIPTION:EARLY DISMISSAL (11 am)
LOCATION:
END:VEVENT
BEGIN:VEVENT
SUMMARY:NO AFTERCARE
DTSTART;VALUE=DATE:20260521
DTEND;VALUE=DATE:20260522
UID:269156666326
DESCRIPTION:NO AFTERCARE
LOCATION:
END:VEVENT
BEGIN:VEVENT
SUMMARY:LAST DAY OF SCHOOL (1st-6th)
DTSTART;VALUE=DATE:20260521
DTEND;VALUE=DATE:20260522
UID:108041695413
DESCRIPTION:LAST DAY OF SCHOOL (1st-6th)
LOCATION:
END:VEVENT
BEGIN:VEVENT
SUMMARY:Teacher Professional Development Day
DTSTART;VALUE=DATE:20260522
DTEND;VALUE=DATE:20260523
UID:151891678110
DESCRIPTION:Teacher Professional Development Day
LOCATION:
END:VEVENT
END:VCALENDAR
