BEGIN:VCALENDAR
VERSION:2.0
PRODID:-//chikkutakku.com//RDFCal 1.0//EN
X-WR-CALDESC:GoogleカレンダーやiCalendar形式情報を共有シェ
 アしましょう。近所のイベントから全国のイベントま
 で今日のイベント検索やスケジュールを決めるならち
 っくたっく
X-WR-CALNAME:ちっくたっく
X-WR-TIMEZONE:UTC
BEGIN:VEVENT
SUMMARY:No School-April Vacation
DTSTART;VALUE=DATE:20260420
DTEND;VALUE=DATE:20260425
UID:179201218688
DESCRIPTION:No School-April Vacation
LOCATION:
END:VEVENT
BEGIN:VEVENT
SUMMARY:Math MCAS Grade 3
DTSTART;VALUE=DATE:20260428
DTEND;VALUE=DATE:20260430
UID:179593488200
DESCRIPTION:Math MCAS Grade 3
LOCATION:
END:VEVENT
BEGIN:VEVENT
SUMMARY:Observation Debrief
DTSTART;VALUE=DATE-TIME:20260501T150000Z
DTEND;VALUE=DATE-TIME:20260501T153000Z
UID:137535471635
DESCRIPTION:Observation Debrief
LOCATION:
END:VEVENT
BEGIN:VEVENT
SUMMARY:Early Release Day for Professional Development
DTSTART;VALUE=DATE:20260506
DTEND;VALUE=DATE:20260507
UID:150016437186
DESCRIPTION:Early Release Day for Professional Development
LOCATION:
END:VEVENT
BEGIN:VEVENT
SUMMARY:PAC Meeting @ Shawsheen
DTSTART;VALUE=DATE-TIME:20260507T223000Z
DTEND;VALUE=DATE-TIME:20260508T000000Z
UID:305660320755
DESCRIPTION:PAC Meeting @ Shawsheen
LOCATION:
END:VEVENT
BEGIN:VEVENT
SUMMARY:Grade 3 Field Trip to Boston 
DTSTART;VALUE=DATE:20260514
DTEND;VALUE=DATE:20260515
UID:275664089473
DESCRIPTION:Grade 3 Field Trip to Boston 
LOCATION:
END:VEVENT
BEGIN:VEVENT
SUMMARY:Unified Games at WHS
DTSTART;VALUE=DATE:20260515
DTEND;VALUE=DATE:20260516
UID:234793222894
DESCRIPTION:Unified Games at WHS
LOCATION:
END:VEVENT
END:VCALENDAR
