BEGIN:VCALENDAR
VERSION:2.0
PRODID:-//chikkutakku.com//RDFCal 1.0//EN
X-WR-CALDESC:GoogleカレンダーやiCalendar形式情報を共有シェ
 アしましょう。近所のイベントから全国のイベントま
 で今日のイベント検索やスケジュールを決めるならち
 っくたっく
X-WR-CALNAME:ちっくたっく
X-WR-TIMEZONE:UTC
BEGIN:VEVENT
SUMMARY:Resurrection Mass 10am
DTSTART;VALUE=DATE-TIME:20260424T000000Z
DTEND;VALUE=DATE-TIME:20260424T010000Z
UID:248599328280
DESCRIPTION:Resurrection Mass 10am
LOCATION:
END:VEVENT
BEGIN:VEVENT
SUMMARY:First Holy Communion Enrolment Mass and Parent Information Evening
DTSTART;VALUE=DATE-TIME:20260425T070000Z
DTEND;VALUE=DATE-TIME:20260425T083000Z
UID:618842027752
DESCRIPTION:First Holy Communion Enrolment Mass and Parent Information Eve
 ning
LOCATION:
END:VEVENT
BEGIN:VEVENT
SUMMARY:ANZAC day Public Holiday
DTSTART;VALUE=DATE:20260426
DTEND;VALUE=DATE:20260427
UID:311293369210
DESCRIPTION:ANZAC day Public Holiday
LOCATION:
END:VEVENT
BEGIN:VEVENT
SUMMARY:Parent/Teacher Conferences (K-6)
DTSTART;VALUE=DATE:20260427
DTEND;VALUE=DATE:20260428
UID:191883477820
DESCRIPTION:Parent/Teacher Conferences (K-6)
LOCATION:
END:VEVENT
BEGIN:VEVENT
SUMMARY:Parent/Teacher Conferences (7-10)
DTSTART;VALUE=DATE:20260428
DTEND;VALUE=DATE:20260429
UID:241379337024
DESCRIPTION:Parent/Teacher Conferences (7-10)
LOCATION:
END:VEVENT
BEGIN:VEVENT
SUMMARY:P&F Meeting
DTSTART;VALUE=DATE-TIME:20260506T073000Z
DTEND;VALUE=DATE-TIME:20260506T083000Z
UID:918795267504
DESCRIPTION:P&F Meeting
LOCATION:
END:VEVENT
BEGIN:VEVENT
SUMMARY:Ridgecrest Christian Living Camp Year 5
DTSTART;VALUE=DATE:20260505
DTEND;VALUE=DATE:20260507
UID:387819705757
DESCRIPTION:Ridgecrest Christian Living Camp Year 5
LOCATION:
END:VEVENT
BEGIN:VEVENT
SUMMARY:Pupil Free day - St Mary's Wellington
DTSTART;VALUE=DATE:20260517
DTEND;VALUE=DATE:20260518
UID:496779936488
DESCRIPTION:Pupil Free day - St Mary's Wellington
LOCATION:
END:VEVENT
END:VCALENDAR
