BEGIN:VCALENDAR
VERSION:2.0
PRODID:-//chikkutakku.com//RDFCal 1.0//EN
X-WR-CALDESC:GoogleカレンダーやiCalendar形式情報を共有シェ
 アしましょう。近所のイベントから全国のイベントま
 で今日のイベント検索やスケジュールを決めるならち
 っくたっく
X-WR-CALNAME:ちっくたっく
X-WR-TIMEZONE:UTC
BEGIN:VEVENT
SUMMARY:Busy
DTSTART;VALUE=DATE-TIME:20260421T230000Z
DTEND;VALUE=DATE-TIME:20260422T010000Z
UID:532168077352
DESCRIPTION:Busy
LOCATION:
END:VEVENT
BEGIN:VEVENT
SUMMARY:Busy
DTSTART;VALUE=DATE-TIME:20260422T053000Z
DTEND;VALUE=DATE-TIME:20260422T070000Z
UID:604885976946
DESCRIPTION:Busy
LOCATION:
END:VEVENT
BEGIN:VEVENT
SUMMARY:Busy
DTSTART;VALUE=DATE-TIME:20260422T034500Z
DTEND;VALUE=DATE-TIME:20260422T074500Z
UID:200854316696
DESCRIPTION:Busy
LOCATION:
END:VEVENT
BEGIN:VEVENT
SUMMARY:Busy
DTSTART;VALUE=DATE-TIME:20260422T070000Z
DTEND;VALUE=DATE-TIME:20260422T090000Z
UID:209153929302
DESCRIPTION:Busy
LOCATION:
END:VEVENT
BEGIN:VEVENT
SUMMARY:Busy
DTSTART;VALUE=DATE-TIME:20260422T074500Z
DTEND;VALUE=DATE-TIME:20260422T100000Z
UID:277043525117
DESCRIPTION:Busy
LOCATION:
END:VEVENT
BEGIN:VEVENT
SUMMARY:Busy
DTSTART;VALUE=DATE-TIME:20260422T181500Z
DTEND;VALUE=DATE-TIME:20260422T194500Z
UID:338601498561
DESCRIPTION:Busy
LOCATION:
END:VEVENT
BEGIN:VEVENT
SUMMARY:Busy
DTSTART;VALUE=DATE-TIME:20260422T230000Z
DTEND;VALUE=DATE-TIME:20260423T010000Z
UID:139074747124
DESCRIPTION:Busy
LOCATION:
END:VEVENT
BEGIN:VEVENT
SUMMARY:Busy
DTSTART;VALUE=DATE-TIME:20260423T034500Z
DTEND;VALUE=DATE-TIME:20260423T070000Z
UID:201658529605
DESCRIPTION:Busy
LOCATION:
END:VEVENT
BEGIN:VEVENT
SUMMARY:Busy
DTSTART;VALUE=DATE-TIME:20260423T230000Z
DTEND;VALUE=DATE-TIME:20260424T010000Z
UID:197651898100
DESCRIPTION:Busy
LOCATION:
END:VEVENT
BEGIN:VEVENT
SUMMARY:Busy
DTSTART;VALUE=DATE-TIME:20260424T034500Z
DTEND;VALUE=DATE-TIME:20260424T072500Z
UID:147656523092
DESCRIPTION:Busy
LOCATION:
END:VEVENT
BEGIN:VEVENT
SUMMARY:Busy
DTSTART;VALUE=DATE-TIME:20260424T233000Z
DTEND;VALUE=DATE-TIME:20260425T013000Z
UID:228333523295
DESCRIPTION:Busy
LOCATION:
END:VEVENT
BEGIN:VEVENT
SUMMARY:Busy
DTSTART;VALUE=DATE-TIME:20260426T000000Z
DTEND;VALUE=DATE-TIME:20260426T020000Z
UID:157811656675
DESCRIPTION:Busy
LOCATION:
END:VEVENT
BEGIN:VEVENT
SUMMARY:Busy
DTSTART;VALUE=DATE-TIME:20260426T020000Z
DTEND;VALUE=DATE-TIME:20260426T040000Z
UID:186252428266
DESCRIPTION:Busy
LOCATION:
END:VEVENT
BEGIN:VEVENT
SUMMARY:Busy
DTSTART;VALUE=DATE-TIME:20260426T040000Z
DTEND;VALUE=DATE-TIME:20260426T060000Z
UID:936608207077
DESCRIPTION:Busy
LOCATION:
END:VEVENT
BEGIN:VEVENT
SUMMARY:Busy
DTSTART;VALUE=DATE-TIME:20260426T060000Z
DTEND;VALUE=DATE-TIME:20260426T080000Z
UID:196139324147
DESCRIPTION:Busy
LOCATION:
END:VEVENT
BEGIN:VEVENT
SUMMARY:Busy
DTSTART;VALUE=DATE-TIME:20260426T230000Z
DTEND;VALUE=DATE-TIME:20260427T010000Z
UID:121059188182
DESCRIPTION:Busy
LOCATION:
END:VEVENT
BEGIN:VEVENT
SUMMARY:Busy
DTSTART;VALUE=DATE-TIME:20260427T070000Z
DTEND;VALUE=DATE-TIME:20260427T090000Z
UID:277760579036
DESCRIPTION:Busy
LOCATION:
END:VEVENT
BEGIN:VEVENT
SUMMARY:Busy
DTSTART;VALUE=DATE-TIME:20260427T230000Z
DTEND;VALUE=DATE-TIME:20260428T010000Z
UID:264471374081
DESCRIPTION:Busy
LOCATION:
END:VEVENT
BEGIN:VEVENT
SUMMARY:Busy
DTSTART;VALUE=DATE-TIME:20260428T034500Z
DTEND;VALUE=DATE-TIME:20260428T054500Z
UID:794159617042
DESCRIPTION:Busy
LOCATION:
END:VEVENT
BEGIN:VEVENT
SUMMARY:Busy
DTSTART;VALUE=DATE-TIME:20260428T060000Z
DTEND;VALUE=DATE-TIME:20260428T073000Z
UID:324532460393
DESCRIPTION:Busy
LOCATION:
END:VEVENT
BEGIN:VEVENT
SUMMARY:Busy
DTSTART;VALUE=DATE-TIME:20260428T230000Z
DTEND;VALUE=DATE-TIME:20260429T010000Z
UID:115588797119
DESCRIPTION:Busy
LOCATION:
END:VEVENT
BEGIN:VEVENT
SUMMARY:Busy
DTSTART;VALUE=DATE-TIME:20260429T053000Z
DTEND;VALUE=DATE-TIME:20260429T070000Z
UID:305163751836
DESCRIPTION:Busy
LOCATION:
END:VEVENT
BEGIN:VEVENT
SUMMARY:Busy
DTSTART;VALUE=DATE-TIME:20260429T034500Z
DTEND;VALUE=DATE-TIME:20260429T074500Z
UID:268776437633
DESCRIPTION:Busy
LOCATION:
END:VEVENT
BEGIN:VEVENT
SUMMARY:Busy
DTSTART;VALUE=DATE-TIME:20260429T070000Z
DTEND;VALUE=DATE-TIME:20260429T090000Z
UID:905824408198
DESCRIPTION:Busy
LOCATION:
END:VEVENT
BEGIN:VEVENT
SUMMARY:Busy
DTSTART;VALUE=DATE-TIME:20260429T074500Z
DTEND;VALUE=DATE-TIME:20260429T100000Z
UID:179056467019
DESCRIPTION:Busy
LOCATION:
END:VEVENT
BEGIN:VEVENT
SUMMARY:Busy
DTSTART;VALUE=DATE-TIME:20260429T181500Z
DTEND;VALUE=DATE-TIME:20260429T194500Z
UID:160503376979
DESCRIPTION:Busy
LOCATION:
END:VEVENT
BEGIN:VEVENT
SUMMARY:Busy
DTSTART;VALUE=DATE-TIME:20260429T230000Z
DTEND;VALUE=DATE-TIME:20260430T010000Z
UID:778416178981
DESCRIPTION:Busy
LOCATION:
END:VEVENT
BEGIN:VEVENT
SUMMARY:Busy
DTSTART;VALUE=DATE-TIME:20260430T034500Z
DTEND;VALUE=DATE-TIME:20260430T070000Z
UID:148729125134
DESCRIPTION:Busy
LOCATION:
END:VEVENT
BEGIN:VEVENT
SUMMARY:Busy
DTSTART;VALUE=DATE-TIME:20260430T230000Z
DTEND;VALUE=DATE-TIME:20260501T010000Z
UID:298957631553
DESCRIPTION:Busy
LOCATION:
END:VEVENT
BEGIN:VEVENT
SUMMARY:Busy
DTSTART;VALUE=DATE-TIME:20260501T034500Z
DTEND;VALUE=DATE-TIME:20260501T072500Z
UID:622494641416
DESCRIPTION:Busy
LOCATION:
END:VEVENT
BEGIN:VEVENT
SUMMARY:Busy
DTSTART;VALUE=DATE-TIME:20260501T233000Z
DTEND;VALUE=DATE-TIME:20260502T013000Z
UID:267329359308
DESCRIPTION:Busy
LOCATION:
END:VEVENT
BEGIN:VEVENT
SUMMARY:Busy
DTSTART;VALUE=DATE-TIME:20260503T000000Z
DTEND;VALUE=DATE-TIME:20260503T020000Z
UID:693188364518
DESCRIPTION:Busy
LOCATION:
END:VEVENT
BEGIN:VEVENT
SUMMARY:Busy
DTSTART;VALUE=DATE-TIME:20260503T020000Z
DTEND;VALUE=DATE-TIME:20260503T040000Z
UID:332735857572
DESCRIPTION:Busy
LOCATION:
END:VEVENT
BEGIN:VEVENT
SUMMARY:Busy
DTSTART;VALUE=DATE-TIME:20260503T040000Z
DTEND;VALUE=DATE-TIME:20260503T060000Z
UID:176597458903
DESCRIPTION:Busy
LOCATION:
END:VEVENT
BEGIN:VEVENT
SUMMARY:Busy
DTSTART;VALUE=DATE-TIME:20260503T060000Z
DTEND;VALUE=DATE-TIME:20260503T080000Z
UID:206634752833
DESCRIPTION:Busy
LOCATION:
END:VEVENT
BEGIN:VEVENT
SUMMARY:Busy
DTSTART;VALUE=DATE-TIME:20260503T230000Z
DTEND;VALUE=DATE-TIME:20260504T010000Z
UID:256708307853
DESCRIPTION:Busy
LOCATION:
END:VEVENT
BEGIN:VEVENT
SUMMARY:Busy
DTSTART;VALUE=DATE-TIME:20260504T034500Z
DTEND;VALUE=DATE-TIME:20260504T074500Z
UID:827837648019
DESCRIPTION:Busy
LOCATION:
END:VEVENT
BEGIN:VEVENT
SUMMARY:Busy
DTSTART;VALUE=DATE-TIME:20260504T070000Z
DTEND;VALUE=DATE-TIME:20260504T090000Z
UID:255403335370
DESCRIPTION:Busy
LOCATION:
END:VEVENT
BEGIN:VEVENT
SUMMARY:Busy
DTSTART;VALUE=DATE-TIME:20260504T230000Z
DTEND;VALUE=DATE-TIME:20260505T010000Z
UID:651966063232
DESCRIPTION:Busy
LOCATION:
END:VEVENT
BEGIN:VEVENT
SUMMARY:Busy
DTSTART;VALUE=DATE-TIME:20260505T034500Z
DTEND;VALUE=DATE-TIME:20260505T054500Z
UID:315396046595
DESCRIPTION:Busy
LOCATION:
END:VEVENT
BEGIN:VEVENT
SUMMARY:Busy
DTSTART;VALUE=DATE-TIME:20260505T060000Z
DTEND;VALUE=DATE-TIME:20260505T073000Z
UID:313941624862
DESCRIPTION:Busy
LOCATION:
END:VEVENT
BEGIN:VEVENT
SUMMARY:Busy
DTSTART;VALUE=DATE-TIME:20260505T230000Z
DTEND;VALUE=DATE-TIME:20260506T010000Z
UID:286002720706
DESCRIPTION:Busy
LOCATION:
END:VEVENT
BEGIN:VEVENT
SUMMARY:Busy
DTSTART;VALUE=DATE-TIME:20260506T053000Z
DTEND;VALUE=DATE-TIME:20260506T070000Z
UID:168038027140
DESCRIPTION:Busy
LOCATION:
END:VEVENT
BEGIN:VEVENT
SUMMARY:Busy
DTSTART;VALUE=DATE-TIME:20260506T034500Z
DTEND;VALUE=DATE-TIME:20260506T074500Z
UID:109660565612
DESCRIPTION:Busy
LOCATION:
END:VEVENT
BEGIN:VEVENT
SUMMARY:Busy
DTSTART;VALUE=DATE-TIME:20260506T070000Z
DTEND;VALUE=DATE-TIME:20260506T090000Z
UID:146505688939
DESCRIPTION:Busy
LOCATION:
END:VEVENT
BEGIN:VEVENT
SUMMARY:Busy
DTSTART;VALUE=DATE-TIME:20260506T074500Z
DTEND;VALUE=DATE-TIME:20260506T100000Z
UID:266775519938
DESCRIPTION:Busy
LOCATION:
END:VEVENT
BEGIN:VEVENT
SUMMARY:Busy
DTSTART;VALUE=DATE-TIME:20260506T181500Z
DTEND;VALUE=DATE-TIME:20260506T194500Z
UID:230842010445
DESCRIPTION:Busy
LOCATION:
END:VEVENT
BEGIN:VEVENT
SUMMARY:Busy
DTSTART;VALUE=DATE-TIME:20260506T230000Z
DTEND;VALUE=DATE-TIME:20260507T010000Z
UID:237277830531
DESCRIPTION:Busy
LOCATION:
END:VEVENT
BEGIN:VEVENT
SUMMARY:Busy
DTSTART;VALUE=DATE-TIME:20260507T034500Z
DTEND;VALUE=DATE-TIME:20260507T070000Z
UID:101337925142
DESCRIPTION:Busy
LOCATION:
END:VEVENT
BEGIN:VEVENT
SUMMARY:Busy
DTSTART;VALUE=DATE-TIME:20260507T230000Z
DTEND;VALUE=DATE-TIME:20260508T010000Z
UID:308069968475
DESCRIPTION:Busy
LOCATION:
END:VEVENT
BEGIN:VEVENT
SUMMARY:Busy
DTSTART;VALUE=DATE-TIME:20260508T034500Z
DTEND;VALUE=DATE-TIME:20260508T072500Z
UID:339390896331
DESCRIPTION:Busy
LOCATION:
END:VEVENT
BEGIN:VEVENT
SUMMARY:Busy
DTSTART;VALUE=DATE-TIME:20260508T233000Z
DTEND;VALUE=DATE-TIME:20260509T013000Z
UID:195080450334
DESCRIPTION:Busy
LOCATION:
END:VEVENT
BEGIN:VEVENT
SUMMARY:Busy
DTSTART;VALUE=DATE-TIME:20260510T000000Z
DTEND;VALUE=DATE-TIME:20260510T020000Z
UID:118326547002
DESCRIPTION:Busy
LOCATION:
END:VEVENT
BEGIN:VEVENT
SUMMARY:Busy
DTSTART;VALUE=DATE-TIME:20260510T020000Z
DTEND;VALUE=DATE-TIME:20260510T040000Z
UID:165645607821
DESCRIPTION:Busy
LOCATION:
END:VEVENT
BEGIN:VEVENT
SUMMARY:Busy
DTSTART;VALUE=DATE-TIME:20260510T040000Z
DTEND;VALUE=DATE-TIME:20260510T060000Z
UID:135016024826
DESCRIPTION:Busy
LOCATION:
END:VEVENT
BEGIN:VEVENT
SUMMARY:Busy
DTSTART;VALUE=DATE-TIME:20260510T060000Z
DTEND;VALUE=DATE-TIME:20260510T080000Z
UID:216130014273
DESCRIPTION:Busy
LOCATION:
END:VEVENT
BEGIN:VEVENT
SUMMARY:Busy
DTSTART;VALUE=DATE-TIME:20260510T230000Z
DTEND;VALUE=DATE-TIME:20260511T010000Z
UID:935407553937
DESCRIPTION:Busy
LOCATION:
END:VEVENT
BEGIN:VEVENT
SUMMARY:Busy
DTSTART;VALUE=DATE-TIME:20260511T034500Z
DTEND;VALUE=DATE-TIME:20260511T074500Z
UID:305793213866
DESCRIPTION:Busy
LOCATION:
END:VEVENT
BEGIN:VEVENT
SUMMARY:Busy
DTSTART;VALUE=DATE-TIME:20260511T070000Z
DTEND;VALUE=DATE-TIME:20260511T090000Z
UID:478348908400
DESCRIPTION:Busy
LOCATION:
END:VEVENT
BEGIN:VEVENT
SUMMARY:Busy
DTSTART;VALUE=DATE-TIME:20260511T230000Z
DTEND;VALUE=DATE-TIME:20260512T010000Z
UID:788174071432
DESCRIPTION:Busy
LOCATION:
END:VEVENT
BEGIN:VEVENT
SUMMARY:Busy
DTSTART;VALUE=DATE-TIME:20260512T034500Z
DTEND;VALUE=DATE-TIME:20260512T054500Z
UID:203549225428
DESCRIPTION:Busy
LOCATION:
END:VEVENT
BEGIN:VEVENT
SUMMARY:Busy
DTSTART;VALUE=DATE-TIME:20260512T060000Z
DTEND;VALUE=DATE-TIME:20260512T073000Z
UID:153404774727
DESCRIPTION:Busy
LOCATION:
END:VEVENT
BEGIN:VEVENT
SUMMARY:Busy
DTSTART;VALUE=DATE-TIME:20260512T230000Z
DTEND;VALUE=DATE-TIME:20260513T010000Z
UID:268085091979
DESCRIPTION:Busy
LOCATION:
END:VEVENT
BEGIN:VEVENT
SUMMARY:Busy
DTSTART;VALUE=DATE-TIME:20260513T053000Z
DTEND;VALUE=DATE-TIME:20260513T070000Z
UID:255180045602
DESCRIPTION:Busy
LOCATION:
END:VEVENT
BEGIN:VEVENT
SUMMARY:Busy
DTSTART;VALUE=DATE-TIME:20260513T034500Z
DTEND;VALUE=DATE-TIME:20260513T074500Z
UID:359765345796
DESCRIPTION:Busy
LOCATION:
END:VEVENT
BEGIN:VEVENT
SUMMARY:Busy
DTSTART;VALUE=DATE-TIME:20260513T070000Z
DTEND;VALUE=DATE-TIME:20260513T090000Z
UID:120061368782
DESCRIPTION:Busy
LOCATION:
END:VEVENT
BEGIN:VEVENT
SUMMARY:Busy
DTSTART;VALUE=DATE-TIME:20260513T074500Z
DTEND;VALUE=DATE-TIME:20260513T100000Z
UID:172645582237
DESCRIPTION:Busy
LOCATION:
END:VEVENT
BEGIN:VEVENT
SUMMARY:Busy
DTSTART;VALUE=DATE-TIME:20260513T181500Z
DTEND;VALUE=DATE-TIME:20260513T194500Z
UID:119652371528
DESCRIPTION:Busy
LOCATION:
END:VEVENT
BEGIN:VEVENT
SUMMARY:Busy
DTSTART;VALUE=DATE-TIME:20260513T230000Z
DTEND;VALUE=DATE-TIME:20260514T010000Z
UID:660927004141
DESCRIPTION:Busy
LOCATION:
END:VEVENT
BEGIN:VEVENT
SUMMARY:Busy
DTSTART;VALUE=DATE-TIME:20260514T034500Z
DTEND;VALUE=DATE-TIME:20260514T070000Z
UID:168356808688
DESCRIPTION:Busy
LOCATION:
END:VEVENT
BEGIN:VEVENT
SUMMARY:Busy
DTSTART;VALUE=DATE-TIME:20260514T063000Z
DTEND;VALUE=DATE-TIME:20260514T083000Z
UID:113275432815
DESCRIPTION:Busy
LOCATION:
END:VEVENT
BEGIN:VEVENT
SUMMARY:Busy
DTSTART;VALUE=DATE-TIME:20260514T230000Z
DTEND;VALUE=DATE-TIME:20260515T010000Z
UID:142428815291
DESCRIPTION:Busy
LOCATION:
END:VEVENT
BEGIN:VEVENT
SUMMARY:Busy
DTSTART;VALUE=DATE-TIME:20260515T034500Z
DTEND;VALUE=DATE-TIME:20260515T072500Z
UID:299578311729
DESCRIPTION:Busy
LOCATION:
END:VEVENT
BEGIN:VEVENT
SUMMARY:Busy
DTSTART;VALUE=DATE-TIME:20260515T233000Z
DTEND;VALUE=DATE-TIME:20260516T013000Z
UID:173093321704
DESCRIPTION:Busy
LOCATION:
END:VEVENT
BEGIN:VEVENT
SUMMARY:Busy
DTSTART;VALUE=DATE-TIME:20260517T000000Z
DTEND;VALUE=DATE-TIME:20260517T020000Z
UID:649802701812
DESCRIPTION:Busy
LOCATION:
END:VEVENT
BEGIN:VEVENT
SUMMARY:Busy
DTSTART;VALUE=DATE-TIME:20260517T020000Z
DTEND;VALUE=DATE-TIME:20260517T040000Z
UID:258915973339
DESCRIPTION:Busy
LOCATION:
END:VEVENT
BEGIN:VEVENT
SUMMARY:Busy
DTSTART;VALUE=DATE-TIME:20260517T040000Z
DTEND;VALUE=DATE-TIME:20260517T060000Z
UID:242164795859
DESCRIPTION:Busy
LOCATION:
END:VEVENT
BEGIN:VEVENT
SUMMARY:Busy
DTSTART;VALUE=DATE-TIME:20260517T060000Z
DTEND;VALUE=DATE-TIME:20260517T080000Z
UID:317392101738
DESCRIPTION:Busy
LOCATION:
END:VEVENT
BEGIN:VEVENT
SUMMARY:Busy
DTSTART;VALUE=DATE-TIME:20260517T230000Z
DTEND;VALUE=DATE-TIME:20260518T010000Z
UID:126505456306
DESCRIPTION:Busy
LOCATION:
END:VEVENT
BEGIN:VEVENT
SUMMARY:Busy
DTSTART;VALUE=DATE-TIME:20260518T034500Z
DTEND;VALUE=DATE-TIME:20260518T074500Z
UID:306175954064
DESCRIPTION:Busy
LOCATION:
END:VEVENT
BEGIN:VEVENT
SUMMARY:Busy
DTSTART;VALUE=DATE-TIME:20260518T070000Z
DTEND;VALUE=DATE-TIME:20260518T090000Z
UID:771970635750
DESCRIPTION:Busy
LOCATION:
END:VEVENT
BEGIN:VEVENT
SUMMARY:Busy
DTSTART;VALUE=DATE-TIME:20260518T230000Z
DTEND;VALUE=DATE-TIME:20260519T010000Z
UID:892299046253
DESCRIPTION:Busy
LOCATION:
END:VEVENT
BEGIN:VEVENT
SUMMARY:Busy
DTSTART;VALUE=DATE-TIME:20260519T034500Z
DTEND;VALUE=DATE-TIME:20260519T054500Z
UID:926582655619
DESCRIPTION:Busy
LOCATION:
END:VEVENT
BEGIN:VEVENT
SUMMARY:Busy
DTSTART;VALUE=DATE-TIME:20260519T060000Z
DTEND;VALUE=DATE-TIME:20260519T073000Z
UID:233152488366
DESCRIPTION:Busy
LOCATION:
END:VEVENT
BEGIN:VEVENT
SUMMARY:Busy
DTSTART;VALUE=DATE-TIME:20260519T230000Z
DTEND;VALUE=DATE-TIME:20260520T010000Z
UID:284180439858
DESCRIPTION:Busy
LOCATION:
END:VEVENT
BEGIN:VEVENT
SUMMARY:Busy
DTSTART;VALUE=DATE-TIME:20260520T053000Z
DTEND;VALUE=DATE-TIME:20260520T070000Z
UID:163738896164
DESCRIPTION:Busy
LOCATION:
END:VEVENT
BEGIN:VEVENT
SUMMARY:Busy
DTSTART;VALUE=DATE-TIME:20260520T034500Z
DTEND;VALUE=DATE-TIME:20260520T074500Z
UID:800666685398
DESCRIPTION:Busy
LOCATION:
END:VEVENT
BEGIN:VEVENT
SUMMARY:Busy
DTSTART;VALUE=DATE-TIME:20260520T070000Z
DTEND;VALUE=DATE-TIME:20260520T090000Z
UID:166194413480
DESCRIPTION:Busy
LOCATION:
END:VEVENT
BEGIN:VEVENT
SUMMARY:Busy
DTSTART;VALUE=DATE-TIME:20260520T074500Z
DTEND;VALUE=DATE-TIME:20260520T100000Z
UID:503802178170
DESCRIPTION:Busy
LOCATION:
END:VEVENT
BEGIN:VEVENT
SUMMARY:Busy
DTSTART;VALUE=DATE-TIME:20260520T181500Z
DTEND;VALUE=DATE-TIME:20260520T194500Z
UID:100301389512
DESCRIPTION:Busy
LOCATION:
END:VEVENT
BEGIN:VEVENT
SUMMARY:Busy
DTSTART;VALUE=DATE-TIME:20260520T230000Z
DTEND;VALUE=DATE-TIME:20260521T010000Z
UID:782532394023
DESCRIPTION:Busy
LOCATION:
END:VEVENT
BEGIN:VEVENT
SUMMARY:Busy
DTSTART;VALUE=DATE-TIME:20260521T034500Z
DTEND;VALUE=DATE-TIME:20260521T070000Z
UID:170423995546
DESCRIPTION:Busy
LOCATION:
END:VEVENT
END:VCALENDAR
