BEGIN:VCALENDAR
VERSION:2.0
PRODID:-//chikkutakku.com//RDFCal 1.0//EN
X-WR-CALDESC:GoogleカレンダーやiCalendar形式情報を共有シェ
 アしましょう。近所のイベントから全国のイベントま
 で今日のイベント検索やスケジュールを決めるならち
 っくたっく
X-WR-CALNAME:ちっくたっく
X-WR-TIMEZONE:UTC
BEGIN:VEVENT
SUMMARY:sh
DTSTART;VALUE=DATE:20260402
DTEND;VALUE=DATE:20260421
UID:441314095317
DESCRIPTION:sh
LOCATION:
END:VEVENT
BEGIN:VEVENT
SUMMARY:占星術練習会
DTSTART;VALUE=DATE:20260421
DTEND;VALUE=DATE:20260422
UID:314855652697
DESCRIPTION:占星術練習会
LOCATION:
END:VEVENT
BEGIN:VEVENT
SUMMARY:コーチング講座１
DTSTART;VALUE=DATE-TIME:20260428T000000Z
DTEND;VALUE=DATE-TIME:20260428T003000Z
UID:302187954299
DESCRIPTION:コーチング講座１
LOCATION:
END:VEVENT
BEGIN:VEVENT
SUMMARY:astro aroma
DTSTART;VALUE=DATE-TIME:20260504T230000Z
DTEND;VALUE=DATE-TIME:20260504T233000Z
UID:182930859866
DESCRIPTION:astro aroma
LOCATION:
END:VEVENT
BEGIN:VEVENT
SUMMARY:コーチング講座２
DTSTART;VALUE=DATE-TIME:20260506T000000Z
DTEND;VALUE=DATE-TIME:20260506T003000Z
UID:239053122956
DESCRIPTION:コーチング講座２
LOCATION:
END:VEVENT
BEGIN:VEVENT
SUMMARY:お茶会
DTSTART;VALUE=DATE-TIME:20260512T000000Z
DTEND;VALUE=DATE-TIME:20260512T003000Z
UID:286161584693
DESCRIPTION:お茶会
LOCATION:
END:VEVENT
BEGIN:VEVENT
SUMMARY:練習会セプタグラムソウル
DTSTART;VALUE=DATE-TIME:20260517T000000Z
DTEND;VALUE=DATE-TIME:20260517T003000Z
UID:252241877558
DESCRIPTION:練習会セプタグラムソウル
LOCATION:
END:VEVENT
END:VCALENDAR
