BEGIN:VCALENDAR
VERSION:2.0
PRODID:-//chikkutakku.com//RDFCal 1.0//EN
X-WR-CALDESC:GoogleカレンダーやiCalendar形式情報を共有シェ
 アしましょう。近所のイベントから全国のイベントま
 で今日のイベント検索やスケジュールを決めるならち
 っくたっく
X-WR-CALNAME:ちっくたっく
X-WR-TIMEZONE:UTC
BEGIN:VEVENT
SUMMARY:NCSA Mosaic 's Birthday
DTSTART;VALUE=DATE-TIME:20260421T150000Z
DTEND;VALUE=DATE-TIME:20260422T150000Z
UID:235094369263
DESCRIPTION:NCSA Mosaic 1.0 1993年4月22日\nhttp://en.wikipedia.org/wiki
 /Mosaic_(web_browser)
LOCATION:
END:VEVENT
BEGIN:VEVENT
SUMMARY:Sleipnir 's Birthday
DTSTART;VALUE=DATE-TIME:20260422T150000Z
DTEND;VALUE=DATE-TIME:20260423T150000Z
UID:300189877644
DESCRIPTION:http://www.fenrir-inc.com/jp/sleipnir-family/\n\nSleipnir 1.00
 \n誕生：2002年04月23日\nhttps://twitter.com/fenrir_official/status/2
 42530261726793728\n
LOCATION:
END:VEVENT
END:VCALENDAR
