BEGIN:VCALENDAR
VERSION:2.0
PRODID:-//chikkutakku.com//RDFCal 1.0//EN
X-WR-CALDESC:GoogleカレンダーやiCalendar形式情報を共有シェ
 アしましょう。近所のイベントから全国のイベントま
 で今日のイベント検索やスケジュールを決めるならち
 っくたっく
X-WR-CALNAME:ちっくたっく
X-WR-TIMEZONE:UTC
BEGIN:VEVENT
SUMMARY:Satoko Fujii Quartet Europe Tour
DTSTART;VALUE=DATE:20260413
DTEND;VALUE=DATE:20260428
UID:225693319578
DESCRIPTION:Tue. 4/14 \nFrankfurt / Public Library\nFri. 4/17\nGeneve / AM
 R\nSun. 4/19  21:30-22:30\nRavenna\, Italy / LUPO\nhttps://www.areasismica
 .it/event/satoko-fujii-quartet/\nTue. 4/21\nZurich / Misterios\nThu. 4/23\
 nGera\, Germany\nAltes Wannenbad im Kulturhaus H&#228\;selburg\nhttps://ha
 eselburg.org/Veranstaltungen.html\nFri. 4/24\nIlmenau\, Germany\nHelmholtz
 \nSun. 4/26\nUlrichsberg\, Austria\nhttps://www.jazzatelier.at/kaleidophon
 /\nTue. 4/28\nPoitiers\, France\nLe Comfort Moderne
LOCATION:germany\, france\, italy\, swiss\, austria【ドイツ】
END:VEVENT
BEGIN:VEVENT
SUMMARY:吉田達也 大和田千弘 duo
DTSTART;VALUE=DATE:20260502
DTEND;VALUE=DATE:20260503
UID:302438262633
DESCRIPTION:吉田達也 drums\, vocal\n大和田千弘 piano\, vocal\nope
 n13:30 start14:00\n料金3000＋ドリンクオーダー\n[ご予約] 090-
 2530-3427（大原）
LOCATION:東中野セロニアス【関東】
END:VEVENT
BEGIN:VEVENT
SUMMARY:鬼怒無月 吉田達也 duo
DTSTART;VALUE=DATE:20260503
DTEND;VALUE=DATE:20260504
UID:296082292737
DESCRIPTION:Prog Punk Improvisation\n鬼怒無月 guitar\, vocal\n吉田
 達也 drums\, vocal\nopen 18:45  /  start 19:30\n前売り 税込3\,000
 円 (+ドリンク代別)\n当日 税込3\,500円 (+ドリンク代別)\n
 前売チケット購入 → https://velvet-sun.stores.jp/items/69b027e6d9
 c157151d8c6ad7\n\n【関連/参考ページ】\nhttp://www.velvetsun.jp/ 
 （荻窪velvet sun）
LOCATION:荻窪velvet sun【関東】
END:VEVENT
BEGIN:VEVENT
SUMMARY:GIGANOISE
DTSTART;VALUE=DATE:20260504
DTEND;VALUE=DATE:20260505
UID:284134957507
DESCRIPTION:”GIGA NOISE” open 12:00 start 12:30 adv￥3\,500 door￥4\
 ,500(+1drink order) 5/5\,5/6 両日通券￥7\,000\n 【出演】John Wise
  / Lucas Abela / 美川俊治 / 吉田達也 / 天鼓 / 山川冬樹 / 武
 田理沙 / K2 / 田畑満 / 中村としまる / ni-hao!!!! / Gilkuno / P
 aris death Hilton / gloptin / VQ / FUTURE SOUND LOVERS / Galactic Abyss-2 
 / Vi Seunggyu / Isshee / 能勢慶子 / 沼田順 / 村上裕 / Takeshi Ni
 shimoto / てくのオジ― / 太田宏司 / 大脇理智 / 飛田雅弘 
 / フウジン / Dave Skipper / 田中悠美子 / 宮本玲 / 高橋佳輝
  / 一楽義光\n\n【関連/参考ページ】\nhttp://clubgoodman.com/ 
 （秋葉原CLUB GOODMAN）
LOCATION:秋葉原CLUB GOODMAN【関東】
END:VEVENT
BEGIN:VEVENT
SUMMARY:GIGA NOISE超SPECIAL RUINS+勃殺戒洞+打射撃
DTSTART;VALUE=DATE:20260505
DTEND;VALUE=DATE:20260506
UID:146386283877
DESCRIPTION:"GIGA NOISE超SPECIAL RUINS+勃殺戒洞+打射撃” open 18:
 30 start 19:00 \nadv￥4\,500 door￥5\,500(+1drink order) \n5.5+5.6 両
 日通券￥7\,000 \n【出演】 中村達也 吉田達也 中尾憲太
 郎 増田隆一 一楽義光\n\n【関連/参考ページ】\nhttp://club
 goodman.com/ （秋葉原CLUB GOODMAN）
LOCATION:秋葉原CLUB GOODMAN【関東】
END:VEVENT
BEGIN:VEVENT
SUMMARY:Missing Heads
DTSTART;VALUE=DATE:20260507
DTEND;VALUE=DATE:20260508
UID:287891307339
DESCRIPTION:Missing Heads\nヤマジカズヒデ guitar\n田畑満 guitar\
 , vocal\n吉田達也 drums\, vocal\nopen19:30 start18:30 \nadv 3500 door 
 4000 (+drink order)\n\n【関連/参考ページ】\nhttp://www.jirokichi.
 net/ （高円寺JIROKICHI）
LOCATION:高円寺JIROKICHI【関東】
END:VEVENT
BEGIN:VEVENT
SUMMARY:デカン高原の夜 vol.8
DTSTART;VALUE=DATE:20260510
DTEND;VALUE=DATE:20260511
UID:256400232241
DESCRIPTION:デカン高原の夜 voi. 8\n石窟寺院 × 勝井祐二\n
 吉田達也 drums\n佐藤研二 bass\n勝井祐二 violin\nopen19:00 star
 t19:30\nadv 3000 door 3500 (+drink order)\nメール予約：ajareservatio
 n@gmail.com
LOCATION:中野坂上 Live Bar Aja【関東】
END:VEVENT
BEGIN:VEVENT
SUMMARY:是巨人
DTSTART;VALUE=DATE:20260512
DTEND;VALUE=DATE:20260513
UID:203270518651
DESCRIPTION:【是巨人】\n鬼怒無月g 小金丸慧 b 吉田達也ds\n
 open19:00 start19:30\n予約3500 当日4000  (+1ドリンク￥600)\n0422-
 22-3331\nsilverelephant@dream.com\n\n【関連/参考ページ】\nhttp://
 www.silver-elephant.com/ （吉祥寺シルバーエレファント）
LOCATION:吉祥寺シルバーエレファント【関東】
END:VEVENT
BEGIN:VEVENT
SUMMARY:ハードメタリックプログレの夜
DTSTART;VALUE=DATE:20260514
DTEND;VALUE=DATE:20260515
UID:748073646457
DESCRIPTION:ハードメタリックプログレの夜\n出演：鬼怒無
 月(g)\,a_kira(key)\,佐藤研二(b)\,吉田達也(ds) \n開場18:30-\,開
 演19:30-/予約￥4\,000-\,当日￥4\,500-(+order)\n(080‐7827‐5513\,
 \nhonatsugi.cabin@gmail.com\nhttps://www.cabinatsugi.com/\n\n【関連/参
 考ページ】\nhttps://www.cabinatsugi.com/
LOCATION:本厚木 CABIN【関東】
END:VEVENT
BEGIN:VEVENT
SUMMARY:吉田達也 金澤美也子 duo
DTSTART;VALUE=DATE:20260515
DTEND;VALUE=DATE:20260516
UID:339522333227
DESCRIPTION:【吉田達也 金澤美也子 duo】\n吉田達也 drums\, v
 ocal\n金澤美也子 piano\, vocal\nopen18:30 start19:00\nadv 2500 door 3
 000\nメール予約：ajareservation@gmail.com
LOCATION:中野坂上 Live Bar Aja【関東】
END:VEVENT
BEGIN:VEVENT
SUMMARY:Tatsuya Yoshida x Risa Takeda Europe Tour
DTSTART;VALUE=DATE:20260521
DTEND;VALUE=DATE:20260522
UID:214559287785
DESCRIPTION:may\n5/22 Stockholm / Twang\nhttps://www.facebook.com/twangsto
 ckholm\n5/23 Copenhagen / Huset  \nhttps://huset.kk.dk/en\nhttps://huset.k
 k.dk/en/events/jazz-club-loco-tatsuya-yoshida-x-risa-takeda-jp-jeppe-zeebe
 rg-solo\n5/24 Hamburg / Stubnitz  \nhttps://www.stubnitz.com/\nhttps://www
 .stubnitz.com/events/2026/may/24-koshinmoon.html\n5/25 Berlin / Schokolade
 n \nwith Helicopter feat. Rieko Okuda \nhttps://schokoladen-mitte.de/\n5/2
 6 Praha / Punctum  \nhttps://punctum.cz/\nhttps://punctum.cz/event/tatsuya
 -yoshida-ruins-presents-tatsuya-yoshida-risa-takeda\nhttps://www.facebook.
 com/events/1582013416122110/\n5/27 Brno / Ponava  \nhttps://www.facebook.c
 om/ponavacafe/\nhttps://www.facebook.com/events/3168724713298237/\n5/28 Vi
 enna / Das Lot  \nhttps://www.lot.wien/event-details/lotinconcert-tatsuya-
 yoshida-x-risa-takeda\n5/29 Munich / Offen Ohren \nhttp://www.offeneohren.
 org/\n5/30 Wurzburg / Immerhin   \nhttps://www.immerhin-wuerzburg.de/\n5/3
 1 Speyer / Zimmertheater  \nhttps://www.zimmertheater-speyer.de/\nJune\n6/
 1 Basel / Renee  Bar\nhttps://www.renee.ch/\nhttps://www.atreeinafieldreco
 rds.com/artists/tatsuya-yoshida-x-risa-takeda/?section=booking\n6/3 Torino
  / Ziggy Club \nguest : Massimo Pupillo (bass)\nhttps://www.ziggyclub.it/\
 nhttps://www.facebook.com/events/1700987467551825/\n6/4 Bologna / Frida Ne
 l Parco\nhttps://www.facebook.com/p/Frida-nel-Parco-100057955256267/\n6/6 
 Rome / MONK  \nhttps://www.monkroma.it/en/spazi/\n6/7 Brussels / Archiduc\
 nguest: Guy Segers (bass\, ex.Univers Zero)\, C&#233\;cile Broch&#233\; (v
 iolin) \nhttps://archiduc.com/\n6/8 Lille / Le Malterie  \nhttps://www.lam
 alterie.com/\nhttps://www.lamalterie.com/evenement/concert/muzzix-lun19h-t
 atsuya-yoshida-x-risa-takeda-barbara-dang\n6/9 Paris / Le Triton   \nhttps
 ://www.letriton.com/\nhttps://www.letriton.com/programmation/tatsuya-yoshi
 da-x-risa-takeda-3332\n6/10 London / Cafe OTO  guest : Alex Ward (g)   \n6
 /11 London / Cafe OTO  solo~Solo~duo\nhttps://www.cafeoto.co.uk/\nhttps://
 www.cafeoto.co.uk/events/byh-tatsuya-yoshida-x-risa-takeda/\n6/12 Madrid /
  Maravillas Club   \nhttps://www.maravillasclub.com/
LOCATION:ヨーロッパ全域【スウェーデン】
END:VEVENT
END:VCALENDAR
