BEGIN:VCALENDAR
VERSION:2.0
PRODID:-//chikkutakku.com//RDFCal 1.0//EN
X-WR-CALDESC:GoogleカレンダーやiCalendar形式情報を共有シェ
 アしましょう。近所のイベントから全国のイベントま
 で今日のイベント検索やスケジュールを決めるならち
 っくたっく
X-WR-CALNAME:ちっくたっく
X-WR-TIMEZONE:UTC
BEGIN:VEVENT
SUMMARY:【社団】コミッション研修
DTSTART;VALUE=DATE-TIME:20260422T030000Z
DTEND;VALUE=DATE-TIME:20260422T040000Z
UID:228232482555
DESCRIPTION:コミッション研修です。どのような種類のコ
 ミッションがあるの？発生条件は？組織図って何？初
 心者代理店向けの勉強会です。https://us02web.zoom.us/j/819974
 08101?pwd=j5Mu429VVwkerUj5MKkjv4YbhPmLl8.1ウェビナーID：819 9740 810
 1パスコード：111111※どのようにビジネスを進めていけ
 ばよいのかという主旨の研修ではありません。
LOCATION:
END:VEVENT
BEGIN:VEVENT
SUMMARY:【社団】新ペンギンひかり勉強会（商品知識編）
DTSTART;VALUE=DATE-TIME:20260423T100000Z
DTEND;VALUE=DATE-TIME:20260423T110000Z
UID:314729953048
DESCRIPTION:※申し込み編とは異なります。※ルーター選
 び＆トラブル対処編とは異なります。https://us02web.zoom.us
 /j/84154818306?pwd=Tg4NK0hhf3UPyrSnxyevLxT2lSyaLg.1ウェビナーID：841
  5481 8306パスワード：111111
LOCATION:
END:VEVENT
BEGIN:VEVENT
SUMMARY:ペンギンでんき＆ガス研修
DTSTART;VALUE=DATE-TIME:20260428T030000Z
DTEND;VALUE=DATE-TIME:20260428T040000Z
UID:391266503785
DESCRIPTION:弊社が取り扱いしているペンギンでんき＆ガ
 スに関する代理店様向けの研修です。https://us02web.zoom.us
 /j/86272614250?pwd=P0VkmzvfWFN4zFNviafvtAiWh5uCIi.1ウェビナーID：862
  7261 4250パスコード：111111
LOCATION:
END:VEVENT
BEGIN:VEVENT
SUMMARY:ウォーターサーバー研修
DTSTART;VALUE=DATE-TIME:20260430T010000Z
DTEND;VALUE=DATE-TIME:20260430T020000Z
UID:100549518550
DESCRIPTION:弊社が取り扱いしているウォーターサーバー
 に関する代理店様向けの研修です。https://us02web.zoom.us/j/
 81155371580?pwd=1qsvuMFSNtRr5MamMrNga8vobE1lQc.1ウェビナーID：862 72
 61 4250パスコード：111111
LOCATION:
END:VEVENT
BEGIN:VEVENT
SUMMARY:【社団】新ペンギンひかり勉強会（申し込み編）
DTSTART;VALUE=DATE-TIME:20260507T100000Z
DTEND;VALUE=DATE-TIME:20260507T110000Z
UID:201187057256
DESCRIPTION:ペンギンひかりに関する研修です。申し込み
 編※商品知識編とは異なります。※ルーター選び＆ト
 ラブル対処編とは異なります。https://us02web.zoom.us/j/810587
 39913?pwd=7IHrazRKobcPshp8RU9bmwya7ael2h.1ウェビナーID：810 5873 991
 3パスワード：111111
LOCATION:
END:VEVENT
BEGIN:VEVENT
SUMMARY:ウォーターサーバー研修
DTSTART;VALUE=DATE-TIME:20260512T030000Z
DTEND;VALUE=DATE-TIME:20260512T040000Z
UID:246047915860
DESCRIPTION:弊社が取り扱いしているウォーターサーバー
 に関する代理店様向けの研修です。https://us02web.zoom.us/j/
 86272614250?pwd=P0VkmzvfWFN4zFNviafvtAiWh5uCIi.1ウェビナーID：862 72
 61 4250パスコード：111111
LOCATION:
END:VEVENT
BEGIN:VEVENT
SUMMARY:【社団】スマホ準備研修
DTSTART;VALUE=DATE-TIME:20260513T030000Z
DTEND;VALUE=DATE-TIME:20260513T040000Z
UID:170426528468
DESCRIPTION:スマホ準備研修です。格安SIMを使うときに携
 帯電話本体はどうやって用意したらよいのか。あるい
 はどのようなことに気を付けるべきなのか。基本的な
 知識を身に着けていきましょう。https://us02web.zoom.us/j/885
 01287157?pwd=aURx2UgsD0dvy3NgLjqD0sWt5siEsK.1ウェビナーID：885 0128 
 7157パスコード：111111
LOCATION:
END:VEVENT
BEGIN:VEVENT
SUMMARY:【社団】新ペンギンひかり勉強会（申し込み編）
DTSTART;VALUE=DATE-TIME:20260514T010000Z
DTEND;VALUE=DATE-TIME:20260514T020000Z
UID:208884225545
DESCRIPTION:ペンギンひかりに関する研修です。申し込み
 編※商品知識編とは異なります。※ルーター選び＆ト
 ラブル対処編とは異なります。https://us02web.zoom.us/j/851385
 12879?pwd=qd5i0MVvgeLtlGYQuqv5WotBc9AhBs.1ウェビナーID：851 3851 287
 9パスワード：111111
LOCATION:
END:VEVENT
BEGIN:VEVENT
SUMMARY:【社団】事業説明会
DTSTART;VALUE=DATE-TIME:20260402T150000Z
DTEND;VALUE=DATE-TIME:20260514T150000Z
UID:130861855240
DESCRIPTION:事業説明会です。https://us02web.zoom.us/j/88636483065?
 pwd=mJS6w3X96Fi6TzTraEjXFJOPeZ61w9.1ウェビナーID：886 3648 3065パ
 スコード：111111格安SIMを取り扱っている一般社団法人
 　全国事業協会です。こちらの事業説明会は、弊社の
 取り扱っている格安SIM等をご購入してから行う副業に
 関する事業説明会です。【サービス提供元】一般社団
 法人　全国事業協会〒464-0850愛知県名古屋市千種区今池
 5-1-5 12階TEL：052-753-3636電気通信事業届出番号：C-27-01788
 【代理店登録にあたって】代理店登録に際して、特定
 負担金として29\,238円（税込）～　必要です。【クーリ
 ング・オフについて】「契約書面」を受領した日か、
 購入した商品を受け取った日のいずれか遅い日から起
 算して20日間は葉書等の書面または電磁的記録（電子メ
 ール等）により会員契約を解除することができます。
 詳細は概要書面をご覧ください。【利用規約】https://jlb
 a.club/agreement
LOCATION:
END:VEVENT
END:VCALENDAR
