BEGIN:VCALENDAR
VERSION:2.0
PRODID:-//chikkutakku.com//RDFCal 1.0//EN
X-WR-CALDESC:GoogleカレンダーやiCalendar形式情報を共有シェ
 アしましょう。近所のイベントから全国のイベントま
 で今日のイベント検索やスケジュールを決めるならち
 っくたっく
X-WR-CALNAME:ちっくたっく
X-WR-TIMEZONE:UTC
BEGIN:VEVENT
SUMMARY:カモノハシくんの事件ファイル まねっこの達人
 はだれだ？編
DTSTART;VALUE=DATE:20260421
DTEND;VALUE=DATE:20260422
UID:253680121121
DESCRIPTION:2026-04-22カモノハシくんの事件ファイル まねっ
 この達人はだれだ？編胡 妙芬/彭 永成/大洞 敦史河出書
 房新社
LOCATION:
END:VEVENT
BEGIN:VEVENT
SUMMARY:恋とシンクロニシティ 1
DTSTART;VALUE=DATE:20260422
DTEND;VALUE=DATE:20260423
UID:285802018085
DESCRIPTION:2026-04-23恋とシンクロニシティ 1ことのは 紬集
 英社
LOCATION:
END:VEVENT
BEGIN:VEVENT
SUMMARY:ばくちぬぎ！ 2
DTSTART;VALUE=DATE:20260426
DTEND;VALUE=DATE:20260427
UID:452245733190
DESCRIPTION:2026-04-27ばくちぬぎ！ 2さのださだ芳文社
LOCATION:
END:VEVENT
BEGIN:VEVENT
SUMMARY:確かに私は、お嫁さんが欲しいと言いました。 
 〜女装の王子様はお断り！〜 1
DTSTART;VALUE=DATE:20260430
DTEND;VALUE=DATE:20260501
UID:335432852726
DESCRIPTION:2026-05-01確かに私は、お嫁さんが欲しいと言い
 ました。 〜女装の王子様はお断り！〜 1志波 柚希/ヴィ
 ルヘルミナKADOKAWA
LOCATION:
END:VEVENT
BEGIN:VEVENT
SUMMARY:ガーリーデビュー 3
DTSTART;VALUE=DATE:20260507
DTEND;VALUE=DATE:20260508
UID:788954629351
DESCRIPTION:2026-05-08ガーリーデビュー 3浦野ウララ秋田書
 店
LOCATION:
END:VEVENT
BEGIN:VEVENT
SUMMARY:デストロ016（7）
DTSTART;VALUE=DATE:20260518
DTEND;VALUE=DATE:20260519
UID:285283952810
DESCRIPTION:2026-05-19デストロ016（7）高橋 慶太郎小学館
LOCATION:
END:VEVENT
BEGIN:VEVENT
SUMMARY:女装男子はスカートを脱ぎたい！ 5
DTSTART;VALUE=DATE:20260518
DTEND;VALUE=DATE:20260519
UID:166079654918
DESCRIPTION:2026-05-19女装男子はスカートを脱ぎたい！ 5し
 なぎれ集英社
LOCATION:
END:VEVENT
BEGIN:VEVENT
SUMMARY:都市伝説の花子さん 下
DTSTART;VALUE=DATE:20260519
DTEND;VALUE=DATE:20260520
UID:123065733611
DESCRIPTION:2026-05-20都市伝説の花子さん 下みなぎ得一大洋
 図書
LOCATION:
END:VEVENT
BEGIN:VEVENT
SUMMARY:都市伝説の花子さん 上
DTSTART;VALUE=DATE:20260519
DTEND;VALUE=DATE:20260520
UID:352922705182
DESCRIPTION:2026-05-20都市伝説の花子さん 上みなぎ得一大洋
 図書
LOCATION:
END:VEVENT
BEGIN:VEVENT
SUMMARY:のっぺらぼう
DTSTART;VALUE=DATE:20260519
DTEND;VALUE=DATE:20260520
UID:230102758324
DESCRIPTION:2026-05-20のっぺらぼう桂 文我/長谷川 義史BL出
 版
LOCATION:
END:VEVENT
BEGIN:VEVENT
SUMMARY:匂いが嘘をつかない世界で（1）
DTSTART;VALUE=DATE:20260519
DTEND;VALUE=DATE:20260520
UID:318263413079
DESCRIPTION:2026-05-20匂いが嘘をつかない世界で（1）ねこて
 ぃ！KADOKAWA
LOCATION:
END:VEVENT
END:VCALENDAR
