BEGIN:VCALENDAR
VERSION:2.0
PRODID:-//chikkutakku.com//RDFCal 1.0//EN
X-WR-CALDESC:GoogleカレンダーやiCalendar形式情報を共有シェ
 アしましょう。近所のイベントから全国のイベントま
 で今日のイベント検索やスケジュールを決めるならち
 っくたっく
X-WR-CALNAME:ちっくたっく
X-WR-TIMEZONE:UTC
BEGIN:VEVENT
SUMMARY:店休日
DTSTART;VALUE=DATE:20260425
DTEND;VALUE=DATE:20260426
UID:307720172219
DESCRIPTION:店休日
LOCATION:
END:VEVENT
BEGIN:VEVENT
SUMMARY:店休日
DTSTART;VALUE=DATE:20260426
DTEND;VALUE=DATE:20260427
UID:262203584476
DESCRIPTION:店休日
LOCATION:
END:VEVENT
BEGIN:VEVENT
SUMMARY:店休日
DTSTART;VALUE=DATE:20260509
DTEND;VALUE=DATE:20260510
UID:251607922380
DESCRIPTION:店休日
LOCATION:
END:VEVENT
BEGIN:VEVENT
SUMMARY:店休日
DTSTART;VALUE=DATE:20260510
DTEND;VALUE=DATE:20260511
UID:316905857052
DESCRIPTION:店休日
LOCATION:
END:VEVENT
BEGIN:VEVENT
SUMMARY:店休日
DTSTART;VALUE=DATE:20260517
DTEND;VALUE=DATE:20260518
UID:327819947391
DESCRIPTION:店休日
LOCATION:
END:VEVENT
BEGIN:VEVENT
SUMMARY:店休日
DTSTART;VALUE=DATE:20260518
DTEND;VALUE=DATE:20260519
UID:196320092684
DESCRIPTION:店休日
LOCATION:
END:VEVENT
END:VCALENDAR
