BEGIN:VCALENDAR
VERSION:2.0
PRODID:-//chikkutakku.com//RDFCal 1.0//EN
X-WR-CALDESC:GoogleカレンダーやiCalendar形式情報を共有シェ
 アしましょう。近所のイベントから全国のイベントま
 で今日のイベント検索やスケジュールを決めるならち
 っくたっく
X-WR-CALNAME:ちっくたっく
X-WR-TIMEZONE:UTC
BEGIN:VEVENT
SUMMARY:パラノマサイト FILE23 本所七不思議／FILE38 伊勢人
 魚物語 公式設定読本
DTSTART;VALUE=DATE:20260422
DTEND;VALUE=DATE:20260423
UID:435591301358
DESCRIPTION:2026-04-23パラノマサイト FILE23 本所七不思議／FI
 LE38 伊勢人魚物語 公式設定読本スクウェア・エニック
 ススクウェア・エニックス
LOCATION:
END:VEVENT
BEGIN:VEVENT
SUMMARY:デッドマウント・デスプレイ（17）
DTSTART;VALUE=DATE:20260423
DTEND;VALUE=DATE:20260424
UID:209786134451
DESCRIPTION:2026-04-24デッドマウント・デスプレイ（17）成
 田良悟/藤本新太スクウェア・エニックス
LOCATION:
END:VEVENT
BEGIN:VEVENT
SUMMARY:国木 下巻(完)
DTSTART;VALUE=DATE:20260423
DTEND;VALUE=DATE:20260424
UID:348533133030
DESCRIPTION:2026-04-24国木 下巻(完)栗井茶スクウェア・エニ
 ックス
LOCATION:
END:VEVENT
BEGIN:VEVENT
SUMMARY:デッドマウント・デスプレイ外伝 怪人ソリティ
 アの神仙偽術（5）(完)
DTSTART;VALUE=DATE:20260423
DTEND;VALUE=DATE:20260424
UID:995046944079
DESCRIPTION:2026-04-24デッドマウント・デスプレイ外伝 怪人
 ソリティアの神仙偽術（5）(完)成田良悟/藤本新太/栖上
 ヤタ/まつたけうめスクウェア・エニックス
LOCATION:
END:VEVENT
BEGIN:VEVENT
SUMMARY:国木 上巻
DTSTART;VALUE=DATE:20260423
DTEND;VALUE=DATE:20260424
UID:893028336179
DESCRIPTION:2026-04-24国木 上巻栗井茶スクウェア・エニック
 ス
LOCATION:
END:VEVENT
BEGIN:VEVENT
SUMMARY:オーガクラフト（1）
DTSTART;VALUE=DATE:20260423
DTEND;VALUE=DATE:20260424
UID:207954347933
DESCRIPTION:2026-04-24オーガクラフト（1）岩見修三郎スクウ
 ェア・エニックス
LOCATION:
END:VEVENT
BEGIN:VEVENT
SUMMARY:+チック姉さん(29)
DTSTART;VALUE=DATE:20260423
DTEND;VALUE=DATE:20260424
UID:180191008340
DESCRIPTION:2026-04-24+チック姉さん(29)栗井茶スクウェア・
 エニックス
LOCATION:
END:VEVENT
BEGIN:VEVENT
SUMMARY:高校生WEB作家のモテ生活「あんたが神作家なわけ
 ないでしょ」と僕を振った幼馴染が後悔してるけども
 う遅い（7）(完)
DTSTART;VALUE=DATE:20260423
DTEND;VALUE=DATE:20260424
UID:170433207523
DESCRIPTION:2026-04-24高校生WEB作家のモテ生活「あんたが神
 作家なわけないでしょ」と僕を振った幼馴染が後悔し
 てるけどもう遅い（7）(完)茨木野（GA文庫／SBクリエイ
 ティブ刊）/さとうゆう/一乃ゆゆスクウェア・エニック
 ス
LOCATION:
END:VEVENT
BEGIN:VEVENT
SUMMARY:にせもの家族（1）
DTSTART;VALUE=DATE:20260423
DTEND;VALUE=DATE:20260424
UID:160334379028
DESCRIPTION:2026-04-24にせもの家族（1）田澤裕スクウェア・
 エニックス
LOCATION:
END:VEVENT
BEGIN:VEVENT
SUMMARY:となりの猫と恋知らず（6）
DTSTART;VALUE=DATE:20260423
DTEND;VALUE=DATE:20260424
UID:329677214674
DESCRIPTION:2026-04-24となりの猫と恋知らず（6）あきのこス
 クウェア・エニックス
LOCATION:
END:VEVENT
BEGIN:VEVENT
SUMMARY:ハイスコアガール DASH（8）
DTSTART;VALUE=DATE:20260423
DTEND;VALUE=DATE:20260424
UID:805565430576
DESCRIPTION:2026-04-24ハイスコアガール DASH（8）押切蓮介ス
 クウェア・エニックス
LOCATION:
END:VEVENT
BEGIN:VEVENT
SUMMARY:おじさんとフィキサチーフ（1）
DTSTART;VALUE=DATE:20260423
DTEND;VALUE=DATE:20260424
UID:290571020421
DESCRIPTION:2026-04-24おじさんとフィキサチーフ（1）mikumoス
 クウェア・エニックス
LOCATION:
END:VEVENT
BEGIN:VEVENT
SUMMARY:Übel Blatt〜ユーベルブラット〜2 死せる王の騎士
 団（4）
DTSTART;VALUE=DATE:20260423
DTEND;VALUE=DATE:20260424
UID:304356874128
DESCRIPTION:2026-04-24Übel Blatt〜ユーベルブラット〜2 死せる
 王の騎士団（4）塩野干支郎次スクウェア・エニックス
LOCATION:
END:VEVENT
BEGIN:VEVENT
SUMMARY:月刊ビッグガンガン Vol.05 2026年 5/23号 [雑誌]
DTSTART;VALUE=DATE:20260423
DTEND;VALUE=DATE:20260424
UID:223984480715
DESCRIPTION:2026-04-24月刊ビッグガンガン Vol.05 2026年 5/23号 [
 雑誌]スクウェア・エニックス
LOCATION:
END:VEVENT
BEGIN:VEVENT
SUMMARY:となりの席のジェームズくん（3）(完)
DTSTART;VALUE=DATE:20260426
DTEND;VALUE=DATE:20260427
UID:281235525985
DESCRIPTION:2026-04-27となりの席のジェームズくん（3）(完)y
 utakaスクウェア・エニックス
LOCATION:
END:VEVENT
BEGIN:VEVENT
SUMMARY:隷属の心臓（1）
DTSTART;VALUE=DATE:20260426
DTEND;VALUE=DATE:20260427
UID:190516179123
DESCRIPTION:2026-04-27隷属の心臓（1）音呼たまきスクウェア
 ・エニックス
LOCATION:
END:VEVENT
BEGIN:VEVENT
SUMMARY:四百四鬼（10）
DTSTART;VALUE=DATE:20260426
DTEND;VALUE=DATE:20260427
UID:144215911022
DESCRIPTION:2026-04-27四百四鬼（10）もちスクウェア・エニ
 ックス
LOCATION:
END:VEVENT
BEGIN:VEVENT
SUMMARY:Disney Twisted-Wonderland The Comic Episode of Savanaclaw（3）(
 完)
DTSTART;VALUE=DATE:20260426
DTEND;VALUE=DATE:20260427
UID:279870748897
DESCRIPTION:2026-04-27Disney Twisted-Wonderland The Comic Episode of Savan
 aclaw（3）(完)枢やな/小田すずかスクウェア・エニック
 ス
LOCATION:
END:VEVENT
BEGIN:VEVENT
SUMMARY:役立たずスキルに人生を注ぎ込み25年、今さら最
 強の冒険譚 11
DTSTART;VALUE=DATE:20260426
DTEND;VALUE=DATE:20260427
UID:214946481417
DESCRIPTION:2026-04-27役立たずスキルに人生を注ぎ込み25年
 、今さら最強の冒険譚 11ガンテツ/しゅうきち/peroshiKADOK
 AWA
LOCATION:
END:VEVENT
BEGIN:VEVENT
SUMMARY:僕の彼女はデッカワイイ 3
DTSTART;VALUE=DATE:20260426
DTEND;VALUE=DATE:20260427
UID:166112380698
DESCRIPTION:2026-04-27僕の彼女はデッカワイイ 3sanorinKADOKAWA
LOCATION:
END:VEVENT
BEGIN:VEVENT
SUMMARY:無敵商人の異世界成り上がり物語 〜現代の製品
 を自在に取り寄せるスキルがあるので異世界では楽勝
 です〜 8
DTSTART;VALUE=DATE:20260426
DTEND;VALUE=DATE:20260427
UID:517246466503
DESCRIPTION:2026-04-27無敵商人の異世界成り上がり物語 〜現
 代の製品を自在に取り寄せるスキルがあるので異世界
 では楽勝です〜 8隆原 ヒロタ/青山 有/ぷきゅのすけKADOK
 AWA
LOCATION:
END:VEVENT
BEGIN:VEVENT
SUMMARY:とらドラ！(12)
DTSTART;VALUE=DATE:20260426
DTEND;VALUE=DATE:20260427
UID:336254869224
DESCRIPTION:2026-04-27とらドラ！(12)竹宮 ゆゆこ/絶叫/ヤスKAD
 OKAWA
LOCATION:
END:VEVENT
BEGIN:VEVENT
SUMMARY:私を養って! 勇者さま（2）
DTSTART;VALUE=DATE:20260426
DTEND;VALUE=DATE:20260427
UID:337439132531
DESCRIPTION:2026-04-27私を養って! 勇者さま（2）だーくKADOKAW
 A
LOCATION:
END:VEVENT
BEGIN:VEVENT
SUMMARY:冒険者になれなかった俺、スキル「おっぱい矯正
 」で悩めるあの子を人助け!?（3）
DTSTART;VALUE=DATE:20260426
DTEND;VALUE=DATE:20260427
UID:200255743435
DESCRIPTION:2026-04-27冒険者になれなかった俺、スキル「お
 っぱい矯正」で悩めるあの子を人助け!?（3）ぺい/春一K
 ADOKAWA
LOCATION:
END:VEVENT
BEGIN:VEVENT
SUMMARY:私を養って! 勇者さま（3）
DTSTART;VALUE=DATE:20260426
DTEND;VALUE=DATE:20260427
UID:274479292829
DESCRIPTION:2026-04-27私を養って! 勇者さま（3）だーくKADOKAW
 A
LOCATION:
END:VEVENT
BEGIN:VEVENT
SUMMARY:嫌われ皇子のやりなおし 〜辺境で【闇魔法】を
 極めて、最強の眷属と理想の王国を作ります〜（7）
DTSTART;VALUE=DATE:20260426
DTEND;VALUE=DATE:20260427
UID:265062516922
DESCRIPTION:2026-04-27嫌われ皇子のやりなおし 〜辺境で【闇
 魔法】を極めて、最強の眷属と理想の王国を作ります
 〜（7）苗原 一/阿部花次郎/高峰 ナダレKADOKAWA
LOCATION:
END:VEVENT
BEGIN:VEVENT
SUMMARY:幼なじみの高校生のあいだに肉体関係は成立する
 か。（4）
DTSTART;VALUE=DATE:20260426
DTEND;VALUE=DATE:20260427
UID:538717277731
DESCRIPTION:2026-04-27幼なじみの高校生のあいだに肉体関係
 は成立するか。（4）紺矢 ユキオKADOKAWA
LOCATION:
END:VEVENT
BEGIN:VEVENT
SUMMARY:東方Project二次創作シリーズ はらぺこ魔理沙のし
 あわせごはん（1）
DTSTART;VALUE=DATE:20260426
DTEND;VALUE=DATE:20260427
UID:923082003777
DESCRIPTION:2026-04-27東方Project二次創作シリーズ はらぺこ
 魔理沙のしあわせごはん（1）東方Project/鳥越 しじみKADO
 KAWA
LOCATION:
END:VEVENT
BEGIN:VEVENT
SUMMARY:メイクアガール 2
DTSTART;VALUE=DATE:20260426
DTEND;VALUE=DATE:20260427
UID:315470315570
DESCRIPTION:2026-04-27メイクアガール 2熊谷 まひろ/安田 現
 象・XenotoonKADOKAWA
LOCATION:
END:VEVENT
BEGIN:VEVENT
SUMMARY:冒険者酒場の料理人 (3)
DTSTART;VALUE=DATE:20260426
DTEND;VALUE=DATE:20260427
UID:994337851043
DESCRIPTION:2026-04-27冒険者酒場の料理人 (3)飴井 涼/黒留 ハ
 ガネ/転KADOKAWA
LOCATION:
END:VEVENT
BEGIN:VEVENT
SUMMARY:一般聖者の救済戦線 2
DTSTART;VALUE=DATE:20260426
DTEND;VALUE=DATE:20260427
UID:258225748517
DESCRIPTION:2026-04-27一般聖者の救済戦線 2ふじや/破滅/ファ
 ルまろKADOKAWA
LOCATION:
END:VEVENT
BEGIN:VEVENT
SUMMARY:スキル『植樹』を使って追放先でのんびり開拓は
 じめます 4
DTSTART;VALUE=DATE:20260426
DTEND;VALUE=DATE:20260427
UID:127592042310
DESCRIPTION:2026-04-27スキル『植樹』を使って追放先でのん
 びり開拓はじめます 4千嶌 オワリ/しんこせい/あんべよ
 しろうKADOKAWA
LOCATION:
END:VEVENT
BEGIN:VEVENT
SUMMARY:王立魔術学院の鬼畜講師 4
DTSTART;VALUE=DATE:20260426
DTEND;VALUE=DATE:20260427
UID:290440046562
DESCRIPTION:2026-04-27王立魔術学院の鬼畜講師 4実々 みみず/
 急川回レ/zuntaKADOKAWA
LOCATION:
END:VEVENT
BEGIN:VEVENT
SUMMARY:レプリカだって、恋をする。5
DTSTART;VALUE=DATE:20260426
DTEND;VALUE=DATE:20260427
UID:641919614346
DESCRIPTION:2026-04-27レプリカだって、恋をする。5花田 も
 もせ/榛名丼/raemzKADOKAWA
LOCATION:
END:VEVENT
BEGIN:VEVENT
SUMMARY:アプリコットファズ 4
DTSTART;VALUE=DATE:20260426
DTEND;VALUE=DATE:20260427
UID:702419244610
DESCRIPTION:2026-04-27アプリコットファズ 4なぎとKADOKAWA
LOCATION:
END:VEVENT
BEGIN:VEVENT
SUMMARY:元王太子妃候補なのに『英雄騎士様の貞操を守る
 係』に任命されました!?
DTSTART;VALUE=DATE:20260506
DTEND;VALUE=DATE:20260507
UID:219655963990
DESCRIPTION:2026-05-07元王太子妃候補なのに『英雄騎士様の
 貞操を守る係』に任命されました!?柊一葉/高内藤花ス
 クウェア・エニックス
LOCATION:
END:VEVENT
BEGIN:VEVENT
SUMMARY:没落令嬢のお気に召すまま 〜婚約破棄されたの
 で宝石鑑定士として独立します〜（コミック）（3）
DTSTART;VALUE=DATE:20260506
DTEND;VALUE=DATE:20260507
UID:111555388698
DESCRIPTION:2026-05-07没落令嬢のお気に召すまま 〜婚約破棄
 されたので宝石鑑定士として独立します〜（コミック
 ）（3）四葉夕卜/藤実なんな/永倉早スクウェア・エニ
 ックス
LOCATION:
END:VEVENT
BEGIN:VEVENT
SUMMARY:悪役貴族が開き直って破滅フラグを“実力”で叩
 き折っていたら、いつの間にかヒロイン達から英雄視
 されるようになった件(コミック)（1）
DTSTART;VALUE=DATE:20260506
DTEND;VALUE=DATE:20260507
UID:622052730450
DESCRIPTION:2026-05-07悪役貴族が開き直って破滅フラグを“
 実力”で叩き折っていたら、いつの間にかヒロイン達
 から英雄視されるようになった件(コミック)（1）楓原
 こうた/てにたつじ/ファルまろスクウェア・エニックス
LOCATION:
END:VEVENT
BEGIN:VEVENT
SUMMARY:貴族転生 〜外伝 14歳ノアの無双旅行〜（2）
DTSTART;VALUE=DATE:20260506
DTEND;VALUE=DATE:20260507
UID:516012943530
DESCRIPTION:2026-05-07貴族転生 〜外伝 14歳ノアの無双旅行〜
 （2）三木なずな/kyo/ボブキャ/栗元健太郎スクウェア・
 エニックス
LOCATION:
END:VEVENT
BEGIN:VEVENT
SUMMARY:貴族転生 〜恵まれた生まれから最強の力を得る
 〜（11）
DTSTART;VALUE=DATE:20260506
DTEND;VALUE=DATE:20260507
UID:442844132173
DESCRIPTION:2026-05-07貴族転生 〜恵まれた生まれから最強の
 力を得る〜（11）三木なずな/華嶋ひすい/kyo/栗元健太郎
 スクウェア・エニックス
LOCATION:
END:VEVENT
BEGIN:VEVENT
SUMMARY:おっさん冒険者の遅れた英雄譚 感謝の素振りを1
 日1万回していたら、剣聖が弟子入り志願にやってきた
 （2）
DTSTART;VALUE=DATE:20260506
DTEND;VALUE=DATE:20260507
UID:292305219247
DESCRIPTION:2026-05-07おっさん冒険者の遅れた英雄譚 感謝の
 素振りを1日1万回していたら、剣聖が弟子入り志願にや
 ってきた（2）深山鈴(GAノベル／SBクリエイティブ刊)/山
 内了兵/柴乃櫂人スクウェア・エニックス
LOCATION:
END:VEVENT
BEGIN:VEVENT
SUMMARY:先生！ 僕たちが世界を滅ぼします。（9）
DTSTART;VALUE=DATE:20260506
DTEND;VALUE=DATE:20260507
UID:196553522266
DESCRIPTION:2026-05-07先生！ 僕たちが世界を滅ぼします。（
 9）小林キナスクウェア・エニックス
LOCATION:
END:VEVENT
BEGIN:VEVENT
SUMMARY:TS転生した私が所属するVTuber事務所のライバーを
 全員堕としにいく話（1）
DTSTART;VALUE=DATE:20260506
DTEND;VALUE=DATE:20260507
UID:227374234841
DESCRIPTION:2026-05-07TS転生した私が所属するVTuber事務所の
 ライバーを全員堕としにいく話（1）恋狸(HJ文庫／ホビ
 ージャパン刊)/浦あられ/ほまでりスクウェア・エニッ
 クス
LOCATION:
END:VEVENT
BEGIN:VEVENT
SUMMARY:万年Dランクの中年冒険者、酔った勢いで伝説の
 剣を引っこ抜く（12）
DTSTART;VALUE=DATE:20260506
DTEND;VALUE=DATE:20260507
UID:319625154005
DESCRIPTION:2026-05-07万年Dランクの中年冒険者、酔った勢い
 で伝説の剣を引っこ抜く（12）九頭 七尾/温木アツシ/へ
 いろースクウェア・エニックス
LOCATION:
END:VEVENT
BEGIN:VEVENT
SUMMARY:「攻略本」を駆使する最強の魔法使い 〜＜命令
 させろ＞とは言わせない俺流魔王討伐最善ルート〜（15
 ）
DTSTART;VALUE=DATE:20260506
DTEND;VALUE=DATE:20260507
UID:410109077854
DESCRIPTION:2026-05-07「攻略本」を駆使する最強の魔法使い 
 〜＜命令させろ＞とは言わせない俺流魔王討伐最善ル
 ート〜（15）福山松江（GAノベル／SBクリエイティブ刊
 ）/舞嶋大/かかげスクウェア・エニックス
LOCATION:
END:VEVENT
BEGIN:VEVENT
SUMMARY:陽キャになった俺の青春至上主義（2）
DTSTART;VALUE=DATE:20260506
DTEND;VALUE=DATE:20260507
UID:117765604144
DESCRIPTION:2026-05-07陽キャになった俺の青春至上主義（2）
 持崎湯葉(GA文庫／SBクリエイティブ刊)/こあ/にゅむスク
 ウェア・エニックス
LOCATION:
END:VEVENT
BEGIN:VEVENT
SUMMARY:不倫サレ妻、復讐します〜私と妹どっちがよかっ
 た？〜（1）
DTSTART;VALUE=DATE:20260506
DTEND;VALUE=DATE:20260507
UID:397189266374
DESCRIPTION:2026-05-07不倫サレ妻、復讐します〜私と妹どっ
 ちがよかった？〜（1）瀬川葵スクウェア・エニックス
LOCATION:
END:VEVENT
BEGIN:VEVENT
SUMMARY:灰宮先輩は怖くてかわいい（2）
DTSTART;VALUE=DATE:20260506
DTEND;VALUE=DATE:20260507
UID:113252177311
DESCRIPTION:2026-05-07灰宮先輩は怖くてかわいい（2）神山す
 むスクウェア・エニックス
LOCATION:
END:VEVENT
BEGIN:VEVENT
SUMMARY:友達の妹が俺にだけウザい（11）
DTSTART;VALUE=DATE:20260506
DTEND;VALUE=DATE:20260507
UID:872198775170
DESCRIPTION:2026-05-07友達の妹が俺にだけウザい（11）三河
 ごーすと（GA文庫／SBクリエイティブ刊）/平岡 平/トマ
 リスクウェア・エニックス
LOCATION:
END:VEVENT
BEGIN:VEVENT
SUMMARY:異世界で鍛冶神の力を得た俺、女神とスローライ
 フはじめました。（1）
DTSTART;VALUE=DATE:20260506
DTEND;VALUE=DATE:20260507
UID:237618644872
DESCRIPTION:2026-05-07異世界で鍛冶神の力を得た俺、女神と
 スローライフはじめました。（1）延野正行/野愛におし
 スクウェア・エニックス
LOCATION:
END:VEVENT
BEGIN:VEVENT
SUMMARY:おっさん冒険者ケインの善行（16）(完)
DTSTART;VALUE=DATE:20260506
DTEND;VALUE=DATE:20260507
UID:320427551195
DESCRIPTION:2026-05-07おっさん冒険者ケインの善行（16）(完)
 風来山（GAノベル／SBクリエイティブ刊）/沖野真歩/す
 ーぱーぞんびスクウェア・エニックス
LOCATION:
END:VEVENT
BEGIN:VEVENT
SUMMARY:最高難度迷宮でパーティに置き去りにされたSラ
 ンク剣士、本当に迷いまくって誰も知らない最深部へ 
 〜俺の勘だとたぶんこっちが出口だと思う〜(コミック)
 （8）
DTSTART;VALUE=DATE:20260506
DTEND;VALUE=DATE:20260507
UID:241592326240
DESCRIPTION:2026-05-07最高難度迷宮でパーティに置き去りに
 されたSランク剣士、本当に迷いまくって誰も知らない
 最深部へ 〜俺の勘だとたぶんこっちが出口だと思う〜(
 コミック)（8）quiet/toi8/ムロコウイチスクウェア・エニ
 ックス
LOCATION:
END:VEVENT
BEGIN:VEVENT
SUMMARY:家を追われた令嬢は黒猫王子のお気に入り〜呪わ
 れた黒猫は姿を消した王子様でした〜（1）
DTSTART;VALUE=DATE:20260506
DTEND;VALUE=DATE:20260507
UID:339828141277
DESCRIPTION:2026-05-07家を追われた令嬢は黒猫王子のお気に
 入り〜呪われた黒猫は姿を消した王子様でした〜（1）
 結生まひろ/猫宮ゆこスクウェア・エニックス
LOCATION:
END:VEVENT
BEGIN:VEVENT
SUMMARY:神達に拾われた男（16）
DTSTART;VALUE=DATE:20260506
DTEND;VALUE=DATE:20260507
UID:289368663073
DESCRIPTION:2026-05-07神達に拾われた男（16）Roy/蘭々/りりん
 ら/中村基スクウェア・エニックス
LOCATION:
END:VEVENT
BEGIN:VEVENT
SUMMARY:レベル9999転生者によるやりすぎ無人島楽園化〜
 生贄少女も薄幸少女も全力で幸せにします！〜（2）
DTSTART;VALUE=DATE:20260506
DTEND;VALUE=DATE:20260507
UID:216839241400
DESCRIPTION:2026-05-07レベル9999転生者によるやりすぎ無人島
 楽園化〜生贄少女も薄幸少女も全力で幸せにします！
 〜（2）心音ゆるり/りんごぱんスクウェア・エニックス
LOCATION:
END:VEVENT
BEGIN:VEVENT
SUMMARY:魔力ゼロの最強賢者 〜魔法理論を極めたら、世
 界最強になっていた〜（1）
DTSTART;VALUE=DATE:20260506
DTEND;VALUE=DATE:20260507
UID:316767131333
DESCRIPTION:2026-05-07魔力ゼロの最強賢者 〜魔法理論を極め
 たら、世界最強になっていた〜（1）進行諸島/kodamazonス
 クウェア・エニックス
LOCATION:
END:VEVENT
BEGIN:VEVENT
SUMMARY:いたりあ食堂ピコピコ 〜レトロゲーに転移した
 俺は、平和に料理を作りたい〜（1）
DTSTART;VALUE=DATE:20260506
DTEND;VALUE=DATE:20260507
UID:278673285427
DESCRIPTION:2026-05-07いたりあ食堂ピコピコ 〜レトロゲーに
 転移した俺は、平和に料理を作りたい〜（1）明桜ちけ/
 伊勢田ヒロユキスクウェア・エニックス
LOCATION:
END:VEVENT
BEGIN:VEVENT
SUMMARY:わたし、二番目の彼女でいいから。9
DTSTART;VALUE=DATE:20260508
DTEND;VALUE=DATE:20260509
UID:242773830370
DESCRIPTION:2026-05-09わたし、二番目の彼女でいいから。9西
  条陽/Re岳KADOKAWA
LOCATION:
END:VEVENT
BEGIN:VEVENT
SUMMARY:CLAMP PREMIUM COLLECTION ANGELIC LAYER （1）
DTSTART;VALUE=DATE:20260508
DTEND;VALUE=DATE:20260509
UID:211132685946
DESCRIPTION:2026-05-09CLAMP PREMIUM COLLECTION ANGELIC LAYER （1）CLAMPK
 ADOKAWA
LOCATION:
END:VEVENT
BEGIN:VEVENT
SUMMARY:創約 とある魔術の禁書目録（15）
DTSTART;VALUE=DATE:20260508
DTEND;VALUE=DATE:20260509
UID:215612149341
DESCRIPTION:2026-05-09創約 とある魔術の禁書目録（15）鎌池 
 和馬/はいむら きよたかKADOKAWA
LOCATION:
END:VEVENT
BEGIN:VEVENT
SUMMARY:VirtuaReality FighterZII -篝火を継ぐものー（2）
DTSTART;VALUE=DATE:20260508
DTEND;VALUE=DATE:20260509
UID:267963295618
DESCRIPTION:2026-05-09VirtuaReality FighterZII -篝火を継ぐものー
 （2）渋谷 瑞也/hnclKADOKAWA
LOCATION:
END:VEVENT
BEGIN:VEVENT
SUMMARY:義妹5人いる（3）
DTSTART;VALUE=DATE:20260508
DTEND;VALUE=DATE:20260509
UID:293432854561
DESCRIPTION:2026-05-09義妹5人いる（3）榛名丼/むにんしきKADO
 KAWA
LOCATION:
END:VEVENT
BEGIN:VEVENT
SUMMARY:奈落ちゃんはコミュ凶です。2 〜超難度ダンジョ
 ン『奈落』と知らず特訓した結果、モンスターより人
 間が怖い最凶探索者になりました〜
DTSTART;VALUE=DATE:20260508
DTEND;VALUE=DATE:20260509
UID:185828466870
DESCRIPTION:2026-05-09奈落ちゃんはコミュ凶です。2 〜超難
 度ダンジョン『奈落』と知らず特訓した結果、モンス
 ターより人間が怖い最凶探索者になりました〜大入 圭/
 ナノなKADOKAWA
LOCATION:
END:VEVENT
BEGIN:VEVENT
SUMMARY:たぶん、彼女は人を殺せる（1）
DTSTART;VALUE=DATE:20260508
DTEND;VALUE=DATE:20260509
UID:262164199824
DESCRIPTION:2026-05-09たぶん、彼女は人を殺せる（1）丸深 
 まろやか/姐川KADOKAWA
LOCATION:
END:VEVENT
BEGIN:VEVENT
SUMMARY:凡人転生の努力無双6 〜赤ちゃんの頃から努力し
 てたらいつのまにか日本の未来を背負ってました〜
DTSTART;VALUE=DATE:20260508
DTEND;VALUE=DATE:20260509
UID:240626026996
DESCRIPTION:2026-05-09凡人転生の努力無双6 〜赤ちゃんの頃
 から努力してたらいつのまにか日本の未来を背負って
 ました〜シクラメン/夕薙KADOKAWA
LOCATION:
END:VEVENT
BEGIN:VEVENT
SUMMARY:M学園 冴島まきは帰りたい。（1）
DTSTART;VALUE=DATE:20260508
DTEND;VALUE=DATE:20260509
UID:793672172817
DESCRIPTION:2026-05-09M学園 冴島まきは帰りたい。（1）MARUMOC
 HI/暇十朗/トウカKADOKAWA
LOCATION:
END:VEVENT
BEGIN:VEVENT
SUMMARY:ソードアート・オンライン オルタナティブ ギャ
 ンブラーズ・オナー（1）
DTSTART;VALUE=DATE:20260508
DTEND;VALUE=DATE:20260509
UID:266817094320
DESCRIPTION:2026-05-09ソードアート・オンライン オルタナテ
 ィブ ギャンブラーズ・オナー（1）周藤 蓮/Enji/川原 礫K
 ADOKAWA
LOCATION:
END:VEVENT
BEGIN:VEVENT
SUMMARY:弓道部の美人な先輩が、俺の部屋でお腹出して寝
 てる（2）
DTSTART;VALUE=DATE:20260508
DTEND;VALUE=DATE:20260509
UID:174092179581
DESCRIPTION:2026-05-09弓道部の美人な先輩が、俺の部屋でお
 腹出して寝てる（2）四条 彼方/ぶしKADOKAWA
LOCATION:
END:VEVENT
BEGIN:VEVENT
SUMMARY:異世界帰りの最強魔術師、現実世界でも無双する
 。 〜唯一魔法が使える俺、なぜか英雄扱いされて困っ
 てます〜（1）
DTSTART;VALUE=DATE:20260508
DTEND;VALUE=DATE:20260509
UID:160894185326
DESCRIPTION:2026-05-09異世界帰りの最強魔術師、現実世界で
 も無双する。 〜唯一魔法が使える俺、なぜか英雄扱い
 されて困ってます〜（1）茨木野/ようづきKADOKAWA
LOCATION:
END:VEVENT
BEGIN:VEVENT
SUMMARY:全知全能の王、御言葉が勘違いされる 〜友達が
 欲しくて学院に入っただけなのに、世界中で非常事態
 が宣言されてしまった〜（1）
DTSTART;VALUE=DATE:20260508
DTEND;VALUE=DATE:20260509
UID:260411889633
DESCRIPTION:2026-05-09全知全能の王、御言葉が勘違いされる 
 〜友達が欲しくて学院に入っただけなのに、世界中で
 非常事態が宣言されてしまった〜（1）秋/りいちゅKADOKA
 WA
LOCATION:
END:VEVENT
BEGIN:VEVENT
SUMMARY:たかがアイドル！ 〜されど、やっぱり顔はいい
 〜（1）
DTSTART;VALUE=DATE:20260508
DTEND;VALUE=DATE:20260509
UID:331622549371
DESCRIPTION:2026-05-09たかがアイドル！ 〜されど、やっぱり
 顔はいい〜（1）西 条陽/仁井 学KADOKAWA
LOCATION:
END:VEVENT
BEGIN:VEVENT
SUMMARY:左遷錬金術師の辺境暮らし 元エリートは二度目
 の人生も失敗したので辺境でのんびりとやり直すこと
 にしました（1）
DTSTART;VALUE=DATE:20260511
DTEND;VALUE=DATE:20260512
UID:345277133525
DESCRIPTION:2026-05-12左遷錬金術師の辺境暮らし 元エリート
 は二度目の人生も失敗したので辺境でのんびりとやり
 直すことにしました（1）出雲大吉(カドカワBOOKS/KADOKAWA
 刊)/えすお/みきさいスクウェア・エニックス
LOCATION:
END:VEVENT
BEGIN:VEVENT
SUMMARY:転生賢者の異世界ライフ〜第二の職業を得て、世
 界最強になりました〜(32)
DTSTART;VALUE=DATE:20260511
DTEND;VALUE=DATE:20260512
UID:207313755835
DESCRIPTION:2026-05-12転生賢者の異世界ライフ〜第二の職業
 を得て、世界最強になりました〜(32)進行諸島/彭傑（Fri
 endly Land）/風花風花スクウェア・エニックス
LOCATION:
END:VEVENT
BEGIN:VEVENT
SUMMARY:FINAL FANTASY LOST STRANGER（14）
DTSTART;VALUE=DATE:20260511
DTEND;VALUE=DATE:20260512
UID:330994001109
DESCRIPTION:2026-05-12FINAL FANTASY LOST STRANGER（14）水瀬葉月/亀
 屋樹スクウェア・エニックス
LOCATION:
END:VEVENT
BEGIN:VEVENT
SUMMARY:南條さんは僕に抱かれたい（9）
DTSTART;VALUE=DATE:20260511
DTEND;VALUE=DATE:20260512
UID:317188407260
DESCRIPTION:2026-05-12南條さんは僕に抱かれたい（9）You2ス
 クウェア・エニックス
LOCATION:
END:VEVENT
BEGIN:VEVENT
SUMMARY:龍の贄嫁〜虐げられた少女は運命の番として愛さ
 れる〜（1）
DTSTART;VALUE=DATE:20260511
DTEND;VALUE=DATE:20260512
UID:380206861000
DESCRIPTION:2026-05-12龍の贄嫁〜虐げられた少女は運命の番
 として愛される〜（1）碧水雪乃/すずりモドキ/桜屋善
 吉/mokoppeスクウェア・エニックス
LOCATION:
END:VEVENT
BEGIN:VEVENT
SUMMARY:やがて黒幕へと至る最適解（1）
DTSTART;VALUE=DATE:20260511
DTEND;VALUE=DATE:20260512
UID:404617309698
DESCRIPTION:2026-05-12やがて黒幕へと至る最適解（1）藤木わ
 しろ(HJ文庫／ホビージャパン刊)/梶軒タガネ/ne-onスクウ
 ェア・エニックス
LOCATION:
END:VEVENT
BEGIN:VEVENT
SUMMARY:英雄教室(23)
DTSTART;VALUE=DATE:20260511
DTEND;VALUE=DATE:20260512
UID:307732580482
DESCRIPTION:2026-05-12英雄教室(23)新木伸/岸田こあら/森沢晴
 行スクウェア・エニックス
LOCATION:
END:VEVENT
BEGIN:VEVENT
SUMMARY:尊い5歳児たちが私に結婚相手を斡旋してきます
 〜捨てられ令嬢の私に紹介されたのはなんと宰相補佐
 〜（2）
DTSTART;VALUE=DATE:20260511
DTEND;VALUE=DATE:20260512
UID:108795887834
DESCRIPTION:2026-05-12尊い5歳児たちが私に結婚相手を斡旋し
 てきます〜捨てられ令嬢の私に紹介されたのはなんと
 宰相補佐〜（2）頼爾/シロイ灯/仁藤あかねスクウェア
 ・エニックス
LOCATION:
END:VEVENT
BEGIN:VEVENT
SUMMARY:お酒と先輩彼女との甘々同居ラブコメは二十歳に
 なってから（2）
DTSTART;VALUE=DATE:20260511
DTEND;VALUE=DATE:20260512
UID:263624434389
DESCRIPTION:2026-05-12お酒と先輩彼女との甘々同居ラブコメ
 は二十歳になってから（2）こばやJ/鈴切ヒジリ/ものと
 スクウェア・エニックス
LOCATION:
END:VEVENT
BEGIN:VEVENT
SUMMARY:悪の皇女はもう誰も殺さない（2）
DTSTART;VALUE=DATE:20260511
DTEND;VALUE=DATE:20260512
UID:457218545459
DESCRIPTION:2026-05-12悪の皇女はもう誰も殺さない（2）やき
 いもほくほく/おちゃぼ水スクウェア・エニックス
LOCATION:
END:VEVENT
BEGIN:VEVENT
SUMMARY:「君を愛することはない」と言った氷の魔術師様
 の片思い相手が、変装した私だった（コミック）（3）
DTSTART;VALUE=DATE:20260511
DTEND;VALUE=DATE:20260512
UID:987242542727
DESCRIPTION:2026-05-12「君を愛することはない」と言った氷
 の魔術師様の片思い相手が、変装した私だった（コミ
 ック）（3）葉月秋水/toi8/ぐんたおスクウェア・エニッ
 クス
LOCATION:
END:VEVENT
BEGIN:VEVENT
SUMMARY:結婚初夜のデスループ〜脳筋令嬢は何度死んでも
 めげません〜（2）
DTSTART;VALUE=DATE:20260511
DTEND;VALUE=DATE:20260512
UID:272240111206
DESCRIPTION:2026-05-12結婚初夜のデスループ〜脳筋令嬢は何
 度死んでもめげません〜（2）焦田シューマイ（双葉社
 ／Mノベルスf刊）/エトオミユキ/一花夜スクウェア・エ
 ニックス
LOCATION:
END:VEVENT
BEGIN:VEVENT
SUMMARY:いじめの仕返しは先生にお任せ（3）
DTSTART;VALUE=DATE:20260511
DTEND;VALUE=DATE:20260512
UID:195771835118
DESCRIPTION:2026-05-12いじめの仕返しは先生にお任せ（3）初
 枝れんげ/みまわがおスクウェア・エニックス
LOCATION:
END:VEVENT
BEGIN:VEVENT
SUMMARY:裏世界ピクニック（16）
DTSTART;VALUE=DATE:20260511
DTEND;VALUE=DATE:20260512
UID:224156815526
DESCRIPTION:2026-05-12裏世界ピクニック（16）宮澤伊織/水野
 英多/shirakabaスクウェア・エニックス
LOCATION:
END:VEVENT
BEGIN:VEVENT
SUMMARY:アンダーアイドル（1）
DTSTART;VALUE=DATE:20260511
DTEND;VALUE=DATE:20260512
UID:253634989607
DESCRIPTION:2026-05-12アンダーアイドル（1）せつなゆうこス
 クウェア・エニックス
LOCATION:
END:VEVENT
BEGIN:VEVENT
SUMMARY:侯爵令嬢の破滅実況 破滅を予言された悪役令嬢
 だけど、リスナーがいるので幸せです（2）(完)
DTSTART;VALUE=DATE:20260511
DTEND;VALUE=DATE:20260512
UID:216591070819
DESCRIPTION:2026-05-12侯爵令嬢の破滅実況 破滅を予言された
 悪役令嬢だけど、リスナーがいるので幸せです（2）(完
 )緋色の雨/入江利秀/たらんぼマンスクウェア・エニッ
 クス
LOCATION:
END:VEVENT
BEGIN:VEVENT
SUMMARY:異世界刀匠の魔剣製作ぐらし（5）
DTSTART;VALUE=DATE:20260511
DTEND;VALUE=DATE:20260512
UID:171325386056
DESCRIPTION:2026-05-12異世界刀匠の魔剣製作ぐらし（5）荻原
 数馬/慕潔(Friendly Land)/桜井竜矢/カリマリカスクウェア
 ・エニックス
LOCATION:
END:VEVENT
BEGIN:VEVENT
SUMMARY:デート・オア・キル〜秘密のマッチング〜（2）
DTSTART;VALUE=DATE:20260511
DTEND;VALUE=DATE:20260512
UID:141044433791
DESCRIPTION:2026-05-12デート・オア・キル〜秘密のマッチン
 グ〜（2）羊谷あくスクウェア・エニックス
LOCATION:
END:VEVENT
BEGIN:VEVENT
SUMMARY:女子高校生の日常（1）
DTSTART;VALUE=DATE:20260511
DTEND;VALUE=DATE:20260512
UID:198537146156
DESCRIPTION:2026-05-12女子高校生の日常（1）山内泰延スクウ
 ェア・エニックス
LOCATION:
END:VEVENT
BEGIN:VEVENT
SUMMARY:少年ガンガン 2026年 6月号 [雑誌]
DTSTART;VALUE=DATE:20260511
DTEND;VALUE=DATE:20260512
UID:331527305052
DESCRIPTION:2026-05-12少年ガンガン 2026年 6月号 [雑誌]スクウ
 ェア・エニックス
LOCATION:
END:VEVENT
BEGIN:VEVENT
SUMMARY:血契のアナスタシア 2
DTSTART;VALUE=DATE:20260513
DTEND;VALUE=DATE:20260514
UID:600614403994
DESCRIPTION:2026-05-14血契のアナスタシア 2冲方 丁/田中 ひ
 かるKADOKAWA
LOCATION:
END:VEVENT
BEGIN:VEVENT
SUMMARY:京兼家の花嫁（5）
DTSTART;VALUE=DATE:20260520
DTEND;VALUE=DATE:20260521
UID:299261346436
DESCRIPTION:2026-05-21京兼家の花嫁（5）日野杏寿スクウェア
 ・エニックス
LOCATION:
END:VEVENT
BEGIN:VEVENT
SUMMARY:ラグナクリムゾン（17）
DTSTART;VALUE=DATE:20260520
DTEND;VALUE=DATE:20260521
UID:281084707325
DESCRIPTION:2026-05-21ラグナクリムゾン（17）小林大樹スク
 ウェア・エニックス
LOCATION:
END:VEVENT
BEGIN:VEVENT
SUMMARY:腐れ縁ほど切り難い（2）(完)
DTSTART;VALUE=DATE:20260520
DTEND;VALUE=DATE:20260521
UID:145925408517
DESCRIPTION:2026-05-21腐れ縁ほど切り難い（2）(完)陽東太郎
 スクウェア・エニックス
LOCATION:
END:VEVENT
BEGIN:VEVENT
SUMMARY:マルドゥック・アノニマス 11
DTSTART;VALUE=DATE:20260520
DTEND;VALUE=DATE:20260521
UID:333324816177
DESCRIPTION:2026-05-21マルドゥック・アノニマス 11冲方 丁早
 川書房
LOCATION:
END:VEVENT
BEGIN:VEVENT
SUMMARY:杉崎ゆきる 30th Anniversary Artworks illustagraphia Valfart
 （1）
DTSTART;VALUE=DATE:20260521
DTEND;VALUE=DATE:20260522
UID:975247531401
DESCRIPTION:2026-05-22杉崎ゆきる 30th Anniversary Artworks illustagra
 phia Valfart（1）杉崎 ゆきるKADOKAWA
LOCATION:
END:VEVENT
END:VCALENDAR
