BEGIN:VCALENDAR
VERSION:2.0
PRODID:-//chikkutakku.com//RDFCal 1.0//EN
X-WR-CALDESC:GoogleカレンダーやiCalendar形式情報を共有シェ
 アしましょう。近所のイベントから全国のイベントま
 で今日のイベント検索やスケジュールを決めるならち
 っくたっく
X-WR-CALNAME:ちっくたっく
X-WR-TIMEZONE:UTC
BEGIN:VEVENT
SUMMARY:穂別
DTSTART;VALUE=DATE:20260424
DTEND;VALUE=DATE:20260425
UID:253732986733
DESCRIPTION:穂別
LOCATION:
END:VEVENT
BEGIN:VEVENT
SUMMARY:釣りバカ杯
DTSTART;VALUE=DATE-TIME:20260425T200000Z
DTEND;VALUE=DATE-TIME:20260426T070000Z
UID:169749913461
DESCRIPTION:釣りバカ杯
LOCATION:
END:VEVENT
BEGIN:VEVENT
SUMMARY:中谷さん講演
DTSTART;VALUE=DATE-TIME:20260427T013000Z
DTEND;VALUE=DATE-TIME:20260427T030000Z
UID:535642171528
DESCRIPTION:中谷さん講演
LOCATION:
END:VEVENT
BEGIN:VEVENT
SUMMARY:ユネスコ協会
DTSTART;VALUE=DATE-TIME:20260427T043000Z
DTEND;VALUE=DATE-TIME:20260427T063000Z
UID:810761800575
DESCRIPTION:ユネスコ協会
LOCATION:
END:VEVENT
BEGIN:VEVENT
SUMMARY:CS利用あり
DTSTART;VALUE=DATE-TIME:20260427T063000Z
DTEND;VALUE=DATE-TIME:20260427T090000Z
UID:162328511287
DESCRIPTION:CS利用あり
LOCATION:
END:VEVENT
BEGIN:VEVENT
SUMMARY:CS利用あり
DTSTART;VALUE=DATE-TIME:20260427T233000Z
DTEND;VALUE=DATE-TIME:20260428T090000Z
UID:146130923461
DESCRIPTION:CS利用あり
LOCATION:
END:VEVENT
BEGIN:VEVENT
SUMMARY:キャッセン9周年祭
DTSTART;VALUE=DATE-TIME:20260428T230000Z
DTEND;VALUE=DATE-TIME:20260429T080000Z
UID:208313311616
DESCRIPTION:キャッセン9周年祭
LOCATION:
END:VEVENT
BEGIN:VEVENT
SUMMARY:EC
DTSTART;VALUE=DATE-TIME:20260429T100000Z
DTEND;VALUE=DATE-TIME:20260429T104500Z
UID:837883679349
DESCRIPTION:EC
LOCATION:
END:VEVENT
BEGIN:VEVENT
SUMMARY:アクセシ
DTSTART;VALUE=DATE-TIME:20260430T040000Z
DTEND;VALUE=DATE-TIME:20260430T041500Z
UID:274146632739
DESCRIPTION:アクセシ
LOCATION:
END:VEVENT
BEGIN:VEVENT
SUMMARY:北北西に曇と往け 続の１
DTSTART;VALUE=DATE:20260429
DTEND;VALUE=DATE:20260430
UID:931775359183
DESCRIPTION:2026-04-30北北西に曇と往け 続の１入江 亜季雪
 割草
LOCATION:
END:VEVENT
BEGIN:VEVENT
SUMMARY:まるさんかくしかく＋
DTSTART;VALUE=DATE:20260429
DTEND;VALUE=DATE:20260430
UID:102187638908
DESCRIPTION:2026-04-30まるさんかくしかく＋東村 アキコ小学
 館
LOCATION:
END:VEVENT
BEGIN:VEVENT
SUMMARY:まるさんかくしかく（６）
DTSTART;VALUE=DATE:20260429
DTEND;VALUE=DATE:20260430
UID:278048152774
DESCRIPTION:2026-04-30まるさんかくしかく（６）東村アキコ
 小学館
LOCATION:
END:VEVENT
BEGIN:VEVENT
SUMMARY:まるさんかくしかく（6）
DTSTART;VALUE=DATE:20260429
DTEND;VALUE=DATE:20260430
UID:167942765226
DESCRIPTION:2026-04-30まるさんかくしかく（6）東村 アキコ
 小学館
LOCATION:
END:VEVENT
BEGIN:VEVENT
SUMMARY:D2 Discovering and Designing VALUE価値の創造を（2024）
DTSTART;VALUE=DATE:20260429
DTEND;VALUE=DATE:20260430
UID:123299162393
DESCRIPTION:2026-04D2 Discovering and Designing VALUE価値の創造を（
 2024）神戸大学V．School神戸大学出版会
LOCATION:
END:VEVENT
BEGIN:VEVENT
SUMMARY:原稿締切
DTSTART;VALUE=DATE:20260505
DTEND;VALUE=DATE:20260506
UID:481905596268
DESCRIPTION:原稿締切
LOCATION:
END:VEVENT
BEGIN:VEVENT
SUMMARY:佐々木勝君
DTSTART;VALUE=DATE-TIME:20260507T040000Z
DTEND;VALUE=DATE-TIME:20260507T041500Z
UID:729012602928
DESCRIPTION:佐々木勝君
LOCATION:
END:VEVENT
BEGIN:VEVENT
SUMMARY:村中君
DTSTART;VALUE=DATE-TIME:20260507T050000Z
DTEND;VALUE=DATE-TIME:20260507T051500Z
UID:204357627914
DESCRIPTION:村中君
LOCATION:
END:VEVENT
BEGIN:VEVENT
SUMMARY:西井君
DTSTART;VALUE=DATE-TIME:20260508T033000Z
DTEND;VALUE=DATE-TIME:20260508T034500Z
UID:168150490374
DESCRIPTION:西井君
LOCATION:
END:VEVENT
BEGIN:VEVENT
SUMMARY:二階堂君
DTSTART;VALUE=DATE-TIME:20260508T120000Z
DTEND;VALUE=DATE-TIME:20260508T123000Z
UID:168922007009
DESCRIPTION:二階堂君
LOCATION:
END:VEVENT
BEGIN:VEVENT
SUMMARY:不在
DTSTART;VALUE=DATE:20260508
DTEND;VALUE=DATE:20260509
UID:251373826388
DESCRIPTION:不在
LOCATION:
END:VEVENT
BEGIN:VEVENT
SUMMARY:岩井君
DTSTART;VALUE=DATE-TIME:20260511T023000Z
DTEND;VALUE=DATE-TIME:20260511T024500Z
UID:291646311146
DESCRIPTION:岩井君
LOCATION:
END:VEVENT
BEGIN:VEVENT
SUMMARY:有南君
DTSTART;VALUE=DATE-TIME:20260511T033000Z
DTEND;VALUE=DATE-TIME:20260511T034500Z
UID:296477889207
DESCRIPTION:有南君
LOCATION:
END:VEVENT
BEGIN:VEVENT
SUMMARY:フォーバル打合せ
DTSTART;VALUE=DATE-TIME:20260511T040000Z
DTEND;VALUE=DATE-TIME:20260511T041500Z
UID:114032112665
DESCRIPTION:https://fvl.zoom.us/j/85758847198?pwd=41QFbghUo86MmbBOOrQYGXEO
 ZjnyL7.1
LOCATION:
END:VEVENT
BEGIN:VEVENT
SUMMARY:けせん倫理法人会
DTSTART;VALUE=DATE-TIME:20260511T060000Z
DTEND;VALUE=DATE-TIME:20260511T090000Z
UID:119064684950
DESCRIPTION:けせん倫理法人会
LOCATION:
END:VEVENT
BEGIN:VEVENT
SUMMARY:カリグラフィーの基礎 Foundations of Calligraphy
DTSTART;VALUE=DATE:20260510
DTEND;VALUE=DATE:20260511
UID:203375523895
DESCRIPTION:2026-05-11カリグラフィーの基礎 Foundations of Callig
 raphyシーラ・ウォーターズ/ジュリアン・ウォーターズ/
 瀧川貴子Book&Design
LOCATION:
END:VEVENT
BEGIN:VEVENT
SUMMARY:伊藤君
DTSTART;VALUE=DATE-TIME:20260512T060000Z
DTEND;VALUE=DATE-TIME:20260512T061500Z
UID:296440763703
DESCRIPTION:伊藤君
LOCATION:
END:VEVENT
BEGIN:VEVENT
SUMMARY:岡田君
DTSTART;VALUE=DATE-TIME:20260512T090000Z
DTEND;VALUE=DATE-TIME:20260512T091500Z
UID:168305470584
DESCRIPTION:岡田君
LOCATION:
END:VEVENT
BEGIN:VEVENT
SUMMARY:学科会議
DTSTART;VALUE=DATE-TIME:20260513T040000Z
DTEND;VALUE=DATE-TIME:20260513T053000Z
UID:162045108775
DESCRIPTION:学科会議
LOCATION:
END:VEVENT
BEGIN:VEVENT
SUMMARY:教授会
DTSTART;VALUE=DATE-TIME:20260513T053000Z
DTEND;VALUE=DATE-TIME:20260513T073000Z
UID:723844480433
DESCRIPTION:教授会
LOCATION:
END:VEVENT
BEGIN:VEVENT
SUMMARY:及川君
DTSTART;VALUE=DATE-TIME:20260514T040000Z
DTEND;VALUE=DATE-TIME:20260514T041500Z
UID:195091760582
DESCRIPTION:及川君
LOCATION:
END:VEVENT
BEGIN:VEVENT
SUMMARY:白倉君
DTSTART;VALUE=DATE-TIME:20260514T060000Z
DTEND;VALUE=DATE-TIME:20260514T061500Z
UID:317884111545
DESCRIPTION:白倉君
LOCATION:
END:VEVENT
BEGIN:VEVENT
SUMMARY:車点検
DTSTART;VALUE=DATE-TIME:20260515T080000Z
DTEND;VALUE=DATE-TIME:20260515T093000Z
UID:820360467800
DESCRIPTION:車点検
LOCATION:
END:VEVENT
BEGIN:VEVENT
SUMMARY:日弁連法教育セミナー
DTSTART;VALUE=DATE:20260515
DTEND;VALUE=DATE:20260516
UID:204996700991
DESCRIPTION:日弁連法教育セミナー
LOCATION:
END:VEVENT
BEGIN:VEVENT
SUMMARY:あはは俱楽部(運動教室）
DTSTART;VALUE=DATE-TIME:20260519T000000Z
DTEND;VALUE=DATE-TIME:20260519T023000Z
UID:133779951648
DESCRIPTION:あはは俱楽部(運動教室）
LOCATION:
END:VEVENT
BEGIN:VEVENT
SUMMARY:桑原君
DTSTART;VALUE=DATE-TIME:20260519T090000Z
DTEND;VALUE=DATE-TIME:20260519T091500Z
UID:208437980990
DESCRIPTION:桑原君
LOCATION:
END:VEVENT
BEGIN:VEVENT
SUMMARY:BLACK LAGOON 掃除屋ソーヤー 解体！ゴアゴア娘（11
 ）
DTSTART;VALUE=DATE:20260518
DTEND;VALUE=DATE:20260519
UID:320125332013
DESCRIPTION:2026-05-19BLACK LAGOON 掃除屋ソーヤー 解体！ゴア
 ゴア娘（11）イダ タツヒコ/広江 礼威小学館
LOCATION:
END:VEVENT
BEGIN:VEVENT
SUMMARY:慰謝料狩り 5
DTSTART;VALUE=DATE:20260518
DTEND;VALUE=DATE:20260519
UID:131481718947
DESCRIPTION:2026-05-19慰謝料狩り 5きづきあきら＋サトウナ
 ンキ集英社
LOCATION:
END:VEVENT
BEGIN:VEVENT
SUMMARY:教学会議
DTSTART;VALUE=DATE-TIME:20260520T040000Z
DTEND;VALUE=DATE-TIME:20260520T053000Z
UID:114662945019
DESCRIPTION:教学会議
LOCATION:
END:VEVENT
BEGIN:VEVENT
SUMMARY:Cl.(eye)
DTSTART;VALUE=DATE-TIME:20260520T070000Z
DTEND;VALUE=DATE-TIME:20260520T071500Z
UID:320670112023
DESCRIPTION:Cl.(eye)
LOCATION:
END:VEVENT
BEGIN:VEVENT
SUMMARY:CS利用あり
DTSTART;VALUE=DATE-TIME:20260520T040000Z
DTEND;VALUE=DATE-TIME:20260520T080000Z
UID:177791649184
DESCRIPTION:CS利用あり
LOCATION:
END:VEVENT
BEGIN:VEVENT
SUMMARY:ヨッシーとフカシギの図鑑
DTSTART;VALUE=DATE:20260520
DTEND;VALUE=DATE:20260521
UID:254904870718
DESCRIPTION:2026-05-21ヨッシーとフカシギの図鑑任天堂
LOCATION:
END:VEVENT
BEGIN:VEVENT
SUMMARY:【楽天ブックス限定特典】ヨッシーとフカシギの
 図鑑(2連アクリルキーホルダー)
DTSTART;VALUE=DATE:20260520
DTEND;VALUE=DATE:20260521
UID:276003794611
DESCRIPTION:2026-05-21【楽天ブックス限定特典】ヨッシーと
 フカシギの図鑑(2連アクリルキーホルダー)任天堂
LOCATION:
END:VEVENT
BEGIN:VEVENT
SUMMARY:当別
DTSTART;VALUE=DATE-TIME:20260522T050000Z
DTEND;VALUE=DATE-TIME:20260522T070000Z
UID:188687068110
DESCRIPTION:当別
LOCATION:
END:VEVENT
BEGIN:VEVENT
SUMMARY:オープンキャンパス
DTSTART;VALUE=DATE:20260522
DTEND;VALUE=DATE:20260523
UID:339506647152
DESCRIPTION:オープンキャンパス
LOCATION:
END:VEVENT
END:VCALENDAR
