BEGIN:VCALENDAR
VERSION:2.0
PRODID:-//chikkutakku.com//RDFCal 1.0//EN
X-WR-CALDESC:GoogleカレンダーやiCalendar形式情報を共有シェ
 アしましょう。近所のイベントから全国のイベントま
 で今日のイベント検索やスケジュールを決めるならち
 っくたっく
X-WR-CALNAME:ちっくたっく
X-WR-TIMEZONE:UTC
BEGIN:VEVENT
SUMMARY:とんがり帽子のアトリエ（16）
DTSTART;VALUE=DATE:20260422
DTEND;VALUE=DATE:20260423
UID:173758474171
DESCRIPTION:2026-04-23とんがり帽子のアトリエ（16）白浜 鴎
 講談社
LOCATION:
END:VEVENT
BEGIN:VEVENT
SUMMARY:とんがり帽子のアトリエ（16）特装版
DTSTART;VALUE=DATE:20260422
DTEND;VALUE=DATE:20260423
UID:309270445516
DESCRIPTION:2026-04-23とんがり帽子のアトリエ（16）特装版
 白浜 鴎講談社
LOCATION:
END:VEVENT
BEGIN:VEVENT
SUMMARY:とんがり帽子のアトリエ イラスト集
DTSTART;VALUE=DATE:20260422
DTEND;VALUE=DATE:20260423
UID:178040300784
DESCRIPTION:2026-04-23とんがり帽子のアトリエ イラスト集白
 浜 鴎講談社
LOCATION:
END:VEVENT
BEGIN:VEVENT
SUMMARY:パリピ孔明（25）
DTSTART;VALUE=DATE:20260430
DTEND;VALUE=DATE:20260501
UID:176424126492
DESCRIPTION:2026-05-01パリピ孔明（25）四葉 夕卜/小川 亮講
 談社
LOCATION:
END:VEVENT
BEGIN:VEVENT
SUMMARY:悪役令嬢転生おじさん 10
DTSTART;VALUE=DATE:20260507
DTEND;VALUE=DATE:20260508
UID:250984524466
DESCRIPTION:2026-05-08悪役令嬢転生おじさん 10上山 道郎少年
 画報社
LOCATION:
END:VEVENT
BEGIN:VEVENT
SUMMARY:ドッグスレッド 8
DTSTART;VALUE=DATE:20260518
DTEND;VALUE=DATE:20260519
UID:245974799610
DESCRIPTION:2026-05-19ドッグスレッド 8野田 サトル集英社
LOCATION:
END:VEVENT
END:VCALENDAR
