BEGIN:VCALENDAR
VERSION:2.0
PRODID:-//chikkutakku.com//RDFCal 1.0//EN
X-WR-CALDESC:GoogleカレンダーやiCalendar形式情報を共有シェ
 アしましょう。近所のイベントから全国のイベントま
 で今日のイベント検索やスケジュールを決めるならち
 っくたっく
X-WR-CALNAME:ちっくたっく
X-WR-TIMEZONE:UTC
BEGIN:VEVENT
SUMMARY:ことわざ絵と暁斎・暁翠
DTSTART;VALUE=DATE:20260228
DTEND;VALUE=DATE:20260425
UID:324850607716
DESCRIPTION:open 10:00 / end 16:00\n＊＊16:00まで入館可＊＊\n休
 館日：毎週火・木曜（祝日の場合は開館）、毎月26日〜
 末日、年末年始\n＝＝＝＝＝＝＝＝＝＝＝＝＝＝＝＝\n
 企画展では、暁斎（きょうさい）と娘の暁翠（きょう
 すい）が、ことわざや洒落などの言葉から発想をふく
 らませて描いた掛軸・錦絵(多色摺木版画）、版本等を
 展示しております。\nまた第3展示室の特別展では、明
 治18年（1885）の『暁斎絵日記』の中から、暁斎がさま
 ざまな人物と交流した様子を描いた日の記録を複製パ
 ネルでお楽しみいただきます。\n\n【関連/参考ページ】
 \nhttp://kyosai-museum.jp/hp/exhi_now.html （現在の展覧会）\nhttp:
 //kyosai-museum.jp/hp/top.html （河鍋暁斎記念美術館）
LOCATION:河鍋暁斎記念美術館【関東】
END:VEVENT
BEGIN:VEVENT
SUMMARY:ミニ企画「本郷の女子美 弓町から菊坂へ」
DTSTART;VALUE=DATE:20260105
DTEND;VALUE=DATE:20260426
UID:548804628493
DESCRIPTION:open 9:00 / end 17:00\n文京区にゆかりのある女子美
 術大学の歴史を振り返る。出張展示「近代の女子高等
 教育と文京」と連動し、明治以降の女子教育の変遷と
 、地域に根ざした芸術教育の歩みを貴重なパネル資料
 等で紹介する。
LOCATION:文京ふるさと歴史館【関東】
END:VEVENT
BEGIN:VEVENT
SUMMARY:企画展示「女性と議会政治のあゆみ」通史編
DTSTART;VALUE=DATE:20260105
DTEND;VALUE=DATE:20260427
UID:285949329029
DESCRIPTION:open 9:30 / end 17:00\n【休館日】毎月の末日、年末
 年始及び臨時休館日\n＝＝＝＝＝＝＝＝＝＝＝＝＝＝＝
 ＝＝＝＝＝＝＝＝\n女性の政治参加を求める動きは明治
 時代からはじまり、多くの人たちによって政治的諸権
 利の獲得運動が続けられました。今回は、戦後の実現
 に至るまでの動きと、今日までのあゆみを、令和8年1月
 6日（火）から4月27日（月）まで通史編として、関係資
 料により紹介しています。\n\n【関連/参考ページ】\nhttp
 s://www.shugiin.go.jp/internet/itdb_annai.nsf/html/statics/kensei/kikaku.h
 tm （企画）\nhttps://www.shugiin.go.jp/internet/itdb_annai.nsf/html/st
 atics/kensei/kensei.htm （衆議院憲政記念館）
LOCATION:衆議院憲政記念館【関東】
END:VEVENT
BEGIN:VEVENT
SUMMARY:中央大学創立140周年記念展示「140年のあゆみ」
DTSTART;VALUE=DATE:20250707
DTEND;VALUE=DATE:20260427
UID:169282503742
DESCRIPTION:open 10:00 / end 17:00\n定休日：  日曜日・祝日\n＝
 ＝＝＝＝＝＝＝＝＝＝＝＝＝＝\n2025年は中央大学創立14
 0周年を迎えます。中央大学大学史資料館では、創立140
 周年を記念した第2回企画展「140年のあゆみ」を開催い
 たします。\n本学は英吉利法律学校から始まり、経済、
 商、理工（工）、文、総合政策、国際経営、国際情報
 といった学部、ロースクールやビジネススクールとい
 った専門職大学院、戦後直後の通信教育部の開設と、
 時代や社会の要請に応えて学部・専門職大学院等を充
 実させてきました。本展では、各学部等の歴史や学び
 を示す所蔵資料を公開し、資料を基に編まれた周年史
 、特に2025年12月に発行予定の創立140周年史を紹介いた
 します。\n本展を通じて本学140年のあゆみを振り返り、
 未来へとつなげます。\nまた、創立140周年記念展示を多
 くの方にご覧いただけるよう、企画展開催に合わせて
 インターネットでも公開いたします。\n\n【関連/参考ペ
 ージ】\nhttps://www.chuo-u.ac.jp/aboutus/efforts/museum/history/news/20
 25/10/80639/ （企画展）\nhttps://www.chuo-u.ac.jp/aboutus/efforts/mus
 eum/internet_exhibition/140th/ （インターネット企画展）\nhttps
 ://www.chuo-u.ac.jp/aboutus/efforts/museum/history/ （大学史資料館
 ）
LOCATION:中央大学多摩キャンパス【関東】
END:VEVENT
BEGIN:VEVENT
SUMMARY:埼玉の宝物〜人々が守り伝えた文化財〜
DTSTART;VALUE=DATE:20260313
DTEND;VALUE=DATE:20260506
UID:255968581112
DESCRIPTION:start 9:00 / end 16:30\n観覧受付は16:00まで\n休館日
 ：月曜日（※ただし3月23日（月）、5月4日（月・祝）は
 開館）\n一般600円、高校生・学生300円\n\n【関連/参考ペ
 ージ】\nhttps://saitama-rekimin.spec.ed.jp/tokubetuten_takaramono
LOCATION:埼玉県立歴史と民俗の博物館【関東】
END:VEVENT
BEGIN:VEVENT
SUMMARY:巡礼者は秩父を目指す！
DTSTART;VALUE=DATE:20260206
DTEND;VALUE=DATE:20260506
UID:163902759209
DESCRIPTION:open 9:00 / end 17:00\n入館は閉館30分前まで\n休館
 日：月曜日（祝日・振替休日・県民の日は開館）\n\n【
 関連/参考ページ】\nhttps://www.river-museum.jp/ex-post/春期企
 画展「巡礼者は秩父を目指す！」/
LOCATION:埼玉県立川の博物館【関東】
END:VEVENT
BEGIN:VEVENT
SUMMARY:特集展示「柳原良平のポスター展」
DTSTART;VALUE=DATE:20251117
DTEND;VALUE=DATE:20260506
UID:337749278527
DESCRIPTION:open 10:00 / end 17:00\n【休館日】\n月曜日（祝日の
 場合は開館、翌平日休館）\n※ただし、4月28日（月）、
 6月2日（月・横浜開港記念日）、8月12日（火）、9月22日
 （月）は特別開館\n年末年始 2025年12月29日（月）〜2026
 年1月3日（土）\nメンテナンス日 2026年1月28日（水）〜20
 26年2月4日（水）\n＝＝＝＝＝＝＝＝＝＝＝＝＝＝＝＝
 ＝\n船や海、港にかかわる仕事を多数手がけた柳原です
 が、本展示では、予備校、バーテンダー、スーパーマ
 ーケット、献血、ショッピングビルなど、海事関係以
 外の分野や業種で制作されたポスターもご紹介し、柳
 原の幅広い仕事ぶりをご覧いただきます。大型のポス
 ターを中心に15点ほど展示します。ぱっと人目をひく、
 柳原デザインのポスターをどうぞお楽しみください。\n
 \n【関連/参考ページ】\nhttps://www.nippon-maru.or.jp/20251101-165
 56/ （横浜みなと博物館企画展）\nhttps://www.nippon-maru.or.jp
 /y-museum/ （柳原良平アートミュージアム）\nhttps://www.nipp
 on-maru.or.jp/port-museum/ （横浜みなと博物館）
LOCATION:横浜みなと博物館【関東】
END:VEVENT
BEGIN:VEVENT
SUMMARY:光琳派 国宝「燕子花図」と尾形光琳のフォロワ
 ーたち
DTSTART;VALUE=DATE:20260410
DTEND;VALUE=DATE:20260510
UID:182182972143
DESCRIPTION:open 10:00 / end 17:00\n【夜間開館】5月5日（火・祝
 ）〜5月10日（日）　午後7時まで\n本展では、アメリカ
 ・クリーブランド美術館からの里帰り作品もふくめ、
 知られざる「光琳派」の全貌を展観し、琳派の歴史に
 新しい光を当てます\n\n【関連/参考ページ】\nhttp://www.ne
 zu-muse.or.jp/ （根津美術館）\nhttps://www.nezu-muse.or.jp/jp/exhib
 itions/view-118.html
LOCATION:根津美術館【関東】
END:VEVENT
BEGIN:VEVENT
SUMMARY:下村観山展
DTSTART;VALUE=DATE:20260316
DTEND;VALUE=DATE:20260510
UID:107936314885
DESCRIPTION:open 10:00 / end 17:00\n金曜・土曜は10:00&#8211\;20:00\n
 \n【関連/参考ページ】\nhttp://www.momat.go.jp/ （東京国立近
 代美術館）\nhttps://www.momat.go.jp/exhibitions/567\nhttps://art.nikk
 ei.com/kanzan/
LOCATION:東京国立近代美術館【関東】
END:VEVENT
BEGIN:VEVENT
SUMMARY:長沢蘆雪
DTSTART;VALUE=DATE:20260313
DTEND;VALUE=DATE:20260510
UID:164223387620
DESCRIPTION:open 10:00 / end 17:00\n【休館日】月曜日\n＝＝＝＝
 ＝＝＝＝＝＝＝＝＝＝＝＝＝\n18世紀後半の京都の画家
 、長沢蘆雪。当館ではこれまで様々な作品を紹介して
 きました。ファンタスティックで不思議な風景、かわ
 いい動物や子供。師の円山応挙に迫る凄腕の絵もあれ
 ば、その正反対のへそまがりで愉快な絵もあります。
 また、禅の世界や仏の教えのもとに生きた画家でもあ
 りました。この東京初となる蘆雪展では、色々な角度
 から魅力に迫ります。\n\n【関連/参考ページ】\nhttp://www
 .art.city.fuchu.tokyo.jp/ （府中市美術館）\nhttps://www.city.fuchu
 .tokyo.jp/art/tenrankai/kikakutenkaisai/2025_nagasawa_rosetsu.html （詳
 細）\nhttps://www.city.fuchu.tokyo.jp/art/tenrankai/kikakutenkaisai/2025
 _nagasawa_rosetsu.files/rosetsu-chirashi01.pdf （チラシ(PDF)）\nhttps
 ://www.city.fuchu.tokyo.jp/art/index.html （府中市美術館）
LOCATION:府中市美術館【関東】
END:VEVENT
BEGIN:VEVENT
SUMMARY:企画展「和の硯−SUZURI−」
DTSTART;VALUE=DATE:20260306
DTEND;VALUE=DATE:20260510
UID:186177097930
DESCRIPTION:open 10:00 / end 18:00\n休館日：毎週月曜日（祝日
 は開館）、\n　　　　４月28日（火）・30日（木）〜５
 月１日（金）\n\n【関連/参考ページ】\nhttps://museum.kokugak
 uin.ac.jp/special_exhibition/detail/2025_wanosuzuri.html
LOCATION:國學院大學博物館【関東】
END:VEVENT
BEGIN:VEVENT
SUMMARY:生誕100周年記念 安野光雅展
DTSTART;VALUE=DATE:20260303
DTEND;VALUE=DATE:20260510
UID:103475653787
DESCRIPTION:open 10:00 / end 17:00\n土日祝は18:00まで。会期中無
 休\n＝＝＝＝＝＝＝＝＝＝＝＝＝＝＝＝＝＝＝\n膨大な
 作品を残した安野光雅は、1926年に自然豊かな島根県津
 和野町に生まれ、好奇心にあふれた、絵を描くことが
 大好きな少年でした。戦後は美術教員を務めながら、
 芸術や科学、数学、そして人の営みに興味を持って創
 作を続け、やがて多くの絵本や文章を残す比類なき画
 家となりました。\n本展では『ふしぎなえ』『旅の絵本
 』『天動説の絵本』（いずれも福音館書店）、『おお
 きな ものの すきな おうさま』（講談社）など代表作
 の絵本原画約130点に加え、安野が描いた「風景」「歴
 史」といった普遍的なテーマをとらえ直し、キュレー
 ションするPLAY! 独自の展示空間「絵画館」を設置。さ
 らに、絵を拡大、立体にして視点を変化させるなど、
 多彩な仕掛けを通して安野が絵に込めたメッセージを
 体感できる会場構成です。そのほか、安野から影響を
 受け、現在最前線で活躍するクリエイターたちの言葉
 で未来に語り継ぐ、映像「先生へ」を展示します。\n美
 しい緻密な原画と、ふしぎと発見にあふれる安野ワー
 ルドを体験していただき、安野光雅の創作世界を未来
 へとつなげる展覧会です。\n\n【関連/参考ページ】\nhttp
 s://play2020.jp/article/anno/ （詳細）\nhttps://play2020.jp/museum/ 
 （PLAY! MUSEUM）
LOCATION:PLAY! MUSEUM【関東】
END:VEVENT
BEGIN:VEVENT
SUMMARY:コレクションの舞台裏
DTSTART;VALUE=DATE:20260206
DTEND;VALUE=DATE:20260510
UID:178339731206
DESCRIPTION:open 10:00 / end 17:30\n入場は17時00分まで\n休館日
 ：月曜日（ただし、2月23日、5月4日は開館）\n\n【関連/
 参考ページ】\nhttp://www.momas.jp/ （埼玉県立近代美術館）
 \nhttps://pref.spec.ed.jp/momas/2026butaiura
LOCATION:埼玉県立近代美術館【関東】
END:VEVENT
BEGIN:VEVENT
SUMMARY:モノたちの眼
DTSTART;VALUE=DATE:20260308
DTEND;VALUE=DATE:20260515
UID:985433654790
DESCRIPTION:open 11:00 / end 18:00\n休館日：土日祝、3月23日（
 月）・4月29日（水）から 5月6日（水）\n特別開館｜3月28
 日（土）、4月18日（土）、5月9日（土）\n予約不要\n\n【
 関連/参考ページ】\nhttps://kemco.keio.ac.jp/all-post/20260309/
LOCATION:慶應義塾ミュージアム・コモンズ【関東】
END:VEVENT
BEGIN:VEVENT
SUMMARY:三鷹綺譚 「最後の人 ── 師・太宰治」
DTSTART;VALUE=DATE:20260213
DTEND;VALUE=DATE:20260517
UID:220425534072
DESCRIPTION:open 10:00 / end 18:00\n休館日：月曜日（2/23、5/4は
 開館）、\n2/24(火)、2/25(水)、3/10(火)、\n4/2(木)、4/9(木)、
 5/7(木)、5/8(金)\n＝＝＝＝＝＝＝＝＝＝＝＝＝＝＝＝＝
 ＝\n太宰治の自宅〈三鷹町下連雀113〉には、日々、弟子
 たちが訪問し、書斎兼応接間として使用していた六畳
 間では、文芸や美術についての談義が交わされていた
 といいます。弟子の多くは学生でしたが、小山清や田
 中英光のように勤めながら師事し、文学を志す若者も
 いました。特に、小山清は太宰治の創作活動において
 極めて重要な役割を果たした弟子で、小山清が師と仰
 いだのは、太宰治ただ一人でした。\n本展では、太宰治
 と小山清の歩みと、師の文学を後世に残すために注力
 した小山の活動、そして、太宰治から小山清へ、小山
 清から弟子たちへと脈々と受け継がれる系譜について
 紹介します。\n\n【関連/参考ページ】\nhttps://mitaka-sportsa
 ndculture.or.jp/gallery/event/20260214/ （詳細）\nhttps://mitaka-sport
 sandculture.or.jp/gallery/ （三鷹市美術ギャラリー）
LOCATION:三鷹市美術ギャラリー 太宰治展示室【関東】
END:VEVENT
BEGIN:VEVENT
SUMMARY:ニッポン再発見 −異邦人のまなざし−
DTSTART;VALUE=DATE:20260120
DTEND;VALUE=DATE:20260517
UID:183293867501
DESCRIPTION:open 10:00 / end 17:00\n定休日：  火曜日（祝日の場
 合は翌平日）\n＝＝＝＝＝＝＝＝＝＝＝＝＝＝＝＝＝\n
 東洋文庫ミュージアムは約1年の休館を終えて、1月21日
 より開館いたします。\nリニューアル・オープンをかざ
 る本展では、マルコ・ポーロから小泉八雲（ラフカデ
 ィオ・ハーン）まで、日本における異文化との接触・
 交流の足跡、そして外から見た日本イメージの変遷を
 たどります。\n日本を訪れた外国人は、日本にどのよう
 な印象をもったのか、海外の文献のなかで日本はどの
 ように記述されてきたのか、歴史的な出来事はどのよ
 うに認識されているのか。\n視点を変えると新鮮な気づ
 きが沢山あるはずです。少し装いを新たにした東洋文
 庫で再発見しましょう。\n\n【関連/参考ページ】\nhttps:/
 /toyo-bunko.or.jp/museum-exhibition/2386 （詳細）\nhttps://toyo-bunko.
 or.jp/museum/ （東洋文庫ミュージアム）
LOCATION:東洋文庫ミュージアム【関東】
END:VEVENT
END:VCALENDAR
