BEGIN:VCALENDAR
VERSION:2.0
PRODID:-//chikkutakku.com//RDFCal 1.0//EN
X-WR-CALDESC:GoogleカレンダーやiCalendar形式情報を共有シェ
 アしましょう。近所のイベントから全国のイベントま
 で今日のイベント検索やスケジュールを決めるならち
 っくたっく
X-WR-CALNAME:ちっくたっく
X-WR-TIMEZONE:UTC
BEGIN:VEVENT
SUMMARY:晴れ時々くもり 20℃/8℃
DTSTART;VALUE=DATE:20260425
DTEND;VALUE=DATE:20260426
UID:108322903058
DESCRIPTION:天気は晴れ時々くもり、降水確率は20%、最高
 気温は20℃、最低気温は8℃でしょう。
LOCATION:
END:VEVENT
BEGIN:VEVENT
SUMMARY:くもり一時雨 19℃/11℃
DTSTART;VALUE=DATE:20260426
DTEND;VALUE=DATE:20260427
UID:329001667328
DESCRIPTION:天気はくもり一時雨、降水確率は50%、最高気
 温は19℃、最低気温は11℃でしょう。
LOCATION:
END:VEVENT
BEGIN:VEVENT
SUMMARY:くもり 20℃/12℃
DTSTART;VALUE=DATE:20260427
DTEND;VALUE=DATE:20260428
UID:218576836619
DESCRIPTION:天気はくもり、降水確率は40%、最高気温は20℃
 、最低気温は12℃でしょう。
LOCATION:
END:VEVENT
BEGIN:VEVENT
SUMMARY:くもり 20℃/11℃
DTSTART;VALUE=DATE:20260428
DTEND;VALUE=DATE:20260429
UID:911692360617
DESCRIPTION:天気はくもり、降水確率は40%、最高気温は20℃
 、最低気温は11℃でしょう。
LOCATION:
END:VEVENT
BEGIN:VEVENT
SUMMARY:くもり 17℃/10℃
DTSTART;VALUE=DATE:20260429
DTEND;VALUE=DATE:20260430
UID:316530005106
DESCRIPTION:天気はくもり、降水確率は40%、最高気温は17℃
 、最低気温は10℃でしょう。
LOCATION:
END:VEVENT
BEGIN:VEVENT
SUMMARY:くもり時々晴れ 18℃/9℃
DTSTART;VALUE=DATE:20260430
DTEND;VALUE=DATE:20260501
UID:290830598746
DESCRIPTION:天気はくもり時々晴れ、降水確率は30%、最高
 気温は18℃、最低気温は9℃でしょう。
LOCATION:
END:VEVENT
END:VCALENDAR
