BEGIN:VCALENDAR
VERSION:2.0
PRODID:-//chikkutakku.com//RDFCal 1.0//EN
X-WR-CALDESC:GoogleカレンダーやiCalendar形式情報を共有シェ
 アしましょう。近所のイベントから全国のイベントま
 で今日のイベント検索やスケジュールを決めるならち
 っくたっく
X-WR-CALNAME:ちっくたっく
X-WR-TIMEZONE:UTC
BEGIN:VEVENT
SUMMARY:晴れ一時雨
DTSTART;VALUE=DATE:20260420
DTEND;VALUE=DATE:20260421
UID:327396700266
DESCRIPTION:天気は晴れ一時雨でしょう。
LOCATION:
END:VEVENT
BEGIN:VEVENT
SUMMARY:晴れ後くもり 24℃/11℃
DTSTART;VALUE=DATE:20260421
DTEND;VALUE=DATE:20260422
UID:133320067203
DESCRIPTION:天気は晴れ後くもり、降水確率は10%、最高気
 温は24℃、最低気温は11℃でしょう。
LOCATION:
END:VEVENT
BEGIN:VEVENT
SUMMARY:くもり後雨 19℃/14℃
DTSTART;VALUE=DATE:20260422
DTEND;VALUE=DATE:20260423
UID:165039089749
DESCRIPTION:天気はくもり後雨、降水確率は70%、最高気温
 は19℃、最低気温は14℃でしょう。
LOCATION:
END:VEVENT
BEGIN:VEVENT
SUMMARY:くもり時々雨 22℃/14℃
DTSTART;VALUE=DATE:20260423
DTEND;VALUE=DATE:20260424
UID:338764143339
DESCRIPTION:天気はくもり時々雨、降水確率は70%、最高気
 温は22℃、最低気温は14℃でしょう。
LOCATION:
END:VEVENT
BEGIN:VEVENT
SUMMARY:くもり 22℃/12℃
DTSTART;VALUE=DATE:20260424
DTEND;VALUE=DATE:20260425
UID:161775030825
DESCRIPTION:天気はくもり、降水確率は40%、最高気温は22℃
 、最低気温は12℃でしょう。
LOCATION:
END:VEVENT
BEGIN:VEVENT
SUMMARY:くもり時々晴れ 23℃/13℃
DTSTART;VALUE=DATE:20260425
DTEND;VALUE=DATE:20260426
UID:207152400983
DESCRIPTION:天気はくもり時々晴れ、降水確率は30%、最高
 気温は23℃、最低気温は13℃でしょう。
LOCATION:
END:VEVENT
BEGIN:VEVENT
SUMMARY:くもり時々晴れ 24℃/13℃
DTSTART;VALUE=DATE:20260426
DTEND;VALUE=DATE:20260427
UID:307979505571
DESCRIPTION:天気はくもり時々晴れ、降水確率は30%、最高
 気温は24℃、最低気温は13℃でしょう。
LOCATION:
END:VEVENT
END:VCALENDAR
