BEGIN:VCALENDAR
VERSION:2.0
PRODID:-//chikkutakku.com//RDFCal 1.0//EN
X-WR-CALDESC:GoogleカレンダーやiCalendar形式情報を共有シェ
 アしましょう。近所のイベントから全国のイベントま
 で今日のイベント検索やスケジュールを決めるならち
 っくたっく
X-WR-CALNAME:ちっくたっく
X-WR-TIMEZONE:UTC
BEGIN:VEVENT
SUMMARY:晴れ時々くもり 23℃/14℃
DTSTART;VALUE=DATE:20260424
DTEND;VALUE=DATE:20260425
UID:831282287219
DESCRIPTION:天気は晴れ時々くもり、降水確率は20%、最高
 気温は23℃、最低気温は14℃でしょう。
LOCATION:
END:VEVENT
BEGIN:VEVENT
SUMMARY:くもり一時雨 21℃/15℃
DTSTART;VALUE=DATE:20260425
DTEND;VALUE=DATE:20260426
UID:980869467414
DESCRIPTION:天気はくもり一時雨、降水確率は50%、最高気
 温は21℃、最低気温は15℃でしょう。
LOCATION:
END:VEVENT
BEGIN:VEVENT
SUMMARY:晴れ時々くもり 23℃/15℃
DTSTART;VALUE=DATE:20260426
DTEND;VALUE=DATE:20260427
UID:264718935703
DESCRIPTION:天気は晴れ時々くもり、降水確率は20%、最高
 気温は23℃、最低気温は15℃でしょう。
LOCATION:
END:VEVENT
BEGIN:VEVENT
SUMMARY:くもり時々晴れ 24℃/16℃
DTSTART;VALUE=DATE:20260427
DTEND;VALUE=DATE:20260428
UID:324210740498
DESCRIPTION:天気はくもり時々晴れ、降水確率は30%、最高
 気温は24℃、最低気温は16℃でしょう。
LOCATION:
END:VEVENT
BEGIN:VEVENT
SUMMARY:くもり 21℃/15℃
DTSTART;VALUE=DATE:20260428
DTEND;VALUE=DATE:20260429
UID:239707994297
DESCRIPTION:天気はくもり、降水確率は40%、最高気温は21℃
 、最低気温は15℃でしょう。
LOCATION:
END:VEVENT
BEGIN:VEVENT
SUMMARY:くもり 22℃/14℃
DTSTART;VALUE=DATE:20260429
DTEND;VALUE=DATE:20260430
UID:154094179775
DESCRIPTION:天気はくもり、降水確率は40%、最高気温は22℃
 、最低気温は14℃でしょう。
LOCATION:
END:VEVENT
END:VCALENDAR
