BEGIN:VCALENDAR
VERSION:2.0
PRODID:-//chikkutakku.com//RDFCal 1.0//EN
X-WR-CALDESC:GoogleカレンダーやiCalendar形式情報を共有シェ
 アしましょう。近所のイベントから全国のイベントま
 で今日のイベント検索やスケジュールを決めるならち
 っくたっく
X-WR-CALNAME:ちっくたっく
X-WR-TIMEZONE:UTC
BEGIN:VEVENT
SUMMARY:晴れ後時々くもり 21℃/13℃
DTSTART;VALUE=DATE:20260421
DTEND;VALUE=DATE:20260422
UID:204524358164
DESCRIPTION:天気は晴れ後時々くもり、降水確率は20%、最
 高気温は21℃、最低気温は13℃でしょう。
LOCATION:
END:VEVENT
BEGIN:VEVENT
SUMMARY:くもり後一時雨 20℃/15℃
DTSTART;VALUE=DATE:20260422
DTEND;VALUE=DATE:20260423
UID:243254569681
DESCRIPTION:天気はくもり後一時雨、降水確率は50%、最高
 気温は20℃、最低気温は15℃でしょう。
LOCATION:
END:VEVENT
BEGIN:VEVENT
SUMMARY:くもり時々雨 17℃/14℃
DTSTART;VALUE=DATE:20260423
DTEND;VALUE=DATE:20260424
UID:309724382549
DESCRIPTION:天気はくもり時々雨、降水確率は70%、最高気
 温は17℃、最低気温は14℃でしょう。
LOCATION:
END:VEVENT
BEGIN:VEVENT
SUMMARY:くもり 18℃/13℃
DTSTART;VALUE=DATE:20260424
DTEND;VALUE=DATE:20260425
UID:297394989582
DESCRIPTION:天気はくもり、降水確率は40%、最高気温は18℃
 、最低気温は13℃でしょう。
LOCATION:
END:VEVENT
BEGIN:VEVENT
SUMMARY:くもり時々晴れ 20℃/13℃
DTSTART;VALUE=DATE:20260425
DTEND;VALUE=DATE:20260426
UID:454111745367
DESCRIPTION:天気はくもり時々晴れ、降水確率は30%、最高
 気温は20℃、最低気温は13℃でしょう。
LOCATION:
END:VEVENT
BEGIN:VEVENT
SUMMARY:くもり時々晴れ 19℃/13℃
DTSTART;VALUE=DATE:20260426
DTEND;VALUE=DATE:20260427
UID:102969479076
DESCRIPTION:天気はくもり時々晴れ、降水確率は30%、最高
 気温は19℃、最低気温は13℃でしょう。
LOCATION:
END:VEVENT
END:VCALENDAR
