BEGIN:VCALENDAR
VERSION:2.0
PRODID:-//chikkutakku.com//RDFCal 1.0//EN
X-WR-CALDESC:GoogleカレンダーやiCalendar形式情報を共有シェ
 アしましょう。近所のイベントから全国のイベントま
 で今日のイベント検索やスケジュールを決めるならち
 っくたっく
X-WR-CALNAME:ちっくたっく
X-WR-TIMEZONE:UTC
BEGIN:VEVENT
SUMMARY:優生思想・反出生主義を支持する障害者たち
DTSTART;VALUE=DATE:20260419
DTEND;VALUE=DATE:20260420
UID:727377252726
DESCRIPTION:2026-04-20優生思想・反出生主義を支持する障害
 者たち横道誠/すぷりんと国書刊行会
LOCATION:
END:VEVENT
BEGIN:VEVENT
SUMMARY:小児科医が伝えたい発達障害の子どもをしなやか
 に、楽しく育てる考え方
DTSTART;VALUE=DATE:20260420
DTEND;VALUE=DATE:20260421
UID:249017987553
DESCRIPTION:2026-04-21小児科医が伝えたい発達障害の子ども
 をしなやかに、楽しく育てる考え方岡田 剛現代書林
LOCATION:
END:VEVENT
BEGIN:VEVENT
SUMMARY:メディア研究108号 特集 “障害”をめぐるメディ
 ア研究の展開
DTSTART;VALUE=DATE:20260424
DTEND;VALUE=DATE:20260425
UID:677275672366
DESCRIPTION:2026-04-25メディア研究108号 特集 “障害”をめ
 ぐるメディア研究の展開日本メディア学会東京大学出
 版会
LOCATION:
END:VEVENT
BEGIN:VEVENT
SUMMARY:排尿障害診療ノート
DTSTART;VALUE=DATE:20260427
DTEND;VALUE=DATE:20260428
UID:315791629175
DESCRIPTION:2026-04-28排尿障害診療ノート鈴木 康之中外医学
 社
LOCATION:
END:VEVENT
BEGIN:VEVENT
SUMMARY:あたらしい眼科 Vol.43、 No.4、 2026
DTSTART;VALUE=DATE:20260427
DTEND;VALUE=DATE:20260428
UID:226032573423
DESCRIPTION:2026-04-28あたらしい眼科 Vol.43、 No.4、 2026編集
 主幹：外園千恵メディカル葵出版
LOCATION:
END:VEVENT
BEGIN:VEVENT
SUMMARY:介護・障害 処遇改善の改正点 令和8年6月版
DTSTART;VALUE=DATE:20260429
DTEND;VALUE=DATE:20260430
UID:142027551285
DESCRIPTION:2026-04介護・障害 処遇改善の改正点 令和8年6月
 版社会保険研究所
LOCATION:
END:VEVENT
BEGIN:VEVENT
SUMMARY:わが心のシシュポスたちへー障害者施設で30年ー
DTSTART;VALUE=DATE:20260429
DTEND;VALUE=DATE:20260430
UID:236811622403
DESCRIPTION:2026-04わが心のシシュポスたちへー障害者施設
 で30年ー八窪清文芸社
LOCATION:
END:VEVENT
BEGIN:VEVENT
SUMMARY:眼科ケア2026年5月号
DTSTART;VALUE=DATE:20260430
DTEND;VALUE=DATE:20260501
UID:878442004319
DESCRIPTION:2026-05-01眼科ケア2026年5月号メディカ出版
LOCATION:
END:VEVENT
BEGIN:VEVENT
SUMMARY:眼科手術 Vol.39、 No.2、 2026
DTSTART;VALUE=DATE:20260430
DTEND;VALUE=DATE:20260501
UID:679260472818
DESCRIPTION:2026-05-01眼科手術 Vol.39、 No.2、 2026太田俊彦・
 豊川紀子メディカル葵出版
LOCATION:
END:VEVENT
BEGIN:VEVENT
SUMMARY:解けるとこわい謎解きゲーム 顔の見えないトモ
 ダチ
DTSTART;VALUE=DATE:20260512
DTEND;VALUE=DATE:20260513
UID:644752796801
DESCRIPTION:2026-05-13解けるとこわい謎解きゲーム 顔の見え
 ないトモダチやまもと しょう（SCRAP）/吉岡 みつる/く
 にたろ/号 えいすけポプラ社
LOCATION:
END:VEVENT
BEGIN:VEVENT
SUMMARY:発達障害の心理学〔増補改訂版〕
DTSTART;VALUE=DATE:20260513
DTEND;VALUE=DATE:20260514
UID:159632371955
DESCRIPTION:2026-05-14発達障害の心理学〔増補改訂版〕北 洋
 輔/平田 正吾福村出版
LOCATION:
END:VEVENT
END:VCALENDAR
