BEGIN:VCALENDAR
VERSION:2.0
PRODID:-//chikkutakku.com//RDFCal 1.0//EN
X-WR-CALDESC:GoogleカレンダーやiCalendar形式情報を共有シェ
 アしましょう。近所のイベントから全国のイベントま
 で今日のイベント検索やスケジュールを決めるならち
 っくたっく
X-WR-CALNAME:ちっくたっく
X-WR-TIMEZONE:UTC
BEGIN:VEVENT
SUMMARY:台湾、お菓子の旅
DTSTART;VALUE=DATE:20260430
DTEND;VALUE=DATE:20260501
UID:304755486048
DESCRIPTION:2026-05-01台湾、お菓子の旅池澤 春菜主婦と生活
 社
LOCATION:
END:VEVENT
BEGIN:VEVENT
SUMMARY:ビーズで作る 大人のアクセサリー
DTSTART;VALUE=DATE:20260510
DTEND;VALUE=DATE:20260511
UID:642264015429
DESCRIPTION:2026-05-11ビーズで作る 大人のアクセサリーブテ
 ィック社
LOCATION:
END:VEVENT
BEGIN:VEVENT
SUMMARY:精神療法を組み立てる
DTSTART;VALUE=DATE:20260512
DTEND;VALUE=DATE:20260513
UID:177781455856
DESCRIPTION:2026-05-13精神療法を組み立てる林 直樹金剛出版
LOCATION:
END:VEVENT
BEGIN:VEVENT
SUMMARY:あすけん公式 200kcal台スイーツ大全
DTSTART;VALUE=DATE:20260514
DTEND;VALUE=DATE:20260515
UID:160028161002
DESCRIPTION:2026-05-15あすけん公式 200kcal台スイーツ大全あ
 すけん/道江 美貴子ワニブックス
LOCATION:
END:VEVENT
BEGIN:VEVENT
SUMMARY:知ると楽しい! 洋菓子のひみつ 甘く華やかな西洋
 のスイーツ文化
DTSTART;VALUE=DATE:20260520
DTEND;VALUE=DATE:20260521
UID:144078011131
DESCRIPTION:2026-05-21知ると楽しい! 洋菓子のひみつ 甘く華
 やかな西洋のスイーツ文化「洋菓子のひみつ」編集部
 メイツ出版
LOCATION:
END:VEVENT
END:VCALENDAR
