BEGIN:VCALENDAR
VERSION:2.0
PRODID:-//chikkutakku.com//RDFCal 1.0//EN
X-WR-CALDESC:GoogleカレンダーやiCalendar形式情報を共有シェ
 アしましょう。近所のイベントから全国のイベントま
 で今日のイベント検索やスケジュールを決めるならち
 っくたっく
X-WR-CALNAME:ちっくたっく
X-WR-TIMEZONE:UTC
BEGIN:VEVENT
SUMMARY:Breach At The Bay
DTSTART;VALUE=DATE:20260425
DTEND;VALUE=DATE:20260426
UID:290028417219
DESCRIPTION:3 round beginner friendly tournament + demo areahttps://www.fa
 cebook.com/share/1CHumScpm2/Organiser: Gareth
LOCATION:Bay Games\, 78\, 84 Park View\, Whitley Bay NE26 2TH\, UK
END:VEVENT
BEGIN:VEVENT
SUMMARY:Welsh GT
DTSTART;VALUE=DATE:20260501
DTEND;VALUE=DATE:20260503
UID:348461669165
DESCRIPTION:6 rounds over 2 dayshttps://www.thebattlefields.co.uk/events-a
 t-the-battlefields/malifaux-welsh-gt-2026Organiser: Luke
LOCATION:Firestorm Games Cardiff\, Sloper Rd\, Cardiff CF11 8AB\, UK
END:VEVENT
BEGIN:VEVENT
SUMMARY:The Lost Lands
DTSTART;VALUE=DATE:20260516
DTEND;VALUE=DATE:20260517
UID:830012412655
DESCRIPTION:3 rounds fixed faction tournamentDetails https://themostexcel
 lentandawesomeforumever-wyrd.com/topic/169966-17052026-the-lost-lands-batt
 lefield-hobbies-daventry/ Organiser: Oz
LOCATION:Battlefield Hobbies\, The Old Boatyard\, Unit 1\, South March\, 2
  S March\, Daventry NN11 4PH\, UK
END:VEVENT
END:VCALENDAR
