BEGIN:VCALENDAR
VERSION:2.0
PRODID:-//chikkutakku.com//RDFCal 1.0//EN
X-WR-CALDESC:GoogleカレンダーやiCalendar形式情報を共有シェ
 アしましょう。近所のイベントから全国のイベントま
 で今日のイベント検索やスケジュールを決めるならち
 っくたっく
X-WR-CALNAME:ちっくたっく
X-WR-TIMEZONE:UTC
BEGIN:VEVENT
SUMMARY:【高岡】俺の崖っぷちアンサンブル 5TH ANNIVERSARY  
 Vol.7【めろん畑a go go】
DTSTART;VALUE=DATE:20260424
DTEND;VALUE=DATE:20260425
UID:729504152561
DESCRIPTION:【俺の崖っぷちアンサンブル\n　5TH ANNIVERSARY vo
 l.7】\n日時：2026年4月25日(土)\n会場：高岡クローバーホ
 ール《富山》\n開場 16:00 / 開演16:30《終演未定》\n\n-出
 演-\nDICE FOR LIGHTS\nTHE DO DO DO's\n日向みさき（君色+シンク
 ロニシティ）\nさかさまJr.\nThe Grateful a MogAAAz\nめろん畑a
  go go\n\nチケットは"各出演者予約"\n/ 前売 3000円+1D\n▶︎
 ▶︎https://tiget.net/events/475311\n\n今年も富山へ!!\n\nーーー
 ーーーーーーーーーーーー\n\n...タイムテーブル Coming So
 on🛸彡\n\n📸めろん畑a go goは\n　静止画/動画共に撮影
 可能(掲載も可能)です\n\nーーーーーーーーーーーーー
 ーー\n\nTHE IDOL FROM OUTERSPACE!!\nサイドキックなヒーローア
 イドル、\nめろん畑a go go です!!\n\n-MEMBER-\n中村ソゼ（NAK
 AMURA SOZE）\n琉陀瓶ルン（RUTAKAME RUN）\n崎村ゆふぃ（SAKIMU
 RA YUFFIE）\n知世千世（TOMOYO CHIYO）\n玖月琴美（KUZUKI KOTOMI
 ）\n皆野うさこ（MINANO USAKO）\n\nHP melonbatakeagogo.theblog.me\n
 X @MELONBATAKEAGO2
LOCATION:クローバーホール\, 日本、〒933-0029 富山県高岡
 市御旅屋町１２１１
END:VEVENT
BEGIN:VEVENT
SUMMARY:玖月琴美のゆるばん 第一部完結編 玖月琴美【ほ
 ぼほぼ】ワンマン
DTSTART;VALUE=DATE:20260426
DTEND;VALUE=DATE:20260427
UID:204213415905
DESCRIPTION:#玖月琴美のゆるばん 追加公演!!\n第一部完結
 編\n玖月琴美【ほぼほぼ】ワンマン\n開催決定!!\n⠀\n2026
 /4/27(月)荻窪club Doctor\n開場18:30/開演19:00\n料金：2\,500円+1
 D代\n⠀\n出演：\n玖月琴美\nGt. 森岡慶\nBa. キーボー\nDr. 
 染谷剛\n+ Guest有り!?\n⠀\nご予約はこちら\n▶︎ tiget.net/e
 vents/482629⠀\n⠀
LOCATION:OGIKUBO club Doctor\, 日本、〒167-0043 東京都杉並区上
 荻１丁目１６−１０ B１
END:VEVENT
BEGIN:VEVENT
SUMMARY:【中野】GOGOの日記念ライブ!!【めろん畑a go go】
DTSTART;VALUE=DATE:20260504
DTEND;VALUE=DATE:20260505
UID:948446639068
DESCRIPTION:#5月5日はGOGOの日\nめろん畑a go goがGOGOの日を記
 念する\nワンマンライブを開催致します!!\n\nめろん畑a g
 o go ライブ物販にて、\n手売りチケット発売中!!
LOCATION:heavysick ZERO\, 日本、〒164-0001 東京都中野区中野５
 丁目４１−８ カースク中野
END:VEVENT
BEGIN:VEVENT
SUMMARY:【都内】ライブ予定【めろん畑a go go】
DTSTART;VALUE=DATE:20260505
DTEND;VALUE=DATE:20260506
UID:307832905662
DESCRIPTION:【都内】ライブ予定【めろん畑a go go】
LOCATION:
END:VEVENT
BEGIN:VEVENT
SUMMARY:【吉祥寺】武蔵野音楽祭 蓮の音カーニバル2026【
 めろん畑a go go】
DTSTART;VALUE=DATE:20260515
DTEND;VALUE=DATE:20260516
UID:328273035003
DESCRIPTION:【武蔵野音楽祭 蓮の音カーニバル2026】\n\n2026
 年5月16日（土）\n\n会場:\nCLUBSEATA/Star Pine’s Café/ROCK JOINT
  GB/PLANETK/WARP/SHUFFLE/シルバーエレファント/曼荼羅/BLACK&BL
 UE/PLANETC\n\n🎫発売中\n\n一般チケット \nadv.5\,500円 door 6\,
 200円（1D別）\nU-20チケット \nadv.3\,300円 door 4\,000円（1D別
 ）\n\n◎e＋\nhttps://eplus.jp/sf/detail/4475410001-P0030001\n\n◎TIGET
 \nhttps://tiget.net/events/462160\n\n入場順\n①早割チケット（
 販売終了）\n②手売りチケット（並んだ順）\n③一般（e
 ＋・TIGET整理番号順）\n④U-20（e＋・TIGET整理番号順）\n
 ⑤当日券\n\n総合受付:CLUBSEATA\nリストバンド交換開始:11:
 00～\nOPEN:11:30～/START:12:00～\n\n#武蔵野音楽祭2026\n#武蔵野
 音楽祭20周年
LOCATION:
END:VEVENT
END:VCALENDAR
