BEGIN:VCALENDAR
VERSION:2.0
PRODID:-//chikkutakku.com//RDFCal 1.0//EN
X-WR-CALDESC:GoogleカレンダーやiCalendar形式情報を共有シェ
 アしましょう。近所のイベントから全国のイベントま
 で今日のイベント検索やスケジュールを決めるならち
 っくたっく
X-WR-CALNAME:ちっくたっく
X-WR-TIMEZONE:UTC
BEGIN:VEVENT
SUMMARY:予約不可
DTSTART;VALUE=DATE:20260423
DTEND;VALUE=DATE:20260424
UID:161795257879
DESCRIPTION:予約不可
LOCATION:
END:VEVENT
BEGIN:VEVENT
SUMMARY:予約済E
DTSTART;VALUE=DATE-TIME:20260425T003000Z
DTEND;VALUE=DATE-TIME:20260425T010000Z
UID:114040351641
DESCRIPTION:予約済E
LOCATION:
END:VEVENT
BEGIN:VEVENT
SUMMARY:予約済F
DTSTART;VALUE=DATE-TIME:20260426T000000Z
DTEND;VALUE=DATE-TIME:20260426T010000Z
UID:952499294556
DESCRIPTION:予約済F
LOCATION:
END:VEVENT
BEGIN:VEVENT
SUMMARY:出張保育園
DTSTART;VALUE=DATE-TIME:20260427T000000Z
DTEND;VALUE=DATE-TIME:20260427T030000Z
UID:553260924063
DESCRIPTION:出張保育園
LOCATION:
END:VEVENT
BEGIN:VEVENT
SUMMARY:予約不可午後
DTSTART;VALUE=DATE-TIME:20260427T030000Z
DTEND;VALUE=DATE-TIME:20260427T090000Z
UID:307195595796
DESCRIPTION:予約不可午後
LOCATION:
END:VEVENT
BEGIN:VEVENT
SUMMARY:予約済A夫婦
DTSTART;VALUE=DATE-TIME:20260428T050000Z
DTEND;VALUE=DATE-TIME:20260428T060000Z
UID:135306153256
DESCRIPTION:予約済A夫婦
LOCATION:
END:VEVENT
BEGIN:VEVENT
SUMMARY:予約済L
DTSTART;VALUE=DATE-TIME:20260430T083000Z
DTEND;VALUE=DATE-TIME:20260430T090000Z
UID:329887727099
DESCRIPTION:予約済L
LOCATION:
END:VEVENT
BEGIN:VEVENT
SUMMARY:予約済Yo
DTSTART;VALUE=DATE-TIME:20260430T090000Z
DTEND;VALUE=DATE-TIME:20260430T100000Z
UID:210382151302
DESCRIPTION:予約済Yo
LOCATION:
END:VEVENT
BEGIN:VEVENT
SUMMARY:予約不可
DTSTART;VALUE=DATE:20260430
DTEND;VALUE=DATE:20260501
UID:229069319148
DESCRIPTION:予約不可
LOCATION:
END:VEVENT
BEGIN:VEVENT
SUMMARY:予約不可
DTSTART;VALUE=DATE:20260503
DTEND;VALUE=DATE:20260504
UID:693364863713
DESCRIPTION:予約不可
LOCATION:
END:VEVENT
BEGIN:VEVENT
SUMMARY:予約不可午後
DTSTART;VALUE=DATE-TIME:20260508T030000Z
DTEND;VALUE=DATE-TIME:20260508T110000Z
UID:518379685159
DESCRIPTION:予約不可午後
LOCATION:
END:VEVENT
BEGIN:VEVENT
SUMMARY:出張保育園
DTSTART;VALUE=DATE:20260507
DTEND;VALUE=DATE:20260508
UID:130825948602
DESCRIPTION:出張保育園
LOCATION:
END:VEVENT
BEGIN:VEVENT
SUMMARY:アンサンブルクラス
DTSTART;VALUE=DATE-TIME:20260509T010000Z
DTEND;VALUE=DATE-TIME:20260509T015500Z
UID:268952676310
DESCRIPTION:アンサンブルクラス
LOCATION:
END:VEVENT
BEGIN:VEVENT
SUMMARY:予約済TT
DTSTART;VALUE=DATE-TIME:20260509T020000Z
DTEND;VALUE=DATE-TIME:20260509T030000Z
UID:474222252406
DESCRIPTION:予約済TT
LOCATION:
END:VEVENT
BEGIN:VEVENT
SUMMARY:れんげピアノ枠
DTSTART;VALUE=DATE-TIME:20260511T070000Z
DTEND;VALUE=DATE-TIME:20260511T080000Z
UID:336582815445
DESCRIPTION:れんげピアノ枠
LOCATION:
END:VEVENT
BEGIN:VEVENT
SUMMARY:予約済SS
DTSTART;VALUE=DATE-TIME:20260511T080000Z
DTEND;VALUE=DATE-TIME:20260511T090000Z
UID:136692645961
DESCRIPTION:予約済SS
LOCATION:
END:VEVENT
BEGIN:VEVENT
SUMMARY:予約済PerSK
DTSTART;VALUE=DATE-TIME:20260512T010000Z
DTEND;VALUE=DATE-TIME:20260512T020000Z
UID:282152320685
DESCRIPTION:予約済PerSK
LOCATION:
END:VEVENT
BEGIN:VEVENT
SUMMARY:出張保育園
DTSTART;VALUE=DATE-TIME:20260513T000000Z
DTEND;VALUE=DATE-TIME:20260513T030000Z
UID:138564539962
DESCRIPTION:出張保育園
LOCATION:
END:VEVENT
BEGIN:VEVENT
SUMMARY:予約済MT
DTSTART;VALUE=DATE-TIME:20260513T040000Z
DTEND;VALUE=DATE-TIME:20260513T060000Z
UID:131820295121
DESCRIPTION:予約済MT
LOCATION:
END:VEVENT
BEGIN:VEVENT
SUMMARY:予約済　森のフォリオ
DTSTART;VALUE=DATE-TIME:20260517T060000Z
DTEND;VALUE=DATE-TIME:20260517T080000Z
UID:791417810881
DESCRIPTION:森のフォリオ\n五月の新緑が奏でる音楽会\n＿
 ＿＿＿＿＿＿＿＿＿＿＿＿＿＿＿＿＿＿＿\n◆出演◆\nA
 rtisan bruyant（アルティザン・ブリュイオン）\n・近藤 治
 夫  ・・・バグパイプ、ハーディガーディetc.\n・Sally Lun
 n ・・・中世ハープ、シトール、歌etc.\n・蔡  怜雄     
 ・・・トンバク、ダフ、サントゥールetc.\n@artisanbruyant\n
 ゲスト：グリーンマン\n---------------------------------------\n
 ✛東京公演✛\n2026年5月17日（日） 午後3:30～ / 3:00open \n
 会場：古楽の小屋 ロバハウス\n東京都立川市幸町6−22
 −32 \n料金：予約3\,500円　当日4\,000円\n●ご予約\ninfo@leo
 sai.com\nTEL 090-1250-6394（近藤）
LOCATION:ロバハウス
END:VEVENT
BEGIN:VEVENT
SUMMARY:予約済L
DTSTART;VALUE=DATE-TIME:20260518T073000Z
DTEND;VALUE=DATE-TIME:20260518T083000Z
UID:318067546661
DESCRIPTION:予約済L
LOCATION:
END:VEVENT
BEGIN:VEVENT
SUMMARY:予約済SS
DTSTART;VALUE=DATE-TIME:20260519T073000Z
DTEND;VALUE=DATE-TIME:20260519T083000Z
UID:121527709589
DESCRIPTION:予約済SS
LOCATION:
END:VEVENT
BEGIN:VEVENT
SUMMARY:出張保育園
DTSTART;VALUE=DATE-TIME:20260520T000000Z
DTEND;VALUE=DATE-TIME:20260520T030000Z
UID:237483095355
DESCRIPTION:出張保育園
LOCATION:
END:VEVENT
BEGIN:VEVENT
SUMMARY:予約済 Ra
DTSTART;VALUE=DATE-TIME:20260522T063000Z
DTEND;VALUE=DATE-TIME:20260522T070000Z
UID:817625614990
DESCRIPTION:予約済 Ra
LOCATION:
END:VEVENT
BEGIN:VEVENT
SUMMARY:予約不可午後
DTSTART;VALUE=DATE-TIME:20260523T030000Z
DTEND;VALUE=DATE-TIME:20260523T110000Z
UID:912516828009
DESCRIPTION:予約不可午後
LOCATION:
END:VEVENT
BEGIN:VEVENT
SUMMARY:予約不可午後
DTSTART;VALUE=DATE-TIME:20260524T030000Z
DTEND;VALUE=DATE-TIME:20260524T110000Z
UID:121457218157
DESCRIPTION:予約不可午後
LOCATION:
END:VEVENT
END:VCALENDAR
