BEGIN:VCALENDAR
VERSION:2.0
PRODID:-//chikkutakku.com//RDFCal 1.0//EN
X-WR-CALDESC:GoogleカレンダーやiCalendar形式情報を共有シェ
 アしましょう。近所のイベントから全国のイベントま
 で今日のイベント検索やスケジュールを決めるならち
 っくたっく
X-WR-CALNAME:ちっくたっく
X-WR-TIMEZONE:UTC
BEGIN:VEVENT
SUMMARY:とんがり帽子のアトリエ　イラスト集
DTSTART;VALUE=DATE:20260420
DTEND;VALUE=DATE:20260421
UID:106822580402
DESCRIPTION:2026-04-21とんがり帽子のアトリエ　イラスト集
 白浜鴎講談社
LOCATION:
END:VEVENT
BEGIN:VEVENT
SUMMARY:スキップとローファー（１３）
DTSTART;VALUE=DATE:20260422
DTEND;VALUE=DATE:20260423
UID:322717754310
DESCRIPTION:2026-04-23スキップとローファー（１３）高松美
 咲講談社
LOCATION:
END:VEVENT
BEGIN:VEVENT
SUMMARY:天狗の台所（７）
DTSTART;VALUE=DATE:20260422
DTEND;VALUE=DATE:20260423
UID:110138452090
DESCRIPTION:2026-04-23天狗の台所（７）田中相講談社
LOCATION:
END:VEVENT
BEGIN:VEVENT
SUMMARY:とんがり帽子のアトリエ（１６）
DTSTART;VALUE=DATE:20260422
DTEND;VALUE=DATE:20260423
UID:170131741016
DESCRIPTION:2026-04-23とんがり帽子のアトリエ（１６）白浜
 鴎講談社
LOCATION:
END:VEVENT
BEGIN:VEVENT
SUMMARY:ヘルハウンド（８）
DTSTART;VALUE=DATE:20260422
DTEND;VALUE=DATE:20260423
UID:216162202992
DESCRIPTION:2026-04-23ヘルハウンド（８）皆川亮二講談社
LOCATION:
END:VEVENT
BEGIN:VEVENT
SUMMARY:ハイスコアガール DASH 8巻
DTSTART;VALUE=DATE:20260423
DTEND;VALUE=DATE:20260424
UID:222479536508
DESCRIPTION:2026-04-24ハイスコアガール DASH 8巻押切蓮介スク
 ウェア・エニックス
LOCATION:
END:VEVENT
BEGIN:VEVENT
SUMMARY:はぐれアイドル地獄変 19
DTSTART;VALUE=DATE:20260427
DTEND;VALUE=DATE:20260428
UID:828637243374
DESCRIPTION:2026-04-28はぐれアイドル地獄変 19高遠るい日本
 文芸社
LOCATION:
END:VEVENT
BEGIN:VEVENT
SUMMARY:来見沢善彦の愚行 2
DTSTART;VALUE=DATE:20260430
DTEND;VALUE=DATE:20260501
UID:325701435464
DESCRIPTION:2026-05-01来見沢善彦の愚行 2ときわ 四葩集英社
LOCATION:
END:VEVENT
BEGIN:VEVENT
SUMMARY:君のクイズ【単行本版】1
DTSTART;VALUE=DATE:20260430
DTEND;VALUE=DATE:20260501
UID:205700837926
DESCRIPTION:2026-05-01君のクイズ【単行本版】1小川哲/野田
 彩子シュークリーム
LOCATION:
END:VEVENT
BEGIN:VEVENT
SUMMARY:いやはや熱海くん 5
DTSTART;VALUE=DATE:20260514
DTEND;VALUE=DATE:20260515
UID:198832199035
DESCRIPTION:2026-05-15いやはや熱海くん 5田沼 朝KADOKAWA
LOCATION:
END:VEVENT
BEGIN:VEVENT
SUMMARY:もえこと畑とお寺ごはん 1
DTSTART;VALUE=DATE:20260514
DTEND;VALUE=DATE:20260515
UID:732947339142
DESCRIPTION:2026-05-15もえこと畑とお寺ごはん 1青江覚峰/か
 ねもりあやみ/久住昌之秋田書店
LOCATION:
END:VEVENT
BEGIN:VEVENT
SUMMARY:ドッグスレッド 8
DTSTART;VALUE=DATE:20260518
DTEND;VALUE=DATE:20260519
UID:940106342926
DESCRIPTION:2026-05-19ドッグスレッド 8野田サトル集英社
LOCATION:
END:VEVENT
END:VCALENDAR
