BEGIN:VCALENDAR
VERSION:2.0
PRODID:-//chikkutakku.com//RDFCal 1.0//EN
X-WR-CALDESC:GoogleカレンダーやiCalendar形式情報を共有シェ
 アしましょう。近所のイベントから全国のイベントま
 で今日のイベント検索やスケジュールを決めるならち
 っくたっく
X-WR-CALNAME:ちっくたっく
X-WR-TIMEZONE:UTC
BEGIN:VEVENT
SUMMARY:次候 霜止出苗 (しもやみてなえいずる)
DTSTART;VALUE=DATE-TIME:20260424T150000Z
DTEND;VALUE=DATE-TIME:20260428T150000Z
UID:219847026162
DESCRIPTION:霜が降りなくなり、苗が健やかに育つ頃
LOCATION:
END:VEVENT
BEGIN:VEVENT
SUMMARY:末候 牡丹華 (ぼたんはなさく)
DTSTART;VALUE=DATE-TIME:20260429T150000Z
DTEND;VALUE=DATE-TIME:20260504T150000Z
UID:170654536265
DESCRIPTION:牡丹の花が咲き始める頃
LOCATION:
END:VEVENT
BEGIN:VEVENT
SUMMARY:初候 蛙始鳴(かわずはじめてなく)
DTSTART;VALUE=DATE-TIME:20260505T150000Z
DTEND;VALUE=DATE-TIME:20260509T150000Z
UID:860127399101
DESCRIPTION:野原や田んぼで蛙が鳴き始める頃
LOCATION:
END:VEVENT
BEGIN:VEVENT
SUMMARY:次候 蚯蚓出(みみずいずる)
DTSTART;VALUE=DATE-TIME:20260510T150000Z
DTEND;VALUE=DATE-TIME:20260514T150000Z
UID:265330982039
DESCRIPTION:冬眠していたミミズが地上に現れ始める頃
LOCATION:
END:VEVENT
BEGIN:VEVENT
SUMMARY:末候 竹笋生(たけのこしょうず)
DTSTART;VALUE=DATE-TIME:20260515T150000Z
DTEND;VALUE=DATE-TIME:20260519T150000Z
UID:133517556065
DESCRIPTION:タケノコがひょっこりと顔を出す頃
LOCATION:
END:VEVENT
END:VCALENDAR
