BEGIN:VCALENDAR
VERSION:2.0
PRODID:-//chikkutakku.com//RDFCal 1.0//EN
X-WR-CALDESC:GoogleカレンダーやiCalendar形式情報を共有シェ
 アしましょう。近所のイベントから全国のイベントま
 で今日のイベント検索やスケジュールを決めるならち
 っくたっく
X-WR-CALNAME:ちっくたっく
X-WR-TIMEZONE:UTC
BEGIN:VEVENT
SUMMARY:Pokemon - League Cup - $15
DTSTART;VALUE=DATE-TIME:20260425T150000Z
DTEND;VALUE=DATE-TIME:20260425T210000Z
UID:317560364879
DESCRIPTION:Compete in the top tier of in-store events with a Pokemon Leag
 ue Cup! Competing in a League Cup earns you Championship Points (CP) to h
 elp you qualify for larger competitive events.  Entry for this event is 
 $15 and includes 4 packs per player for the prize pool as well as Prize Se
 ries Promo packs. All players will receive at least 1 pack and one promo p
 ack for participating. In addition\, the winner of each age division will 
 win a Champion Playmat.This event is Standard and  requires a deck list. 
 Players can print out a fillable list here: Play Pokemon Resources
LOCATION:
END:VEVENT
BEGIN:VEVENT
SUMMARY:Flesh & Blood - Commoner Armory - $5
DTSTART;VALUE=DATE-TIME:20260425T200000Z
DTEND;VALUE=DATE-TIME:20260425T220000Z
UID:878240423340
DESCRIPTION:"Flesh and Blood" TCG is a hero centric fantasy Trading Card G
 ame. Choose your hero and start the game at full strength\, wearing down o
 ver the course of the battle. Each hero has a unique playstyle that captur
 es the essence of their class and personality.This week's event is Commone
 r Blitz. Entry is $5 and includes 1.5 packs per player for the prize pool.
LOCATION:
END:VEVENT
BEGIN:VEVENT
SUMMARY:MtG - Secrets of Strixhaven Draft - $20
DTSTART;VALUE=DATE-TIME:20260425T180000Z
DTEND;VALUE=DATE-TIME:20260425T220000Z
UID:288999148470
DESCRIPTION:Join us for a Booster Draft of Magic&#39\;s newest set\, Secre
 ts of Strixhaven!\n \nFind your place among the five colleges as we put d
 own the books and delve into the real world! Uncover the Secrets of Strixh
 aven and prove your college is the best with every spell you cast. \n \n
 Entry for this event is $20 and includes 3 packs of Secrets of Strixhaven 
 to draft with as well as 2 packs for the prize pool.
LOCATION:
END:VEVENT
BEGIN:VEVENT
SUMMARY:Riftbound - Nexus Night Free For All Constructed - $5
DTSTART;VALUE=DATE-TIME:20260429T223000Z
DTEND;VALUE=DATE-TIME:20260430T013000Z
UID:276592798199
DESCRIPTION:Join us for a Riftbound Nexus Night event!\n \n Entry for th
 is event is $5 and includes 1 pack per 1st or 2nd place each match as well
  as a Nexus Night promo pack for all players.
LOCATION:
END:VEVENT
BEGIN:VEVENT
SUMMARY:First Friday in Wellsboro
DTSTART;VALUE=DATE-TIME:20260501T203000Z
DTEND;VALUE=DATE-TIME:20260501T233000Z
UID:260778414850
DESCRIPTION:First Friday season begins in Wellsboro today when you'll find
  downtown hopping with extra activities and fun for the whole family each 
 month from May through September! Here at Pop's we'll enjoy our usual free
  family-friendly game night and other events. It's also time once again to
  give Spidey a trim. Swing by Pop's to pick up a free natural air freshene
 r from our amazing spider plant and beautify your own home\, and maybe eve
 n find a nice pot to plant it in and gift it to Mom next weekend! \;-)
LOCATION:
END:VEVENT
BEGIN:VEVENT
SUMMARY:Star Wars Unlimited - Premier Constructed - $5
DTSTART;VALUE=DATE-TIME:20260501T230000Z
DTEND;VALUE=DATE-TIME:20260502T020000Z
UID:272257769472
DESCRIPTION:Connect\, Collect\, and Compete with a Star Wars Unlimited Wee
 kly Play Event.Enjoy this fast-paced\, tactical card game with weekly even
 ts every Friday at 6:30pm and earn exclusive promos and cards just by play
 ing!You can join our Star Wars Unlimited Facebook group to keep  up to 
 date with our community.This week&#39\;s event will be Premier Constructed
 . Bring your favorite deck and play against others. Premier Decks consist 
 of 1 Leader\, 1 Base\, a 50-card minimum deck\, and an optional 10-card si
 deboard to modify your deck between games.Entry for this event is $5 and i
 ncludes 1.5 packs for the prize pool.
LOCATION:
END:VEVENT
BEGIN:VEVENT
SUMMARY:Pokemon Standard Tournament - $5
DTSTART;VALUE=DATE-TIME:20260502T150000Z
DTEND;VALUE=DATE-TIME:20260502T180000Z
UID:103847110720
DESCRIPTION:Bring your standard deck and compete on Saturday at 11:00 a.m.
  All players get a promo card\, and prizes will also be awarded. This even
 t is only $5\, or FREE with a $10 purchase. And don&#39\;t forget to join 
 us for our free weekly Thursday afternoon Pokemon Club to get in some deck
 building and practice play time.
LOCATION:
END:VEVENT
BEGIN:VEVENT
SUMMARY:MtG - Commander Pack Attack - $10
DTSTART;VALUE=DATE-TIME:20260502T180000Z
DTEND;VALUE=DATE-TIME:20260502T220000Z
UID:804865203601
DESCRIPTION:Join us for Commander Pack Attack where the longer you stay al
 ive\, the more Set Booster Packs you win. Bring your favorite Commander de
 ck and battle it out over 2 rounds in pods of 3-5 players to claim victory
  over your opponents.Starting pods will be assigned at random\, the second
  pods will be based results from the first pod. The longer you remain in t
 he game\, the more points you&#39\;ll earn. The more points you earn\, the
  more packs you win. Taking 1st/2nd/3rd/4th place will earn you 3/2/1/0 po
 ints respectively and there are bonus points in the second round for the h
 igher ranked pods. *There are no current house rules or bans\, but we wil
 l be monitoring to see if any issues arise and reserve the right to adjust
  as we find necessaryEntry for this event is $10.00
LOCATION:
END:VEVENT
BEGIN:VEVENT
SUMMARY:COMIC BOOK DAY!
DTSTART;VALUE=DATE:20260502
DTEND;VALUE=DATE:20260503
UID:245898916970
DESCRIPTION:Pop's is celebrating Free Comic Book Day with 20% off all comi
 c books and graphic novels plus limited giveaways too!
LOCATION:
END:VEVENT
BEGIN:VEVENT
SUMMARY:May the 4th Be With You!
DTSTART;VALUE=DATE:20260504
DTEND;VALUE=DATE:20260505
UID:243145464353
DESCRIPTION:May the Fourth be with you today - as in saving one-fourth off
  all our Star Wars items. YES\, at least one fourth will still be with you
  when you check out with Star Wars sticker books for kids\, a Star Wars co
 okbook\, Star Wars Metal Earth model\, or Star Wars Deck-Building Game.  A
  great selection of books\, games\, crafts\, hundreds of amazing Star Wars
  comics\, and much more for all ages awaits you\, not in a galaxy far-far-
 away\, but right here at Pop's!
LOCATION:
END:VEVENT
BEGIN:VEVENT
SUMMARY:Riftbound - Unleashed Pre-Rift - $30
DTSTART;VALUE=DATE-TIME:20260506T223000Z
DTEND;VALUE=DATE-TIME:20260507T020000Z
UID:303457878119
DESCRIPTION:Join us for a Pre-Rift event for Riftbound's newest set\, Unle
 ashed!\n \nEntry for this event is $30 and includes a Pre-Rift kit to bui
 ld a deck from as well as 2 packs for the prize pool with all players rece
 iving at least one pack for prizes.
LOCATION:
END:VEVENT
BEGIN:VEVENT
SUMMARY:Pop's at the WASD Art Show
DTSTART;VALUE=DATE-TIME:20260507T220000Z
DTEND;VALUE=DATE-TIME:20260508T000000Z
UID:272519224674
DESCRIPTION:Be sure to check out all the amazing talent at the annual Well
 sboro Area School District student art show! Pop's will have an activity t
 able too with a project that is fun for all ages!
LOCATION:
END:VEVENT
BEGIN:VEVENT
SUMMARY:DPH GAMES at Game Night!
DTSTART;VALUE=DATE-TIME:20260508T220000Z
DTEND;VALUE=DATE-TIME:20260509T020000Z
UID:286547487544
DESCRIPTION:Join us for a very special game night with our favorite game d
 esigner Dan Hundycz of DPH Games! Dan will bring along demos of all his ga
 mes including hot-off-the-press "Sip & Savor" for Sommeliers who wish to m
 aster the art of perfect pairing! Whether testing his new games or joinin
 g him to play a regular game night favorite\, we always have a great time 
 when Dan is in the house!
LOCATION:
END:VEVENT
BEGIN:VEVENT
SUMMARY:SWU - May The Fourth Be With You Sealed - $35
DTSTART;VALUE=DATE-TIME:20260508T230000Z
DTEND;VALUE=DATE-TIME:20260509T030000Z
UID:234054393886
DESCRIPTION:Join us for a Sealed Deck event of Star Wars Unlimited!\n \nE
 ntry is $35 and includes 1 pack from every set released to build a deck wi
 th.  Entry also includes OP packs from every set and other giveaways.
LOCATION:
END:VEVENT
BEGIN:VEVENT
SUMMARY:Pokemon Standard Tournament - $5
DTSTART;VALUE=DATE-TIME:20260509T150000Z
DTEND;VALUE=DATE-TIME:20260509T180000Z
UID:297320723672
DESCRIPTION:Bring your standard deck and compete on Saturday at 11:00 a.m.
  All players get a promo card\, and prizes will also be awarded. This even
 t is only $5\, or FREE with a $10 purchase. And don&#39\;t forget to join 
 us for our free weekly Thursday afternoon Pokemon Club to get in some deck
 building and practice play time.
LOCATION:
END:VEVENT
BEGIN:VEVENT
SUMMARY:King of Tokyo Championship Qualifier - $5
DTSTART;VALUE=DATE-TIME:20260509T190000Z
DTEND;VALUE=DATE-TIME:20260509T193000Z
UID:750065107784
DESCRIPTION:Join us for Local Qualifiers for the King of Tokyo xGodzilla U
 SA Championship! Compete to earn a spot at the King of Tokyo x Godzilla U
 SAChampionship at GenCon as well as your own copy of the brand new\, unrel
 eased\,King of Tokyo x Godzilla! We’ll be hosting 4 qualifying tournamen
 ts to secure yourspot in a Final Qualifier. Each tournament will be played
  over 2 rounds of 3-4player games with a point system for scoring. The win
 ning player from eachtournament will earn a spot in the Final Qualifier.Qu
 alifying tournaments will be held on the following datesand times: Saturd
 ay\, May 9th - 3:00pmFriday\, May 15th - 6:00pmWednesday\, May 20th - 6:00
 pmFriday\, May 29th - 2:00pm Players may compete in multiple qualifying t
 ournaments untilthey earn a spot in the Final Qualifier\, which will be he
 ld Friday\, May 29that 6:00pm.Each qualifying tournament will be played wi
 th King of Tokyo2nd Edition. An entry cost of $5 includes a free drink as 
 well as apromo card and buttons. Additional prizes for the top 4 players i
 n each eventinclude exclusive promo monster standees and additional promo 
 cards.The winner of the Final Qualifier will receive a spot in theKing of 
 Tokyo x Godzilla Championship at GenCon\, a general admission to GenConfor
  the whole day of the Championship\, and a copy of King of Tokyo x Godzill
 a.
LOCATION:
END:VEVENT
BEGIN:VEVENT
SUMMARY:HeroQuest
DTSTART;VALUE=DATE-TIME:20260509T150000Z
DTEND;VALUE=DATE-TIME:20260510T060000Z
UID:207994013257
DESCRIPTION:Join Keith for a HeroQuest dungeon crawl board game adventure!
  Heroes will work together to complete epic quests\, find treasures and de
 feat the forces of evil. This semi-cooperative board game has one player t
 aking on the role of Zargon\, the Game Master\, while 4 mythical heroes--B
 arbarian\, Dwarf\, Elf\, and Wizard--team up in their quest for adventure 
 in a maze of monsters and eerie dark dungeons. Immerse yourself in the fan
 tasy with the stunning artwork\, and cool miniatures. This event is FREE a
 nd limited to 4 players\, so contact Pop&#39\;s to reserve your seat at th
 e table!
LOCATION:
END:VEVENT
BEGIN:VEVENT
SUMMARY:Riftbound - Nexus Night Unleashed Draft - $20
DTSTART;VALUE=DATE-TIME:20260513T223000Z
DTEND;VALUE=DATE-TIME:20260514T013000Z
UID:907193175770
DESCRIPTION:Join us for a Riftbound Nexus Night event!\n \nEntry for this
  event is $20 and includes 2 packs per player for the prize pool as well a
 s a Nexus Night promo pack for every player.
LOCATION:
END:VEVENT
BEGIN:VEVENT
SUMMARY:King of Tokyo Championship Qualifier - $5
DTSTART;VALUE=DATE-TIME:20260515T220000Z
DTEND;VALUE=DATE-TIME:20260515T223000Z
UID:280020777206
DESCRIPTION:Join us for Local Qualifiers for the King of Tokyo xGodzilla U
 SA Championship! Compete to earn a spot at the King of Tokyo x Godzilla U
 SAChampionship at GenCon as well as your own copy of the brand new\, unrel
 eased\,King of Tokyo x Godzilla! We’ll be hosting 4 qualifying tournamen
 ts to secure yourspot in a Final Qualifier. Each tournament will be played
  over 2 rounds of 3-4player games with a point system for scoring. The win
 ning player from eachtournament will earn a spot in the Final Qualifier.Qu
 alifying tournaments will be held on the following datesand times: Saturd
 ay\, May 9th - 3:00pmFriday\, May 15th - 6:00pmWednesday\, May 20th - 6:00
 pmFriday\, May 29th - 2:00pm Players may compete in multiple qualifying t
 ournaments untilthey earn a spot in the Final Qualifier\, which will be he
 ld Friday\, May 29that 6:00pm.Each qualifying tournament will be played wi
 th King of Tokyo2nd Edition. An entry cost of $5 includes a free drink as 
 well as apromo card and buttons. Additional prizes for the top 4 players i
 n each eventinclude exclusive promo monster standees and additional promo 
 cards.The winner of the Final Qualifier will receive a spot in theKing of 
 Tokyo x Godzilla Championship at GenCon\, a general admission to GenConfor
  the whole day of the Championship\, and a copy of King of Tokyo x Godzill
 a.
LOCATION:
END:VEVENT
BEGIN:VEVENT
SUMMARY:Star Wars Unlimited - Premier Constructed - $5
DTSTART;VALUE=DATE-TIME:20260515T230000Z
DTEND;VALUE=DATE-TIME:20260516T020000Z
UID:279968875753
DESCRIPTION:Connect\, Collect\, and Compete with a Star Wars Unlimited Wee
 kly Play Event.Enjoy this fast-paced\, tactical card game with weekly even
 ts every Friday at 6:30pm and earn exclusive promos and cards just by play
 ing!You can join our Star Wars Unlimited Facebook group to keep  up to 
 date with our community.This week&#39\;s event will be Premier Constructed
 . Bring your favorite deck and play against others. Premier Decks consist 
 of 1 Leader\, 1 Base\, a 50-card minimum deck\, and an optional 10-card si
 deboard to modify your deck between games.Entry for this event is $5 and i
 ncludes 1.5 packs for the prize pool.
LOCATION:
END:VEVENT
BEGIN:VEVENT
SUMMARY:Pokemon - Chaos Rising Prerelease - $30
DTSTART;VALUE=DATE-TIME:20260516T150000Z
DTEND;VALUE=DATE-TIME:20260516T180000Z
UID:217221513222
DESCRIPTION:Join us for a prerelease of Pokemon's newest set\, Mega Evolut
 ion: Chaos Rising! Entry for this event is $30 and includes a Build &amp\
 ; Battle kit with 4 packs of  Chaos Risingas well as  a 40-card deck wi
 th one of four promo cards. Each entry also includes 3 packs of  Chaos R
 ising for the prize pool with all players receiving at least one pack for
  prizes.
LOCATION:
END:VEVENT
BEGIN:VEVENT
SUMMARY:King of Tokyo Championship Qualifier - $5
DTSTART;VALUE=DATE-TIME:20260520T220000Z
DTEND;VALUE=DATE-TIME:20260520T223000Z
UID:180207094127
DESCRIPTION:Join us for Local Qualifiers for the King of Tokyo xGodzilla U
 SA Championship! Compete to earn a spot at the King of Tokyo x Godzilla U
 SAChampionship at GenCon as well as your own copy of the brand new\, unrel
 eased\,King of Tokyo x Godzilla! We’ll be hosting 4 qualifying tournamen
 ts to secure yourspot in a Final Qualifier. Each tournament will be played
  over 2 rounds of 3-4player games with a point system for scoring. The win
 ning player from eachtournament will earn a spot in the Final Qualifier.Qu
 alifying tournaments will be held on the following datesand times: Saturd
 ay\, May 9th - 3:00pmFriday\, May 15th - 6:00pmWednesday\, May 20th - 6:00
 pmFriday\, May 29th - 2:00pm Players may compete in multiple qualifying t
 ournaments untilthey earn a spot in the Final Qualifier\, which will be he
 ld Friday\, May 29that 6:00pm.Each qualifying tournament will be played wi
 th King of Tokyo2nd Edition. An entry cost of $5 includes a free drink as 
 well as apromo card and buttons. Additional prizes for the top 4 players i
 n each eventinclude exclusive promo monster standees and additional promo 
 cards.The winner of the Final Qualifier will receive a spot in theKing of 
 Tokyo x Godzilla Championship at GenCon\, a general admission to GenConfor
  the whole day of the Championship\, and a copy of King of Tokyo x Godzill
 a.
LOCATION:
END:VEVENT
BEGIN:VEVENT
SUMMARY:Riftbound - Nexus Night Constructed - $5
DTSTART;VALUE=DATE-TIME:20260520T223000Z
DTEND;VALUE=DATE-TIME:20260521T013000Z
UID:236924748062
DESCRIPTION:Join us for a Riftbound Nexus Night event!\n \n Entry for th
 is event is $5 and includes 1 pack per match win for prizes as well as a N
 exus Night promo pack for all players.
LOCATION:
END:VEVENT
BEGIN:VEVENT
SUMMARY:Star Wars Unlimited - Premier Constructed - $5
DTSTART;VALUE=DATE-TIME:20260522T230000Z
DTEND;VALUE=DATE-TIME:20260523T020000Z
UID:272810765860
DESCRIPTION:Connect\, Collect\, and Compete with a Star Wars Unlimited Wee
 kly Play Event.Enjoy this fast-paced\, tactical card game with weekly even
 ts every Friday at 6:30pm and earn exclusive promos and cards just by play
 ing!You can join our Star Wars Unlimited Facebook group to keep  up to 
 date with our community.This week&#39\;s event will be Premier Constructed
 . Bring your favorite deck and play against others. Premier Decks consist 
 of 1 Leader\, 1 Base\, a 50-card minimum deck\, and an optional 10-card si
 deboard to modify your deck between games.Entry for this event is $5 and i
 ncludes 1.5 packs for the prize pool.
LOCATION:
END:VEVENT
BEGIN:VEVENT
SUMMARY:Pokemon League Challenge - $10
DTSTART;VALUE=DATE-TIME:20260523T150000Z
DTEND;VALUE=DATE-TIME:20260523T180000Z
UID:280747655768
DESCRIPTION:Take your first steps into competitive Standard with Pokemon L
 eague Challenges! \n\nCompeting in a League Challenge earns you Champions
 hip Points (CP) to help you qualify for larger competitive events.  \n\n
 Entry for this event is $10 and includes 3 packs per player for the prize 
 pool as well as Prize Series Promo packs. Prizing will be more top heavy 
 than our normal Standard tournaments (for an 8 player event\, 1st\, 2nd\, 
 3rd\, and 4th place would receive 10\, 6\, 3\, 3 packs respectively)
LOCATION:
END:VEVENT
END:VCALENDAR
