BEGIN:VCALENDAR
VERSION:2.0
PRODID:-//chikkutakku.com//RDFCal 1.0//EN
X-WR-CALDESC:GoogleカレンダーやiCalendar形式情報を共有シェ
 アしましょう。近所のイベントから全国のイベントま
 で今日のイベント検索やスケジュールを決めるならち
 っくたっく
X-WR-CALNAME:ちっくたっく
X-WR-TIMEZONE:UTC
BEGIN:VEVENT
SUMMARY:【楽天ブックス限定特典+特典】マツリカの炯ーkE
 i- 天命華燭伝 特装版(アクリルプレート(A6サイズ)＋ア
 クリルキーホルダー(10cm) カルマ+【初回封入特典】デジ
 タルボイスドラマ『尸解仙の夢幻戯具』)
DTSTART;VALUE=DATE:20260422
DTEND;VALUE=DATE:20260423
UID:249066377815
DESCRIPTION:2026-04-23【楽天ブックス限定特典+特典】マツリ
 カの炯ーkEi- 天命華燭伝 特装版(アクリルプレート(A6サ
 イズ)＋アクリルキーホルダー(10cm) カルマ+【初回封入
 特典】デジタルボイスドラマ『尸解仙の夢幻戯具』)ア
 イディアファクトリー
LOCATION:
END:VEVENT
BEGIN:VEVENT
SUMMARY:【特典】マツリカの炯ーkEi- 天命華燭伝 特装版(
 【初回封入特典】デジタルボイスドラマ『尸解仙の夢
 幻戯具』)
DTSTART;VALUE=DATE:20260422
DTEND;VALUE=DATE:20260423
UID:670659339033
DESCRIPTION:2026-04-23【特典】マツリカの炯ーkEi- 天命華燭
 伝 特装版(【初回封入特典】デジタルボイスドラマ『尸
 解仙の夢幻戯具』)アイディアファクトリー
LOCATION:
END:VEVENT
BEGIN:VEVENT
SUMMARY:【特典】マツリカの炯ーkEi- 天命華燭伝 オトメイ
 ト スイート BOX(【初回封入特典】デジタルボイスドラ
 マ『尸解仙の夢幻戯具』)
DTSTART;VALUE=DATE:20260422
DTEND;VALUE=DATE:20260423
UID:887708882170
DESCRIPTION:2026-04-23【特典】マツリカの炯ーkEi- 天命華燭
 伝 オトメイト スイート BOX(【初回封入特典】デジタル
 ボイスドラマ『尸解仙の夢幻戯具』)アイディアファク
 トリー
LOCATION:
END:VEVENT
BEGIN:VEVENT
SUMMARY:【特典】マツリカの炯ーkEi- 天命華燭伝(【初回封
 入特典】デジタルボイスドラマ『尸解仙の夢幻戯具』)
DTSTART;VALUE=DATE:20260422
DTEND;VALUE=DATE:20260423
UID:115849908930
DESCRIPTION:2026-04-23【特典】マツリカの炯ーkEi- 天命華燭
 伝(【初回封入特典】デジタルボイスドラマ『尸解仙の
 夢幻戯具』)アイディアファクトリー
LOCATION:
END:VEVENT
BEGIN:VEVENT
SUMMARY:【楽天ブックス限定特典+特典】マツリカの炯ーkE
 i- 天命華燭伝 オトメイト スイート BOX(アクリルプレー
 ト(A6サイズ)＋アクリルキーホルダー(10cm) フエン+【初
 回封入特典】デジタルボイスドラマ『尸解仙の夢幻戯
 具』)
DTSTART;VALUE=DATE:20260422
DTEND;VALUE=DATE:20260423
UID:889613942164
DESCRIPTION:2026-04-23【楽天ブックス限定特典+特典】マツリ
 カの炯ーkEi- 天命華燭伝 オトメイト スイート BOX(アク
 リルプレート(A6サイズ)＋アクリルキーホルダー(10cm) フ
 エン+【初回封入特典】デジタルボイスドラマ『尸解仙
 の夢幻戯具』)アイディアファクトリー
LOCATION:
END:VEVENT
BEGIN:VEVENT
SUMMARY:【楽天ブックス限定特典+特典】マツリカの炯ーkE
 i- 天命華燭伝 オトメイト スイート BOX(アクリルプレー
 ト(A6サイズ)＋アクリルキーホルダー(10cm) 胡青凛+【初
 回封入特典】デジタルボイスドラマ『尸解仙の夢幻戯
 具』)
DTSTART;VALUE=DATE:20260422
DTEND;VALUE=DATE:20260423
UID:140204290604
DESCRIPTION:2026-04-23【楽天ブックス限定特典+特典】マツリ
 カの炯ーkEi- 天命華燭伝 オトメイト スイート BOX(アク
 リルプレート(A6サイズ)＋アクリルキーホルダー(10cm) 胡
 青凛+【初回封入特典】デジタルボイスドラマ『尸解仙
 の夢幻戯具』)アイディアファクトリー
LOCATION:
END:VEVENT
BEGIN:VEVENT
SUMMARY:【楽天ブックス限定特典+特典】マツリカの炯ーkE
 i- 天命華燭伝 特装版(アクリルプレート(A6サイズ)＋ア
 クリルキーホルダー(10cm) フエン+【初回封入特典】デジ
 タルボイスドラマ『尸解仙の夢幻戯具』)
DTSTART;VALUE=DATE:20260422
DTEND;VALUE=DATE:20260423
UID:314644752115
DESCRIPTION:2026-04-23【楽天ブックス限定特典+特典】マツリ
 カの炯ーkEi- 天命華燭伝 特装版(アクリルプレート(A6サ
 イズ)＋アクリルキーホルダー(10cm) フエン+【初回封入
 特典】デジタルボイスドラマ『尸解仙の夢幻戯具』)ア
 イディアファクトリー
LOCATION:
END:VEVENT
BEGIN:VEVENT
SUMMARY:【楽天ブックス限定特典+特典】マツリカの炯ーkE
 i- 天命華燭伝 特装版(アクリルプレート(A6サイズ)＋ア
 クリルキーホルダー(10cm) 玉彗+【初回封入特典】デジタ
 ルボイスドラマ『尸解仙の夢幻戯具』)
DTSTART;VALUE=DATE:20260422
DTEND;VALUE=DATE:20260423
UID:247412435765
DESCRIPTION:2026-04-23【楽天ブックス限定特典+特典】マツリ
 カの炯ーkEi- 天命華燭伝 特装版(アクリルプレート(A6サ
 イズ)＋アクリルキーホルダー(10cm) 玉彗+【初回封入特
 典】デジタルボイスドラマ『尸解仙の夢幻戯具』)アイ
 ディアファクトリー
LOCATION:
END:VEVENT
BEGIN:VEVENT
SUMMARY:【楽天ブックス限定特典+特典】マツリカの炯ーkE
 i- 天命華燭伝 特装版(アクリルプレート(A6サイズ)＋ア
 クリルキーホルダー(10cm) ルヲ+【初回封入特典】デジタ
 ルボイスドラマ『尸解仙の夢幻戯具』)
DTSTART;VALUE=DATE:20260422
DTEND;VALUE=DATE:20260423
UID:133357471284
DESCRIPTION:2026-04-23【楽天ブックス限定特典+特典】マツリ
 カの炯ーkEi- 天命華燭伝 特装版(アクリルプレート(A6サ
 イズ)＋アクリルキーホルダー(10cm) ルヲ+【初回封入特
 典】デジタルボイスドラマ『尸解仙の夢幻戯具』)アイ
 ディアファクトリー
LOCATION:
END:VEVENT
BEGIN:VEVENT
SUMMARY:【楽天ブックス限定特典+特典】マツリカの炯ーkE
 i- 天命華燭伝 オトメイト スイート BOX(アクリルプレー
 ト(A6サイズ)＋アクリルキーホルダー(10cm) 玉彗+【初回
 封入特典】デジタルボイスドラマ『尸解仙の夢幻戯具
 』)
DTSTART;VALUE=DATE:20260422
DTEND;VALUE=DATE:20260423
UID:268295442138
DESCRIPTION:2026-04-23【楽天ブックス限定特典+特典】マツリ
 カの炯ーkEi- 天命華燭伝 オトメイト スイート BOX(アク
 リルプレート(A6サイズ)＋アクリルキーホルダー(10cm) 玉
 彗+【初回封入特典】デジタルボイスドラマ『尸解仙の
 夢幻戯具』)アイディアファクトリー
LOCATION:
END:VEVENT
BEGIN:VEVENT
SUMMARY:【楽天ブックス限定特典+特典】マツリカの炯ーkE
 i- 天命華燭伝 オトメイト スイート BOX(アクリルプレー
 ト(A6サイズ)＋アクリルキーホルダー(10cm) カルマ+【初
 回封入特典】デジタルボイスドラマ『尸解仙の夢幻戯
 具』)
DTSTART;VALUE=DATE:20260422
DTEND;VALUE=DATE:20260423
UID:127409525346
DESCRIPTION:2026-04-23【楽天ブックス限定特典+特典】マツリ
 カの炯ーkEi- 天命華燭伝 オトメイト スイート BOX(アク
 リルプレート(A6サイズ)＋アクリルキーホルダー(10cm) カ
 ルマ+【初回封入特典】デジタルボイスドラマ『尸解仙
 の夢幻戯具』)アイディアファクトリー
LOCATION:
END:VEVENT
BEGIN:VEVENT
SUMMARY:【楽天ブックス限定特典+特典】マツリカの炯ーkE
 i- 天命華燭伝 オトメイト スイート BOX(アクリルプレー
 ト(A6サイズ)＋アクリルキーホルダー(10cm) 玖燕來+【初
 回封入特典】デジタルボイスドラマ『尸解仙の夢幻戯
 具』)
DTSTART;VALUE=DATE:20260422
DTEND;VALUE=DATE:20260423
UID:301295889884
DESCRIPTION:2026-04-23【楽天ブックス限定特典+特典】マツリ
 カの炯ーkEi- 天命華燭伝 オトメイト スイート BOX(アク
 リルプレート(A6サイズ)＋アクリルキーホルダー(10cm) 玖
 燕來+【初回封入特典】デジタルボイスドラマ『尸解仙
 の夢幻戯具』)アイディアファクトリー
LOCATION:
END:VEVENT
BEGIN:VEVENT
SUMMARY:【楽天ブックス限定特典+特典】マツリカの炯ーkE
 i- 天命華燭伝(アクリルプレート(A6サイズ)+【初回封入
 特典】デジタルボイスドラマ『尸解仙の夢幻戯具』)
DTSTART;VALUE=DATE:20260422
DTEND;VALUE=DATE:20260423
UID:186885901671
DESCRIPTION:2026-04-23【楽天ブックス限定特典+特典】マツリ
 カの炯ーkEi- 天命華燭伝(アクリルプレート(A6サイズ)+【
 初回封入特典】デジタルボイスドラマ『尸解仙の夢幻
 戯具』)アイディアファクトリー
LOCATION:
END:VEVENT
BEGIN:VEVENT
SUMMARY:【楽天ブックス限定特典+特典】マツリカの炯ーkE
 i- 天命華燭伝 オトメイト スイート BOX(アクリルプレー
 ト(A6サイズ)＋アクリルキーホルダー(10cm) ゼベネラ+【
 初回封入特典】デジタルボイスドラマ『尸解仙の夢幻
 戯具』)
DTSTART;VALUE=DATE:20260422
DTEND;VALUE=DATE:20260423
UID:259267996136
DESCRIPTION:2026-04-23【楽天ブックス限定特典+特典】マツリ
 カの炯ーkEi- 天命華燭伝 オトメイト スイート BOX(アク
 リルプレート(A6サイズ)＋アクリルキーホルダー(10cm) ゼ
 ベネラ+【初回封入特典】デジタルボイスドラマ『尸解
 仙の夢幻戯具』)アイディアファクトリー
LOCATION:
END:VEVENT
BEGIN:VEVENT
SUMMARY:【楽天ブックス限定特典+特典】マツリカの炯ーkE
 i- 天命華燭伝 特装版(アクリルプレート(A6サイズ)＋ア
 クリルキーホルダー(10cm) ゼベネラ+【初回封入特典】デ
 ジタルボイスドラマ『尸解仙の夢幻戯具』)
DTSTART;VALUE=DATE:20260422
DTEND;VALUE=DATE:20260423
UID:179695371435
DESCRIPTION:2026-04-23【楽天ブックス限定特典+特典】マツリ
 カの炯ーkEi- 天命華燭伝 特装版(アクリルプレート(A6サ
 イズ)＋アクリルキーホルダー(10cm) ゼベネラ+【初回封
 入特典】デジタルボイスドラマ『尸解仙の夢幻戯具』)
 アイディアファクトリー
LOCATION:
END:VEVENT
BEGIN:VEVENT
SUMMARY:【楽天ブックス限定特典+特典】マツリカの炯ーkE
 i- 天命華燭伝 オトメイト スイート BOX(アクリルプレー
 ト(A6サイズ)＋アクリルキーホルダー(10cm) フェイ+【初
 回封入特典】デジタルボイスドラマ『尸解仙の夢幻戯
 具』)
DTSTART;VALUE=DATE:20260422
DTEND;VALUE=DATE:20260423
UID:298491033037
DESCRIPTION:2026-04-23【楽天ブックス限定特典+特典】マツリ
 カの炯ーkEi- 天命華燭伝 オトメイト スイート BOX(アク
 リルプレート(A6サイズ)＋アクリルキーホルダー(10cm) フ
 ェイ+【初回封入特典】デジタルボイスドラマ『尸解仙
 の夢幻戯具』)アイディアファクトリー
LOCATION:
END:VEVENT
BEGIN:VEVENT
SUMMARY:【楽天ブックス限定特典+特典】マツリカの炯ーkE
 i- 天命華燭伝 特装版(アクリルプレート(A6サイズ)＋ア
 クリルキーホルダー(10cm) 胡青凛+【初回封入特典】デジ
 タルボイスドラマ『尸解仙の夢幻戯具』)
DTSTART;VALUE=DATE:20260422
DTEND;VALUE=DATE:20260423
UID:302930783802
DESCRIPTION:2026-04-23【楽天ブックス限定特典+特典】マツリ
 カの炯ーkEi- 天命華燭伝 特装版(アクリルプレート(A6サ
 イズ)＋アクリルキーホルダー(10cm) 胡青凛+【初回封入
 特典】デジタルボイスドラマ『尸解仙の夢幻戯具』)ア
 イディアファクトリー
LOCATION:
END:VEVENT
BEGIN:VEVENT
SUMMARY:【楽天ブックス限定特典+特典】マツリカの炯ーkE
 i- 天命華燭伝 特装版(アクリルプレート(A6サイズ)＋ア
 クリルキーホルダー(10cm) 玖燕來+【初回封入特典】デジ
 タルボイスドラマ『尸解仙の夢幻戯具』)
DTSTART;VALUE=DATE:20260422
DTEND;VALUE=DATE:20260423
UID:321028412293
DESCRIPTION:2026-04-23【楽天ブックス限定特典+特典】マツリ
 カの炯ーkEi- 天命華燭伝 特装版(アクリルプレート(A6サ
 イズ)＋アクリルキーホルダー(10cm) 玖燕來+【初回封入
 特典】デジタルボイスドラマ『尸解仙の夢幻戯具』)ア
 イディアファクトリー
LOCATION:
END:VEVENT
BEGIN:VEVENT
SUMMARY:【楽天ブックス限定特典+特典】マツリカの炯ーkE
 i- 天命華燭伝 特装版(アクリルプレート(A6サイズ)＋ア
 クリルキーホルダー(10cm) フェイ+【初回封入特典】デジ
 タルボイスドラマ『尸解仙の夢幻戯具』)
DTSTART;VALUE=DATE:20260422
DTEND;VALUE=DATE:20260423
UID:221932793361
DESCRIPTION:2026-04-23【楽天ブックス限定特典+特典】マツリ
 カの炯ーkEi- 天命華燭伝 特装版(アクリルプレート(A6サ
 イズ)＋アクリルキーホルダー(10cm) フェイ+【初回封入
 特典】デジタルボイスドラマ『尸解仙の夢幻戯具』)ア
 イディアファクトリー
LOCATION:
END:VEVENT
BEGIN:VEVENT
SUMMARY:【楽天ブックス限定特典+特典】マツリカの炯ーkE
 i- 天命華燭伝 オトメイト スイート BOX(アクリルプレー
 ト(A6サイズ)＋アクリルキーホルダー(10cm) ルヲ+【初回
 封入特典】デジタルボイスドラマ『尸解仙の夢幻戯具
 』)
DTSTART;VALUE=DATE:20260422
DTEND;VALUE=DATE:20260423
UID:318489443738
DESCRIPTION:2026-04-23【楽天ブックス限定特典+特典】マツリ
 カの炯ーkEi- 天命華燭伝 オトメイト スイート BOX(アク
 リルプレート(A6サイズ)＋アクリルキーホルダー(10cm) ル
 ヲ+【初回封入特典】デジタルボイスドラマ『尸解仙の
 夢幻戯具』)アイディアファクトリー
LOCATION:
END:VEVENT
BEGIN:VEVENT
SUMMARY:【特典】エルミナージュ ORIGINAL〜闇の巫女と神々
 の指輪〜(【早期購入外付特典】DLCチラシ)
DTSTART;VALUE=DATE:20260422
DTEND;VALUE=DATE:20260423
UID:881706593191
DESCRIPTION:2026-04-23【特典】エルミナージュ ORIGINAL〜闇の
 巫女と神々の指輪〜(【早期購入外付特典】DLCチラシ)メ
 ビウス
LOCATION:
END:VEVENT
BEGIN:VEVENT
SUMMARY:【特典】ぼくらのキングダム 時食む果実といに
 しえの魔物 限定版 PS5版(【初回外付特典】描き下ろしA4
 クリアファイル)
DTSTART;VALUE=DATE:20260422
DTEND;VALUE=DATE:20260423
UID:184251682863
DESCRIPTION:2026-04-23【特典】ぼくらのキングダム 時食む果
 実といにしえの魔物 限定版 PS5版(【初回外付特典】描
 き下ろしA4クリアファイル)インティ・クリエイツ
LOCATION:
END:VEVENT
BEGIN:VEVENT
SUMMARY:【特典】ぼくらのキングダム 時食む果実といに
 しえの魔物 限定版 Switch版(【初回外付特典】描き下ろ
 しA4クリアファイル)
DTSTART;VALUE=DATE:20260422
DTEND;VALUE=DATE:20260423
UID:322868134120
DESCRIPTION:2026-04-23【特典】ぼくらのキングダム 時食む果
 実といにしえの魔物 限定版 Switch版(【初回外付特典】
 描き下ろしA4クリアファイル)インティ・クリエイツ
LOCATION:
END:VEVENT
BEGIN:VEVENT
SUMMARY:【楽天ブックス限定特典】式神の城III(アクリル
 キーホルダー)
DTSTART;VALUE=DATE:20260422
DTEND;VALUE=DATE:20260423
UID:134915068216
DESCRIPTION:2026-04-23【楽天ブックス限定特典】式神の城III(
 アクリルキーホルダー)コスモマキアー
LOCATION:
END:VEVENT
BEGIN:VEVENT
SUMMARY:【楽天ブックス限定特典】式神の城トリロジー(3
 連アクリルキーホルダー)
DTSTART;VALUE=DATE:20260422
DTEND;VALUE=DATE:20260423
UID:135454795356
DESCRIPTION:2026-04-23【楽天ブックス限定特典】式神の城ト
 リロジー(3連アクリルキーホルダー)コスモマキアー
LOCATION:
END:VEVENT
BEGIN:VEVENT
SUMMARY:【特典】ぼくらのキングダム 時食む果実といに
 しえの魔物 PS5版(【初回外付特典】描き下ろしA4クリア
 ファイル)
DTSTART;VALUE=DATE:20260422
DTEND;VALUE=DATE:20260423
UID:327270785671
DESCRIPTION:2026-04-23【特典】ぼくらのキングダム 時食む果
 実といにしえの魔物 PS5版(【初回外付特典】描き下ろし
 A4クリアファイル)インティ・クリエイツ
LOCATION:
END:VEVENT
BEGIN:VEVENT
SUMMARY:【特典】ぼくらのキングダム 時食む果実といに
 しえの魔物 Switch版(【初回外付特典】描き下ろしA4クリ
 アファイル)
DTSTART;VALUE=DATE:20260422
DTEND;VALUE=DATE:20260423
UID:244683263595
DESCRIPTION:2026-04-23【特典】ぼくらのキングダム 時食む果
 実といにしえの魔物 Switch版(【初回外付特典】描き下ろ
 しA4クリアファイル)インティ・クリエイツ
LOCATION:
END:VEVENT
BEGIN:VEVENT
SUMMARY:終天教団 Nintendo Switch2 Edition
DTSTART;VALUE=DATE:20260422
DTEND;VALUE=DATE:20260423
UID:279743959557
DESCRIPTION:2026-04-23終天教団 Nintendo Switch2 EditionDMM GAMES
LOCATION:
END:VEVENT
BEGIN:VEVENT
SUMMARY:フロントミッション ザ・ファースト：リメイク 
 スマートプライス
DTSTART;VALUE=DATE:20260422
DTEND;VALUE=DATE:20260423
UID:281409328766
DESCRIPTION:2026-04-23フロントミッション ザ・ファースト：
 リメイク スマートプライスレイニーフロッグ
LOCATION:
END:VEVENT
BEGIN:VEVENT
SUMMARY:【特典】フロントミッション サード：リメイク P
 S5版(【予約特典】「フロントミッション リメイクシリ
 ーズ アートカード」3枚セット)
DTSTART;VALUE=DATE:20260422
DTEND;VALUE=DATE:20260423
UID:202011709602
DESCRIPTION:2026-04-23【特典】フロントミッション サード：
 リメイク PS5版(【予約特典】「フロントミッション リ
 メイクシリーズ アートカード」3枚セット)レイニーフ
 ロッグ
LOCATION:
END:VEVENT
BEGIN:VEVENT
SUMMARY:【特典】フロントミッション サード：リメイク P
 S4版(【予約特典】「フロントミッション リメイクシリ
 ーズ アートカード」3枚セット)
DTSTART;VALUE=DATE:20260422
DTEND;VALUE=DATE:20260423
UID:242569620616
DESCRIPTION:2026-04-23【特典】フロントミッション サード：
 リメイク PS4版(【予約特典】「フロントミッション リ
 メイクシリーズ アートカード」3枚セット)レイニーフ
 ロッグ
LOCATION:
END:VEVENT
BEGIN:VEVENT
SUMMARY:モノクロームメビウス 刻ノ代贖 新価格版 PS5版
DTSTART;VALUE=DATE:20260422
DTEND;VALUE=DATE:20260423
UID:186499915628
DESCRIPTION:2026-04-23モノクロームメビウス 刻ノ代贖 新価
 格版 PS5版アクアプラス
LOCATION:
END:VEVENT
BEGIN:VEVENT
SUMMARY:モノクロームメビウス 刻ノ代贖 新価格版 PS4版
DTSTART;VALUE=DATE:20260422
DTEND;VALUE=DATE:20260423
UID:185634267578
DESCRIPTION:2026-04-23モノクロームメビウス 刻ノ代贖 新価
 格版 PS4版アクアプラス
LOCATION:
END:VEVENT
BEGIN:VEVENT
SUMMARY:amiibo ディアナ 【プラグマタ】 （プラグマタシリ
 ーズ）
DTSTART;VALUE=DATE:20260423
DTEND;VALUE=DATE:20260424
UID:920646815663
DESCRIPTION:2026-04-24amiibo ディアナ 【プラグマタ】 （プラ
 グマタシリーズ）カプコン
LOCATION:
END:VEVENT
BEGIN:VEVENT
SUMMARY:【特典】プラグマタ switch2版(【早期購入封入特典
 】ダウンロードコード)
DTSTART;VALUE=DATE:20260423
DTEND;VALUE=DATE:20260424
UID:326283941747
DESCRIPTION:2026-04-24【特典】プラグマタ switch2版(【早期購
 入封入特典】ダウンロードコード)カプコン
LOCATION:
END:VEVENT
BEGIN:VEVENT
SUMMARY:【特典】プラグマタ デラックスエディション swit
 ch2版(【早期購入封入特典】ダウンロードコード)
DTSTART;VALUE=DATE:20260423
DTEND;VALUE=DATE:20260424
UID:328354546909
DESCRIPTION:2026-04-24【特典】プラグマタ デラックスエディ
 ション switch2版(【早期購入封入特典】ダウンロードコ
 ード)カプコン
LOCATION:
END:VEVENT
BEGIN:VEVENT
SUMMARY:PlayStation5 デジタル・エディション 日本語専用 Con
 sole Language: Japanese only - DualSense ワイヤレスコントローラ
 ー ダブルパック
DTSTART;VALUE=DATE:20260423
DTEND;VALUE=DATE:20260424
UID:940670703683
DESCRIPTION:2026-04-24PlayStation5 デジタル・エディション 日
 本語専用 Console Language: Japanese only - DualSense ワイヤレス
 コントローラー ダブルパックソニー・インタラクティ
 ブエンタテインメント
LOCATION:
END:VEVENT
BEGIN:VEVENT
SUMMARY:Nintendo Switch 2 専用スマートポーチEVA スーパーマ
 リオ（シルエット）
DTSTART;VALUE=DATE:20260427
DTEND;VALUE=DATE:20260428
UID:210050348665
DESCRIPTION:2026-04-28Nintendo Switch 2 専用スマートポーチEVA ス
 ーパーマリオ（シルエット）マックスゲームズ
LOCATION:
END:VEVENT
BEGIN:VEVENT
SUMMARY:Nintendo Switch 2 用カードケース カードポケット24 
 ハテナブロック
DTSTART;VALUE=DATE:20260427
DTEND;VALUE=DATE:20260428
UID:283144690067
DESCRIPTION:2026-04-28Nintendo Switch 2 用カードケース カードポ
 ケット24 ハテナブロックマックスゲームズ
LOCATION:
END:VEVENT
BEGIN:VEVENT
SUMMARY:CYBER ・ レトロマウスパッド （ Switch2 用）
DTSTART;VALUE=DATE:20260429
DTEND;VALUE=DATE:20260430
UID:141085183263
DESCRIPTION:2026-04CYBER ・ レトロマウスパッド （ Switch2 用
 ）サイバーガジェット
LOCATION:
END:VEVENT
BEGIN:VEVENT
SUMMARY:ノイズキャンセリングヘッドセット （ Switch2 ／ P
 C 用） ブラック
DTSTART;VALUE=DATE:20260429
DTEND;VALUE=DATE:20260430
UID:247923116847
DESCRIPTION:2026-04ノイズキャンセリングヘッドセット （ Sw
 itch2 ／ PC 用） ブラックタイプツー
LOCATION:
END:VEVENT
BEGIN:VEVENT
SUMMARY:【特典】シニガミ姫と異書館ノ怪物 Switch2版(【初
 回外付特典】木製しおり)
DTSTART;VALUE=DATE:20260429
DTEND;VALUE=DATE:20260430
UID:185966105786
DESCRIPTION:2026-04-30【特典】シニガミ姫と異書館ノ怪物 Swi
 tch2版(【初回外付特典】木製しおり)日本一ソフトウェ
 ア
LOCATION:
END:VEVENT
BEGIN:VEVENT
SUMMARY:【特典】シニガミ姫と異書館ノ怪物 Switch版(【初
 回外付特典】木製しおり)
DTSTART;VALUE=DATE:20260429
DTEND;VALUE=DATE:20260430
UID:172966453935
DESCRIPTION:2026-04-30【特典】シニガミ姫と異書館ノ怪物 Swi
 tch版(【初回外付特典】木製しおり)日本一ソフトウェア
LOCATION:
END:VEVENT
BEGIN:VEVENT
SUMMARY:【特典】シニガミ姫と異書館ノ怪物 PS5版(【初回
 外付特典】木製しおり)
DTSTART;VALUE=DATE:20260429
DTEND;VALUE=DATE:20260430
UID:249266393491
DESCRIPTION:2026-04-30【特典】シニガミ姫と異書館ノ怪物 PS5
 版(【初回外付特典】木製しおり)日本一ソフトウェア
LOCATION:
END:VEVENT
BEGIN:VEVENT
SUMMARY:【楽天ブックス限定特典】花束を君に贈ろうーKin
 senka-限定版(3連アクリルキーホルダー)
DTSTART;VALUE=DATE:20260429
DTEND;VALUE=DATE:20260430
UID:325216741297
DESCRIPTION:2026-04-30【楽天ブックス限定特典】花束を君に
 贈ろうーKinsenka-限定版(3連アクリルキーホルダー)ブシ
 ロード
LOCATION:
END:VEVENT
BEGIN:VEVENT
SUMMARY:【楽天ブックス限定特典】花束を君に贈ろうーKin
 senka-通常版(アクリルキーホルダー)
DTSTART;VALUE=DATE:20260429
DTEND;VALUE=DATE:20260430
UID:194191637899
DESCRIPTION:2026-04-30【楽天ブックス限定特典】花束を君に
 贈ろうーKinsenka-通常版(アクリルキーホルダー)ブシロー
 ド
LOCATION:
END:VEVENT
BEGIN:VEVENT
SUMMARY:花束を君に贈ろうーKinsenka-限定版
DTSTART;VALUE=DATE:20260429
DTEND;VALUE=DATE:20260430
UID:919353314166
DESCRIPTION:2026-04-30花束を君に贈ろうーKinsenka-限定版ブシ
 ロード
LOCATION:
END:VEVENT
BEGIN:VEVENT
SUMMARY:やがて散りゆく鏡の花へ
DTSTART;VALUE=DATE:20260429
DTEND;VALUE=DATE:20260430
UID:245004624547
DESCRIPTION:2026-04-30やがて散りゆく鏡の花へ工画堂スタジ
 オ
LOCATION:
END:VEVENT
BEGIN:VEVENT
SUMMARY:【特典】SAROS(【早期購入封入特典】ハンズ・オブ
 ・ショア アーマー)
DTSTART;VALUE=DATE:20260429
DTEND;VALUE=DATE:20260430
UID:181141400416
DESCRIPTION:2026-04-30【特典】SAROS(【早期購入封入特典】ハ
 ンズ・オブ・ショア アーマー)ソニー・インタラクティ
 ブエンタテインメント
LOCATION:
END:VEVENT
BEGIN:VEVENT
SUMMARY:【特典】セレクトオブリージュ 通常版(【初回外
 付特典】私服クリアしおりセット)
DTSTART;VALUE=DATE:20260429
DTEND;VALUE=DATE:20260430
UID:111645913234
DESCRIPTION:2026-04-30【特典】セレクトオブリージュ 通常版
 (【初回外付特典】私服クリアしおりセット)iMel
LOCATION:
END:VEVENT
BEGIN:VEVENT
SUMMARY:【特典】セレクトオブリージュ 初回限定特装版(
 【初回外付特典】私服クリアしおりセット)
DTSTART;VALUE=DATE:20260429
DTEND;VALUE=DATE:20260430
UID:201259462926
DESCRIPTION:2026-04-30【特典】セレクトオブリージュ 初回限
 定特装版(【初回外付特典】私服クリアしおりセット)iMe
 l
LOCATION:
END:VEVENT
BEGIN:VEVENT
SUMMARY:【特典】LoveR Kiss Endless Memories Nintendo Switch 2 Edition(
 【早期購入封入特典】DLCコード)
DTSTART;VALUE=DATE:20260429
DTEND;VALUE=DATE:20260430
UID:266197063991
DESCRIPTION:2026-04-30【特典】LoveR Kiss Endless Memories Nintendo Swi
 tch 2 Edition(【早期購入封入特典】DLCコード)ドラガミゲ
 ームス
LOCATION:
END:VEVENT
BEGIN:VEVENT
SUMMARY:制服カノジョ2 ひまり熱愛BOX 3点セット Switch版
DTSTART;VALUE=DATE:20260429
DTEND;VALUE=DATE:20260430
UID:121754957295
DESCRIPTION:2026-04-30制服カノジョ2 ひまり熱愛BOX 3点セット
  Switch版エンターグラム
LOCATION:
END:VEVENT
BEGIN:VEVENT
SUMMARY:制服カノジョ2 ひまり熱愛BOX ゲームセット Switch
 版
DTSTART;VALUE=DATE:20260429
DTEND;VALUE=DATE:20260430
UID:370398083229
DESCRIPTION:2026-04-30制服カノジョ2 ひまり熱愛BOX ゲームセ
 ット Switch版エンターグラム
LOCATION:
END:VEVENT
BEGIN:VEVENT
SUMMARY:ぽこ あ ポケモン ぷっくり ハイブリッドポーチ f
 or Nintendo Switch™ 2
DTSTART;VALUE=DATE:20260429
DTEND;VALUE=DATE:20260430
UID:608150125449
DESCRIPTION:2026-04ぽこ あ ポケモン ぷっくり ハイブリッド
 ポーチ for Nintendo Switch™ 2HORI
LOCATION:
END:VEVENT
BEGIN:VEVENT
SUMMARY:【楽天ブックス限定特典】やがて散りゆく鏡の花
 へ(アクリルキーホルダー)
DTSTART;VALUE=DATE:20260429
DTEND;VALUE=DATE:20260430
UID:324386834951
DESCRIPTION:2026-04-30【楽天ブックス限定特典】やがて散り
 ゆく鏡の花へ(アクリルキーホルダー)工画堂スタジオ
LOCATION:
END:VEVENT
BEGIN:VEVENT
SUMMARY:ワイヤードホリパッド TURBO for Nintendo Switch™ 2 META
 MON
DTSTART;VALUE=DATE:20260429
DTEND;VALUE=DATE:20260430
UID:187702967976
DESCRIPTION:2026-04ワイヤードホリパッド TURBO for Nintendo Switc
 h™ 2 METAMONHORI
LOCATION:
END:VEVENT
BEGIN:VEVENT
SUMMARY:デコレーションポーチ for Nintendo Switch™ 2 METAMON
DTSTART;VALUE=DATE:20260429
DTEND;VALUE=DATE:20260430
UID:332845010019
DESCRIPTION:2026-04デコレーションポーチ for Nintendo Switch™ 2
  METAMONHORI
LOCATION:
END:VEVENT
BEGIN:VEVENT
SUMMARY:【特典】CASSETTE BOY（カセットボーイ）(【初回封
 入特典】カセットボーイおすわりラバーキーホルダー)
DTSTART;VALUE=DATE:20260429
DTEND;VALUE=DATE:20260430
UID:167672754120
DESCRIPTION:2026-04-30【特典】CASSETTE BOY（カセットボーイ）(
 【初回封入特典】カセットボーイおすわりラバーキー
 ホルダー)ワンダーランドカザキリ
LOCATION:
END:VEVENT
BEGIN:VEVENT
SUMMARY:インディ・ジョーンズ/大いなる円環
DTSTART;VALUE=DATE:20260511
DTEND;VALUE=DATE:20260512
UID:717931453953
DESCRIPTION:2026-05-12インディ・ジョーンズ/大いなる円環日
 本マイクロソフト
LOCATION:
END:VEVENT
BEGIN:VEVENT
SUMMARY:サイヴァリア3 通常版 Switch2版
DTSTART;VALUE=DATE:20260520
DTEND;VALUE=DATE:20260521
UID:217983174072
DESCRIPTION:2026-05-21サイヴァリア3 通常版 Switch2版サクセス
LOCATION:
END:VEVENT
BEGIN:VEVENT
SUMMARY:サイヴァリア3 通常版 Switch版
DTSTART;VALUE=DATE:20260520
DTEND;VALUE=DATE:20260521
UID:218147410405
DESCRIPTION:2026-05-21サイヴァリア3 通常版 Switch版サクセス
LOCATION:
END:VEVENT
BEGIN:VEVENT
SUMMARY:サイヴァリア3 限定版 PS5版
DTSTART;VALUE=DATE:20260520
DTEND;VALUE=DATE:20260521
UID:165891006481
DESCRIPTION:2026-05-21サイヴァリア3 限定版 PS5版サクセス
LOCATION:
END:VEVENT
BEGIN:VEVENT
SUMMARY:サイヴァリア3 限定版 Switch版
DTSTART;VALUE=DATE:20260520
DTEND;VALUE=DATE:20260521
UID:131810489361
DESCRIPTION:2026-05-21サイヴァリア3 限定版 Switch版サクセス
LOCATION:
END:VEVENT
BEGIN:VEVENT
SUMMARY:サイヴァリア3 通常版 PS5版
DTSTART;VALUE=DATE:20260520
DTEND;VALUE=DATE:20260521
UID:333650368816
DESCRIPTION:2026-05-21サイヴァリア3 通常版 PS5版サクセス
LOCATION:
END:VEVENT
BEGIN:VEVENT
SUMMARY:サイヴァリア3 限定版 Switch2版
DTSTART;VALUE=DATE:20260520
DTEND;VALUE=DATE:20260521
UID:279091013365
DESCRIPTION:2026-05-21サイヴァリア3 限定版 Switch2版サクセス
LOCATION:
END:VEVENT
BEGIN:VEVENT
SUMMARY:【楽天ブックス限定特典】サイヴァリア3 限定版 
 Switch2版(両面アクリルキーホルダー)
DTSTART;VALUE=DATE:20260520
DTEND;VALUE=DATE:20260521
UID:244840819963
DESCRIPTION:2026-05-21【楽天ブックス限定特典】サイヴァリ
 ア3 限定版 Switch2版(両面アクリルキーホルダー)サクセ
 ス
LOCATION:
END:VEVENT
BEGIN:VEVENT
SUMMARY:【楽天ブックス限定特典】サイヴァリア3 通常版 
 Switch2版(両面アクリルキーホルダー)
DTSTART;VALUE=DATE:20260520
DTEND;VALUE=DATE:20260521
UID:687237570807
DESCRIPTION:2026-05-21【楽天ブックス限定特典】サイヴァリ
 ア3 通常版 Switch2版(両面アクリルキーホルダー)サクセ
 ス
LOCATION:
END:VEVENT
BEGIN:VEVENT
SUMMARY:【楽天ブックス限定特典】サイヴァリア3 限定版 
 PS5版(両面アクリルキーホルダー)
DTSTART;VALUE=DATE:20260520
DTEND;VALUE=DATE:20260521
UID:296818513498
DESCRIPTION:2026-05-21【楽天ブックス限定特典】サイヴァリ
 ア3 限定版 PS5版(両面アクリルキーホルダー)サクセス
LOCATION:
END:VEVENT
BEGIN:VEVENT
SUMMARY:【楽天ブックス限定特典】サイヴァリア3 限定版 
 Switch版(両面アクリルキーホルダー)
DTSTART;VALUE=DATE:20260520
DTEND;VALUE=DATE:20260521
UID:301069934953
DESCRIPTION:2026-05-21【楽天ブックス限定特典】サイヴァリ
 ア3 限定版 Switch版(両面アクリルキーホルダー)サクセス
LOCATION:
END:VEVENT
BEGIN:VEVENT
SUMMARY:【楽天ブックス限定特典】サイヴァリア3 通常版 
 PS5版(両面アクリルキーホルダー)
DTSTART;VALUE=DATE:20260520
DTEND;VALUE=DATE:20260521
UID:251572191070
DESCRIPTION:2026-05-21【楽天ブックス限定特典】サイヴァリ
 ア3 通常版 PS5版(両面アクリルキーホルダー)サクセス
LOCATION:
END:VEVENT
BEGIN:VEVENT
SUMMARY:【楽天ブックス限定特典】サイヴァリア3 通常版 
 Switch版(両面アクリルキーホルダー)
DTSTART;VALUE=DATE:20260520
DTEND;VALUE=DATE:20260521
UID:417665630850
DESCRIPTION:2026-05-21【楽天ブックス限定特典】サイヴァリ
 ア3 通常版 Switch版(両面アクリルキーホルダー)サクセス
LOCATION:
END:VEVENT
BEGIN:VEVENT
SUMMARY:【特典】FZ: Formation Z PS5版(【初回外付特典】小冊
 子「フォーメーションZ 公式ファンブック」)
DTSTART;VALUE=DATE:20260520
DTEND;VALUE=DATE:20260521
UID:176083689178
DESCRIPTION:2026-05-21【特典】FZ: Formation Z PS5版(【初回外付
 特典】小冊子「フォーメーションZ 公式ファンブック」
 )シティコネクション
LOCATION:
END:VEVENT
BEGIN:VEVENT
SUMMARY:【特典】FZ: Formation Z Switch2版(【初回外付特典】小
 冊子「フォーメーションZ 公式ファンブック」)
DTSTART;VALUE=DATE:20260520
DTEND;VALUE=DATE:20260521
UID:290163560161
DESCRIPTION:2026-05-21【特典】FZ: Formation Z Switch2版(【初回外
 付特典】小冊子「フォーメーションZ 公式ファンブック
 」)シティコネクション
LOCATION:
END:VEVENT
BEGIN:VEVENT
SUMMARY:【特典】FZ: Formation Z 数量限定版 PS5版(【初回外付
 特典】小冊子「フォーメーションZ 公式ファンブック」
 )
DTSTART;VALUE=DATE:20260520
DTEND;VALUE=DATE:20260521
UID:309943809652
DESCRIPTION:2026-05-21【特典】FZ: Formation Z 数量限定版 PS5版(
 【初回外付特典】小冊子「フォーメーションZ 公式ファ
 ンブック」)シティコネクション
LOCATION:
END:VEVENT
BEGIN:VEVENT
SUMMARY:【特典】FZ: Formation Z 数量限定版 Switch2版(【初回
 外付特典】小冊子「フォーメーションZ 公式ファンブッ
 ク」)
DTSTART;VALUE=DATE:20260520
DTEND;VALUE=DATE:20260521
UID:432626717996
DESCRIPTION:2026-05-21【特典】FZ: Formation Z 数量限定版 Switch2
 版(【初回外付特典】小冊子「フォーメーションZ 公式
 ファンブック」)シティコネクション
LOCATION:
END:VEVENT
BEGIN:VEVENT
SUMMARY:Tales of ARISE - Beyond the Dawn Edition
DTSTART;VALUE=DATE:20260520
DTEND;VALUE=DATE:20260521
UID:298091997168
DESCRIPTION:2026-05-21Tales of ARISE - Beyond the Dawn Editionバンダイ
 ナムコエンターテインメント
LOCATION:
END:VEVENT
BEGIN:VEVENT
SUMMARY:Terra Memoria PS5版
DTSTART;VALUE=DATE:20260520
DTEND;VALUE=DATE:20260521
UID:139627627102
DESCRIPTION:2026-05-21Terra Memoria PS5版SOFT SOURCE
LOCATION:
END:VEVENT
BEGIN:VEVENT
SUMMARY:Terra Memoria Switch版
DTSTART;VALUE=DATE:20260520
DTEND;VALUE=DATE:20260521
UID:176277212474
DESCRIPTION:2026-05-21Terra Memoria Switch版SOFT SOURCE
LOCATION:
END:VEVENT
BEGIN:VEVENT
SUMMARY:ヨッシーとフカシギの図鑑
DTSTART;VALUE=DATE:20260520
DTEND;VALUE=DATE:20260521
UID:569875294187
DESCRIPTION:2026-05-21ヨッシーとフカシギの図鑑任天堂
LOCATION:
END:VEVENT
BEGIN:VEVENT
SUMMARY:【楽天ブックス限定特典】ヨッシーとフカシギの
 図鑑(2連アクリルキーホルダー)
DTSTART;VALUE=DATE:20260520
DTEND;VALUE=DATE:20260521
UID:516281959829
DESCRIPTION:2026-05-21【楽天ブックス限定特典】ヨッシーと
 フカシギの図鑑(2連アクリルキーホルダー)任天堂
LOCATION:
END:VEVENT
BEGIN:VEVENT
SUMMARY:Farming Simulator 26: Nintendo Switch Edition
DTSTART;VALUE=DATE:20260520
DTEND;VALUE=DATE:20260521
UID:113134580111
DESCRIPTION:2026-05-21Farming Simulator 26: Nintendo Switch EditionGiants 
 Software
LOCATION:
END:VEVENT
END:VCALENDAR
