BEGIN:VCALENDAR
VERSION:2.0
PRODID:-//chikkutakku.com//RDFCal 1.0//EN
X-WR-CALDESC:GoogleカレンダーやiCalendar形式情報を共有シェ
 アしましょう。近所のイベントから全国のイベントま
 で今日のイベント検索やスケジュールを決めるならち
 っくたっく
X-WR-CALNAME:ちっくたっく
X-WR-TIMEZONE:UTC
BEGIN:VEVENT
SUMMARY:百姓貴族（9）アニメ3rd Season DVD付き 特装版
DTSTART;VALUE=DATE:20260423
DTEND;VALUE=DATE:20260424
UID:675343235529
DESCRIPTION:2026-04-24百姓貴族（9）アニメ3rd Season DVD付き 特
 装版荒川 弘新書館
LOCATION:
END:VEVENT
BEGIN:VEVENT
SUMMARY:百姓貴族（9）
DTSTART;VALUE=DATE:20260423
DTEND;VALUE=DATE:20260424
UID:138381782204
DESCRIPTION:2026-04-24百姓貴族（9）荒川 弘新書館
LOCATION:
END:VEVENT
BEGIN:VEVENT
SUMMARY:ビブリア古書堂の事件手帖V 〜扉子と謎めく夏〜
 （5）
DTSTART;VALUE=DATE:20260423
DTEND;VALUE=DATE:20260424
UID:174560563295
DESCRIPTION:2026-04-24ビブリア古書堂の事件手帖V 〜扉子と
 謎めく夏〜（5）三上 延KADOKAWA
LOCATION:
END:VEVENT
BEGIN:VEVENT
SUMMARY:モノノ怪 妄
DTSTART;VALUE=DATE:20260423
DTEND;VALUE=DATE:20260424
UID:194388361463
DESCRIPTION:2026-04-24モノノ怪 妄仁木 英之KADOKAWA
LOCATION:
END:VEVENT
BEGIN:VEVENT
SUMMARY:了巷説百物語
DTSTART;VALUE=DATE:20260423
DTEND;VALUE=DATE:20260424
UID:303974506566
DESCRIPTION:2026-04-24了巷説百物語京極 夏彦KADOKAWA
LOCATION:
END:VEVENT
BEGIN:VEVENT
SUMMARY:絵本百物語
DTSTART;VALUE=DATE:20260423
DTEND;VALUE=DATE:20260424
UID:305410102844
DESCRIPTION:2026-04-24絵本百物語京極 夏彦/竹原 春泉/桃山人
 KADOKAWA
LOCATION:
END:VEVENT
BEGIN:VEVENT
SUMMARY:猫君 りんねの輪
DTSTART;VALUE=DATE:20260423
DTEND;VALUE=DATE:20260424
UID:240036017206
DESCRIPTION:2026-04-24猫君 りんねの輪畠中 恵集英社
LOCATION:
END:VEVENT
BEGIN:VEVENT
SUMMARY:怪と幽 vol.022 2026年5月
DTSTART;VALUE=DATE:20260426
DTEND;VALUE=DATE:20260427
UID:257459245777
DESCRIPTION:2026-04-27怪と幽 vol.022 2026年5月京極 夏彦/綿矢 
 りさ/小川 洋子/澤村伊智/乙 一/山白 朝子KADOKAWA
LOCATION:
END:VEVENT
BEGIN:VEVENT
SUMMARY:『ファイナルファンタジーXIII』 アドラブルアー
 ツ ライトニング (フィギュア)
DTSTART;VALUE=DATE:20260429
DTEND;VALUE=DATE:20260430
UID:239808706879
DESCRIPTION:2026-04『ファイナルファンタジーXIII』 アドラ
 ブルアーツ ライトニング (フィギュア)スクウェア・エ
 ニックス
LOCATION:
END:VEVENT
BEGIN:VEVENT
SUMMARY:ブリングアーツ 『ファイナルファンタジーVII』 
 エアリス・ゲインズブール ミスリルロッドVer. (フィギ
 ュア)
DTSTART;VALUE=DATE:20260429
DTEND;VALUE=DATE:20260430
UID:129701010635
DESCRIPTION:2026-04ブリングアーツ 『ファイナルファンタジ
 ーVII』 エアリス・ゲインズブール ミスリルロッドVer. (
 フィギュア)スクウェア・エニックス
LOCATION:
END:VEVENT
BEGIN:VEVENT
SUMMARY:ファイナルファンタジー XIV ミュージックコレク
 ションキーチェーン バイナルシリーズ Vol. 2 1BOX=6個入
DTSTART;VALUE=DATE:20260429
DTEND;VALUE=DATE:20260430
UID:781036768782
DESCRIPTION:2026-04ファイナルファンタジー XIV ミュージッ
 クコレクションキーチェーン バイナルシリーズ Vol. 2 1B
 OX=6個入スクウェア・エニックス
LOCATION:
END:VEVENT
BEGIN:VEVENT
SUMMARY:ファイナルファンタジー XIV ミュージックコレク
 ションキーチェーン バイナルシリーズ Vol. 1 1BOX=6個入
DTSTART;VALUE=DATE:20260429
DTEND;VALUE=DATE:20260430
UID:987652688230
DESCRIPTION:2026-04ファイナルファンタジー XIV ミュージッ
 クコレクションキーチェーン バイナルシリーズ Vol. 1 1B
 OX=6個入スクウェア・エニックス
LOCATION:
END:VEVENT
BEGIN:VEVENT
SUMMARY:花燭の白 11巻
DTSTART;VALUE=DATE:20260429
DTEND;VALUE=DATE:20260430
UID:282045431223
DESCRIPTION:2026-04-30花燭の白 11巻高山 しのぶ一迅社
LOCATION:
END:VEVENT
BEGIN:VEVENT
SUMMARY:花燭の白 11巻 特装版
DTSTART;VALUE=DATE:20260429
DTEND;VALUE=DATE:20260430
UID:182421101616
DESCRIPTION:2026-04-30花燭の白 11巻 特装版高山 しのぶ一迅
 社
LOCATION:
END:VEVENT
BEGIN:VEVENT
SUMMARY:佐藤多佳子のシロガラス（6冊セット）
DTSTART;VALUE=DATE:20260429
DTEND;VALUE=DATE:20260430
UID:219495708655
DESCRIPTION:2026-04佐藤多佳子のシロガラス（6冊セット）佐
 藤多佳子偕成社
LOCATION:
END:VEVENT
BEGIN:VEVENT
SUMMARY:北北西に曇と往け 続の１
DTSTART;VALUE=DATE:20260429
DTEND;VALUE=DATE:20260430
UID:706791496566
DESCRIPTION:2026-04-30北北西に曇と往け 続の１入江 亜季雪
 割草
LOCATION:
END:VEVENT
BEGIN:VEVENT
SUMMARY:路地裏で拾われた真珠
DTSTART;VALUE=DATE:20260430
DTEND;VALUE=DATE:20260501
UID:325500889597
DESCRIPTION:2026-05-01路地裏で拾われた真珠もとなおこ/アン
 ・ヘリスハーパーコリンズ・ジャパン
LOCATION:
END:VEVENT
BEGIN:VEVENT
SUMMARY:まほうのおうち 4
DTSTART;VALUE=DATE:20260430
DTEND;VALUE=DATE:20260501
UID:181065203571
DESCRIPTION:2026-05-01まほうのおうち 4高尾 滋白泉社
LOCATION:
END:VEVENT
BEGIN:VEVENT
SUMMARY:曙橋三叉路白鳳喫茶室にて 5
DTSTART;VALUE=DATE:20260430
DTEND;VALUE=DATE:20260501
UID:288860723162
DESCRIPTION:2026-05-01曙橋三叉路白鳳喫茶室にて 5高尾 滋白
 泉社
LOCATION:
END:VEVENT
BEGIN:VEVENT
SUMMARY:東島丹三郎は仮面ライダーになりたい（18）
DTSTART;VALUE=DATE:20260506
DTEND;VALUE=DATE:20260507
UID:372417422592
DESCRIPTION:2026-05-07東島丹三郎は仮面ライダーになりたい
 （18）柴田 ヨクサルヒーローズ
LOCATION:
END:VEVENT
BEGIN:VEVENT
SUMMARY:僕だけが知ってるんだぜ（4）
DTSTART;VALUE=DATE:20260506
DTEND;VALUE=DATE:20260507
UID:112001800236
DESCRIPTION:2026-05-07僕だけが知ってるんだぜ（4）タアモ講
 談社
LOCATION:
END:VEVENT
BEGIN:VEVENT
SUMMARY:本屋さんのある街で
DTSTART;VALUE=DATE:20260507
DTEND;VALUE=DATE:20260508
UID:989695780670
DESCRIPTION:2026-05-08本屋さんのある街で凪良 ゆう/瀬尾 ま
 いこ/坂木 司/一穂 ミチ/三浦 しをん文藝春秋
LOCATION:
END:VEVENT
BEGIN:VEVENT
SUMMARY:黒薔薇アリスD．C．al fine（6）
DTSTART;VALUE=DATE:20260507
DTEND;VALUE=DATE:20260508
UID:160102940371
DESCRIPTION:2026-05-08黒薔薇アリスD．C．al fine（6）水城 せ
 とな小学館
LOCATION:
END:VEVENT
BEGIN:VEVENT
SUMMARY:CLAMP PREMIUM COLLECTION ANGELIC LAYER （1）
DTSTART;VALUE=DATE:20260508
DTEND;VALUE=DATE:20260509
UID:294744860819
DESCRIPTION:2026-05-09CLAMP PREMIUM COLLECTION ANGELIC LAYER （1）CLAMPK
 ADOKAWA
LOCATION:
END:VEVENT
BEGIN:VEVENT
SUMMARY:こころげそう
DTSTART;VALUE=DATE:20260510
DTEND;VALUE=DATE:20260511
UID:245155963966
DESCRIPTION:2026-05-11こころげそう畠中 恵PHP研究所
LOCATION:
END:VEVENT
BEGIN:VEVENT
SUMMARY:血契のアナスタシア 2
DTSTART;VALUE=DATE:20260513
DTEND;VALUE=DATE:20260514
UID:289106287783
DESCRIPTION:2026-05-14血契のアナスタシア 2冲方 丁/田中 ひ
 かるKADOKAWA
LOCATION:
END:VEVENT
BEGIN:VEVENT
SUMMARY:ブティック
DTSTART;VALUE=DATE:20260513
DTEND;VALUE=DATE:20260514
UID:149224060787
DESCRIPTION:2026-05-14ブティック池井戸 潤ダイヤモンド社
LOCATION:
END:VEVENT
BEGIN:VEVENT
SUMMARY:あめつちだれかれそこかしこ（11）
DTSTART;VALUE=DATE:20260514
DTEND;VALUE=DATE:20260515
UID:140772951147
DESCRIPTION:2026-05-15あめつちだれかれそこかしこ（11）青
 桐ナツマッグガーデン
LOCATION:
END:VEVENT
BEGIN:VEVENT
SUMMARY:シルバーマウンテン（4）
DTSTART;VALUE=DATE:20260517
DTEND;VALUE=DATE:20260518
UID:178973823758
DESCRIPTION:2026-05-18シルバーマウンテン（4）藤田 和日郎
 小学館
LOCATION:
END:VEVENT
BEGIN:VEVENT
SUMMARY:キングダム BOXセット 1 王都奪還編・蛇甘平原の
 戦い
DTSTART;VALUE=DATE:20260518
DTEND;VALUE=DATE:20260519
UID:895535529171
DESCRIPTION:2026-05-19キングダム BOXセット 1 王都奪還編・蛇
 甘平原の戦い原 泰久集英社
LOCATION:
END:VEVENT
BEGIN:VEVENT
SUMMARY:BLACK LAGOON 掃除屋ソーヤー 解体！ゴアゴア娘（11
 ）
DTSTART;VALUE=DATE:20260518
DTEND;VALUE=DATE:20260519
UID:959448845223
DESCRIPTION:2026-05-19BLACK LAGOON 掃除屋ソーヤー 解体！ゴア
 ゴア娘（11）イダ タツヒコ/広江 礼威小学館
LOCATION:
END:VEVENT
BEGIN:VEVENT
SUMMARY:キングダム 79
DTSTART;VALUE=DATE:20260518
DTEND;VALUE=DATE:20260519
UID:886359537306
DESCRIPTION:2026-05-19キングダム 79原 泰久集英社
LOCATION:
END:VEVENT
BEGIN:VEVENT
SUMMARY:柩の狩人
DTSTART;VALUE=DATE:20260519
DTEND;VALUE=DATE:20260520
UID:233518033319
DESCRIPTION:2026-05-20柩の狩人大沢 在昌幻冬舎
LOCATION:
END:VEVENT
BEGIN:VEVENT
SUMMARY:マルドゥック・アノニマス 11
DTSTART;VALUE=DATE:20260520
DTEND;VALUE=DATE:20260521
UID:195491170907
DESCRIPTION:2026-05-21マルドゥック・アノニマス 11冲方 丁早
 川書房
LOCATION:
END:VEVENT
BEGIN:VEVENT
SUMMARY:プレデター
DTSTART;VALUE=DATE:20260520
DTEND;VALUE=DATE:20260521
UID:108053390380
DESCRIPTION:2026-05-21プレデターあさの あつこ集英社
LOCATION:
END:VEVENT
END:VCALENDAR
