BEGIN:VCALENDAR
VERSION:2.0
PRODID:-//chikkutakku.com//RDFCal 1.0//EN
X-WR-CALDESC:GoogleカレンダーやiCalendar形式情報を共有シェ
 アしましょう。近所のイベントから全国のイベントま
 で今日のイベント検索やスケジュールを決めるならち
 っくたっく
X-WR-CALNAME:ちっくたっく
X-WR-TIMEZONE:UTC
BEGIN:VEVENT
SUMMARY:1、3
DTSTART;VALUE=DATE:20260421
DTEND;VALUE=DATE:20260422
UID:309365174596
DESCRIPTION:1、3
LOCATION:
END:VEVENT
BEGIN:VEVENT
SUMMARY:１１時1、3
DTSTART;VALUE=DATE:20260421
DTEND;VALUE=DATE:20260422
UID:326480143415
DESCRIPTION:１１時1、3
LOCATION:
END:VEVENT
BEGIN:VEVENT
SUMMARY:1、3
DTSTART;VALUE=DATE:20260421
DTEND;VALUE=DATE:20260422
UID:147206437643
DESCRIPTION:1、3
LOCATION:
END:VEVENT
BEGIN:VEVENT
SUMMARY:１１時1、3
DTSTART;VALUE=DATE:20260421
DTEND;VALUE=DATE:20260422
UID:176579143045
DESCRIPTION:１１時1、3
LOCATION:
END:VEVENT
BEGIN:VEVENT
SUMMARY:7、8
DTSTART;VALUE=DATE:20260423
DTEND;VALUE=DATE:20260424
UID:190209138978
DESCRIPTION:7、8
LOCATION:
END:VEVENT
BEGIN:VEVENT
SUMMARY:１１時7、10、8鉄
DTSTART;VALUE=DATE:20260423
DTEND;VALUE=DATE:20260424
UID:200435146021
DESCRIPTION:１１時7、10、8鉄
LOCATION:
END:VEVENT
BEGIN:VEVENT
SUMMARY:7、8
DTSTART;VALUE=DATE:20260423
DTEND;VALUE=DATE:20260424
UID:490075354537
DESCRIPTION:7、8
LOCATION:
END:VEVENT
BEGIN:VEVENT
SUMMARY:１１時7、10、8鉄
DTSTART;VALUE=DATE:20260423
DTEND;VALUE=DATE:20260424
UID:404758507797
DESCRIPTION:１１時7、10、8鉄
LOCATION:
END:VEVENT
BEGIN:VEVENT
SUMMARY:１１時8、9、10
DTSTART;VALUE=DATE:20260426
DTEND;VALUE=DATE:20260427
UID:208879047703
DESCRIPTION:１１時8、9、10
LOCATION:
END:VEVENT
BEGIN:VEVENT
SUMMARY:8，9，10
DTSTART;VALUE=DATE:20260426
DTEND;VALUE=DATE:20260427
UID:194240211256
DESCRIPTION:8，9，10
LOCATION:
END:VEVENT
BEGIN:VEVENT
SUMMARY:１１時8、9、10
DTSTART;VALUE=DATE:20260426
DTEND;VALUE=DATE:20260427
UID:260854319736
DESCRIPTION:１１時8、9、10
LOCATION:
END:VEVENT
BEGIN:VEVENT
SUMMARY:8，9，10
DTSTART;VALUE=DATE:20260426
DTEND;VALUE=DATE:20260427
UID:148922355212
DESCRIPTION:8，9，10
LOCATION:
END:VEVENT
BEGIN:VEVENT
SUMMARY:9時、未確保
DTSTART;VALUE=DATE:20260428
DTEND;VALUE=DATE:20260429
UID:306887374522
DESCRIPTION:9時、未確保
LOCATION:
END:VEVENT
BEGIN:VEVENT
SUMMARY:１１時高丘1、2
DTSTART;VALUE=DATE:20260428
DTEND;VALUE=DATE:20260429
UID:190102387477
DESCRIPTION:１１時高丘1、2
LOCATION:
END:VEVENT
BEGIN:VEVENT
SUMMARY:9時、未確保
DTSTART;VALUE=DATE:20260428
DTEND;VALUE=DATE:20260429
UID:124280780302
DESCRIPTION:9時、未確保
LOCATION:
END:VEVENT
BEGIN:VEVENT
SUMMARY:１１時高丘1、2
DTSTART;VALUE=DATE:20260428
DTEND;VALUE=DATE:20260429
UID:103724655766
DESCRIPTION:１１時高丘1、2
LOCATION:
END:VEVENT
BEGIN:VEVENT
SUMMARY:１１時1、2
DTSTART;VALUE=DATE:20260430
DTEND;VALUE=DATE:20260501
UID:286667665592
DESCRIPTION:１１時1、2
LOCATION:
END:VEVENT
BEGIN:VEVENT
SUMMARY:8、9
DTSTART;VALUE=DATE:20260430
DTEND;VALUE=DATE:20260501
UID:218781957818
DESCRIPTION:8、9
LOCATION:
END:VEVENT
BEGIN:VEVENT
SUMMARY:１１時1、2
DTSTART;VALUE=DATE:20260430
DTEND;VALUE=DATE:20260501
UID:287971412591
DESCRIPTION:１１時1、2
LOCATION:
END:VEVENT
BEGIN:VEVENT
SUMMARY:8、9
DTSTART;VALUE=DATE:20260430
DTEND;VALUE=DATE:20260501
UID:173525969342
DESCRIPTION:8、9
LOCATION:
END:VEVENT
BEGIN:VEVENT
SUMMARY:１１時1、2
DTSTART;VALUE=DATE:20260503
DTEND;VALUE=DATE:20260504
UID:166547863280
DESCRIPTION:１１時1、2
LOCATION:
END:VEVENT
BEGIN:VEVENT
SUMMARY:1、2
DTSTART;VALUE=DATE:20260503
DTEND;VALUE=DATE:20260504
UID:101981061791
DESCRIPTION:1、2
LOCATION:
END:VEVENT
BEGIN:VEVENT
SUMMARY:１１時1、2
DTSTART;VALUE=DATE:20260503
DTEND;VALUE=DATE:20260504
UID:301584124967
DESCRIPTION:１１時1、2
LOCATION:
END:VEVENT
BEGIN:VEVENT
SUMMARY:1、2
DTSTART;VALUE=DATE:20260503
DTEND;VALUE=DATE:20260504
UID:873400877882
DESCRIPTION:1、2
LOCATION:
END:VEVENT
BEGIN:VEVENT
SUMMARY:１１時高丘3、4
DTSTART;VALUE=DATE:20260505
DTEND;VALUE=DATE:20260506
UID:226961557508
DESCRIPTION:１１時高丘3、4
LOCATION:
END:VEVENT
BEGIN:VEVENT
SUMMARY:高丘1、3、4
DTSTART;VALUE=DATE:20260505
DTEND;VALUE=DATE:20260506
UID:207029369845
DESCRIPTION:高丘1、3、4
LOCATION:
END:VEVENT
BEGIN:VEVENT
SUMMARY:１１時高丘3、4
DTSTART;VALUE=DATE:20260505
DTEND;VALUE=DATE:20260506
UID:371298194375
DESCRIPTION:１１時高丘3、4
LOCATION:
END:VEVENT
BEGIN:VEVENT
SUMMARY:高丘1、3、4
DTSTART;VALUE=DATE:20260505
DTEND;VALUE=DATE:20260506
UID:631162506899
DESCRIPTION:高丘1、3、4
LOCATION:
END:VEVENT
BEGIN:VEVENT
SUMMARY:１１時1、2
DTSTART;VALUE=DATE:20260507
DTEND;VALUE=DATE:20260508
UID:108915536944
DESCRIPTION:１１時1、2
LOCATION:
END:VEVENT
BEGIN:VEVENT
SUMMARY:1、2、10
DTSTART;VALUE=DATE:20260507
DTEND;VALUE=DATE:20260508
UID:871172356593
DESCRIPTION:1、2、10
LOCATION:
END:VEVENT
BEGIN:VEVENT
SUMMARY:1、2、10
DTSTART;VALUE=DATE:20260507
DTEND;VALUE=DATE:20260508
UID:168314064389
DESCRIPTION:1、2、10
LOCATION:
END:VEVENT
BEGIN:VEVENT
SUMMARY:１１時1、2
DTSTART;VALUE=DATE:20260507
DTEND;VALUE=DATE:20260508
UID:248885330965
DESCRIPTION:１１時1、2
LOCATION:
END:VEVENT
BEGIN:VEVENT
SUMMARY:7、９、10
DTSTART;VALUE=DATE:20260510
DTEND;VALUE=DATE:20260511
UID:189488108355
DESCRIPTION:7、９、10
LOCATION:
END:VEVENT
BEGIN:VEVENT
SUMMARY:１１時8、10
DTSTART;VALUE=DATE:20260510
DTEND;VALUE=DATE:20260511
UID:273028513416
DESCRIPTION:１１時8、10
LOCATION:
END:VEVENT
BEGIN:VEVENT
SUMMARY:7、９、10
DTSTART;VALUE=DATE:20260510
DTEND;VALUE=DATE:20260511
UID:220260734817
DESCRIPTION:7、９、10
LOCATION:
END:VEVENT
BEGIN:VEVENT
SUMMARY:１１時8、10
DTSTART;VALUE=DATE:20260510
DTEND;VALUE=DATE:20260511
UID:265528518669
DESCRIPTION:１１時8、10
LOCATION:
END:VEVENT
BEGIN:VEVENT
SUMMARY:１１時3、4
DTSTART;VALUE=DATE:20260512
DTEND;VALUE=DATE:20260513
UID:295759213128
DESCRIPTION:１１時3、4
LOCATION:
END:VEVENT
BEGIN:VEVENT
SUMMARY:3、４
DTSTART;VALUE=DATE:20260512
DTEND;VALUE=DATE:20260513
UID:244058422758
DESCRIPTION:3、４
LOCATION:
END:VEVENT
BEGIN:VEVENT
SUMMARY:3、４
DTSTART;VALUE=DATE:20260512
DTEND;VALUE=DATE:20260513
UID:168397344309
DESCRIPTION:3、４
LOCATION:
END:VEVENT
BEGIN:VEVENT
SUMMARY:１１時3、4
DTSTART;VALUE=DATE:20260512
DTEND;VALUE=DATE:20260513
UID:590642829177
DESCRIPTION:１１時3、4
LOCATION:
END:VEVENT
BEGIN:VEVENT
SUMMARY:7、10
DTSTART;VALUE=DATE:20260514
DTEND;VALUE=DATE:20260515
UID:223848871052
DESCRIPTION:7、10
LOCATION:
END:VEVENT
BEGIN:VEVENT
SUMMARY:１１時10
DTSTART;VALUE=DATE:20260514
DTEND;VALUE=DATE:20260515
UID:599340588492
DESCRIPTION:１１時10
LOCATION:
END:VEVENT
BEGIN:VEVENT
SUMMARY:１１時10
DTSTART;VALUE=DATE:20260514
DTEND;VALUE=DATE:20260515
UID:131741306109
DESCRIPTION:１１時10
LOCATION:
END:VEVENT
BEGIN:VEVENT
SUMMARY:7、10
DTSTART;VALUE=DATE:20260514
DTEND;VALUE=DATE:20260515
UID:265907876653
DESCRIPTION:7、10
LOCATION:
END:VEVENT
BEGIN:VEVENT
SUMMARY:１１時９
DTSTART;VALUE=DATE:20260517
DTEND;VALUE=DATE:20260518
UID:897874297874
DESCRIPTION:１１時９
LOCATION:
END:VEVENT
BEGIN:VEVENT
SUMMARY:7、9
DTSTART;VALUE=DATE:20260517
DTEND;VALUE=DATE:20260518
UID:318062566373
DESCRIPTION:7、9
LOCATION:
END:VEVENT
BEGIN:VEVENT
SUMMARY:7、9
DTSTART;VALUE=DATE:20260517
DTEND;VALUE=DATE:20260518
UID:175230643093
DESCRIPTION:7、9
LOCATION:
END:VEVENT
BEGIN:VEVENT
SUMMARY:１１時９
DTSTART;VALUE=DATE:20260517
DTEND;VALUE=DATE:20260518
UID:129391324725
DESCRIPTION:１１時９
LOCATION:
END:VEVENT
BEGIN:VEVENT
SUMMARY:１１時3、4
DTSTART;VALUE=DATE:20260519
DTEND;VALUE=DATE:20260520
UID:223292757232
DESCRIPTION:１１時3、4
LOCATION:
END:VEVENT
BEGIN:VEVENT
SUMMARY:3、4、10
DTSTART;VALUE=DATE:20260519
DTEND;VALUE=DATE:20260520
UID:215744145225
DESCRIPTION:3、4、10
LOCATION:
END:VEVENT
BEGIN:VEVENT
SUMMARY:１１時3、4
DTSTART;VALUE=DATE:20260519
DTEND;VALUE=DATE:20260520
UID:419380635137
DESCRIPTION:１１時3、4
LOCATION:
END:VEVENT
BEGIN:VEVENT
SUMMARY:3、4、10
DTSTART;VALUE=DATE:20260519
DTEND;VALUE=DATE:20260520
UID:392285407069
DESCRIPTION:3、4、10
LOCATION:
END:VEVENT
END:VCALENDAR
