BEGIN:VCALENDAR
VERSION:2.0
PRODID:-//chikkutakku.com//RDFCal 1.0//EN
X-WR-CALDESC:GoogleカレンダーやiCalendar形式情報を共有シェ
 アしましょう。近所のイベントから全国のイベントま
 で今日のイベント検索やスケジュールを決めるならち
 っくたっく
X-WR-CALNAME:ちっくたっく
X-WR-TIMEZONE:UTC
BEGIN:VEVENT
SUMMARY:ONE PIECE CHOPPER’s 1
DTSTART;VALUE=DATE:20260422
DTEND;VALUE=DATE:20260423
UID:509516096181
DESCRIPTION:2026-04-23ONE PIECE CHOPPER’s 1「ONE PIECE」(原作:尾田
 栄一郎)より集英社
LOCATION:
END:VEVENT
BEGIN:VEVENT
SUMMARY:超合金魂 GX-119 『スーパーロボット大戦OG』 龍虎
 王／虎龍王 (塗装済み可動フィギュア)
DTSTART;VALUE=DATE:20260424
DTEND;VALUE=DATE:20260425
UID:612374620343
DESCRIPTION:2026-04-25超合金魂 GX-119 『スーパーロボット大
 戦OG』 龍虎王／虎龍王 (塗装済み可動フィギュア)バン
 ダイスピリッツ
LOCATION:
END:VEVENT
BEGIN:VEVENT
SUMMARY:超！弱虫ペダル展図録
DTSTART;VALUE=DATE:20260507
DTEND;VALUE=DATE:20260508
UID:885926893509
DESCRIPTION:2026-05-08超！弱虫ペダル展図録渡辺航秋田書店
LOCATION:
END:VEVENT
BEGIN:VEVENT
SUMMARY:弱虫ペダル 100
DTSTART;VALUE=DATE:20260507
DTEND;VALUE=DATE:20260508
UID:169989928961
DESCRIPTION:2026-05-08弱虫ペダル 100渡辺航秋田書店
LOCATION:
END:VEVENT
END:VCALENDAR
