BEGIN:VCALENDAR
VERSION:2.0
PRODID:-//chikkutakku.com//RDFCal 1.0//EN
X-WR-CALDESC:GoogleカレンダーやiCalendar形式情報を共有シェ
 アしましょう。近所のイベントから全国のイベントま
 で今日のイベント検索やスケジュールを決めるならち
 っくたっく
X-WR-CALNAME:ちっくたっく
X-WR-TIMEZONE:UTC
BEGIN:VEVENT
SUMMARY:大阪税関コラボイベント「まもろう！地球の仲間
 たち　～密輸から生き物たちをすくえ！～」
DTSTART;VALUE=DATE-TIME:20260425T010000Z
DTEND;VALUE=DATE-TIME:20260425T073000Z
UID:268312737100
DESCRIPTION:昨年に引き続き、「野生動植物の密輸防止」
 のさらなる周知・啓発を図るため、「野生動物の保護
 ・種の保存」を目的のひとつしている当園と大阪税関
 とでコラボイベントを実施することとなりました。は
 く製やパネルの展示、経済産業省職員と天王寺動物園
 のワシントン条約に関するコラボ講話など、学びの多
 いイベントとなっております。さらに今年は、大阪税
 関・神戸税関合同音楽隊の演奏も実施します。また、
 大阪税関キャラクター「カスタム君」や天王寺動物園
 オリジナルゆるキャラ「ゴーゴ君」によるＰＲも実施
 します。詳細はこちら
LOCATION:
END:VEVENT
BEGIN:VEVENT
SUMMARY:おはなしえん
DTSTART;VALUE=DATE-TIME:20260426T043000Z
DTEND;VALUE=DATE-TIME:20260426T050000Z
UID:791826562480
DESCRIPTION:天王寺動物園では、ビジネスパートナーであ
 る株式会社ギャレークルーによる朗読とお芝居のイベ
 ント「おはなしえん」を開催します。「おはなしえん
 」は、天王寺動物園にいる動物たちがでてくるおはな
 しを「朗読」と「お芝居」で楽しんでいただけます。
 大人の方も、お子さまも楽しんでいただけるイベント
 となっておりますので、ぜひご参加ください。開催場
 所TNNOJI ZOO MUSEUM　だいしんワクワクホール内容おはなし
 　『テンちゃんのさんぽ（アイファー編）』おしばい
 　『ワライカワセミに気をつけろ！』
LOCATION:
END:VEVENT
BEGIN:VEVENT
SUMMARY:おはなしえん
DTSTART;VALUE=DATE-TIME:20260426T063000Z
DTEND;VALUE=DATE-TIME:20260426T070000Z
UID:161405964039
DESCRIPTION:天王寺動物園では、ビジネスパートナーであ
 る株式会社ギャレークルーによる朗読とお芝居のイベ
 ント「おはなしえん」を開催します。「おはなしえん
 」は、天王寺動物園にいる動物たちがでてくるおはな
 しを「朗読」と「お芝居」で楽しんでいただけます。
 大人の方も、お子さまも楽しんでいただけるイベント
 となっておりますので、ぜひご参加ください。開催場
 所TNNOJI ZOO MUSEUM　だいしんワクワクホール内容おはなし
 　『テンちゃんのさんぽ（アイファー編）』おしばい
 　『ワライカワセミに気をつけろ！』
LOCATION:
END:VEVENT
BEGIN:VEVENT
SUMMARY:天王寺動物園×長居植物園「動物と植物のつなが
 り」図鑑づくりスタンプラリー
DTSTART;VALUE=DATE:20260420
DTEND;VALUE=DATE:20260426
UID:249101444853
DESCRIPTION:天王寺動物園（大阪市天王寺区）と大阪市立
 長居植物園（大阪市東住吉区）では、本年で6度目とな
 るコラボスタンプラリーを開催いたします！同じ地球
 上に生きる「動物」と「植物」。実は、名前の由来や
 好きな食べ物、生息地、特徴などにたくさんのつなが
 りがあるんです！そんな少しの「つながり」を学んで
 いただき、環境学習の機会を図ることを目的とした、
 大阪市の「都会のオアシス」として親しまれる両園で
 開催する毎年人気のスタンプラリーイベントです。詳
 細はこちら
LOCATION:
END:VEVENT
BEGIN:VEVENT
SUMMARY:休園日（Closed）
DTSTART;VALUE=DATE:20260426
DTEND;VALUE=DATE:20260427
UID:310346046074
DESCRIPTION:休園日（Closed）
LOCATION:
END:VEVENT
BEGIN:VEVENT
SUMMARY:おはなしえん
DTSTART;VALUE=DATE-TIME:20260429T043000Z
DTEND;VALUE=DATE-TIME:20260429T050000Z
UID:240769411871
DESCRIPTION:天王寺動物園では、ビジネスパートナーであ
 る株式会社ギャレークルーによる朗読とお芝居のイベ
 ント「おはなしえん」を開催します。「おはなしえん
 」は、天王寺動物園にいる動物たちがでてくるおはな
 しを「朗読」と「お芝居」で楽しんでいただけます。
 大人の方も、お子さまも楽しんでいただけるイベント
 となっておりますので、ぜひご参加ください。開催場
 所TNNOJI ZOO MUSEUM　だいしんワクワクホール内容おはなし
 　『テンちゃんのさんぽ（アイファー編）』おしばい
 　『ワライカワセミに気をつけろ！』
LOCATION:
END:VEVENT
BEGIN:VEVENT
SUMMARY:おはなしえん
DTSTART;VALUE=DATE-TIME:20260429T063000Z
DTEND;VALUE=DATE-TIME:20260429T070000Z
UID:331491901122
DESCRIPTION:天王寺動物園では、ビジネスパートナーであ
 る株式会社ギャレークルーによる朗読とお芝居のイベ
 ント「おはなしえん」を開催します。「おはなしえん
 」は、天王寺動物園にいる動物たちがでてくるおはな
 しを「朗読」と「お芝居」で楽しんでいただけます。
 大人の方も、お子さまも楽しんでいただけるイベント
 となっておりますので、ぜひご参加ください。開催場
 所TNNOJI ZOO MUSEUM　だいしんワクワクホール内容おはなし
 　『テンちゃんのさんぽ（アイファー編）』おしばい
 　『ワライカワセミに気をつけろ！』
LOCATION:
END:VEVENT
BEGIN:VEVENT
SUMMARY:第3回「みんなで守ろう！海わたる鳥」展
DTSTART;VALUE=DATE-TIME:20260430T040000Z
DTEND;VALUE=DATE-TIME:20260430T093000Z
UID:104708822076
DESCRIPTION:現在の大阪湾岸の干潟や湿地などの自然の状
 況やネイチャーポジティブの候補地となるフィールド
 などを渡り鳥の写真と共にパネル展示で紹介します。
LOCATION:TENNOJI ZOO MUSEUM　だいしんワクワクホール大
END:VEVENT
BEGIN:VEVENT
SUMMARY:【オンライン講演会】国際マカクウィーク特別イ
 ベント　シシオザル －動物園とインドの森をつなぐ－
DTSTART;VALUE=DATE-TIME:20260502T050000Z
DTEND;VALUE=DATE-TIME:20260502T060000Z
UID:111864678947
DESCRIPTION:5月1日～7日は”国際マカクウィーク”🐒マカ
 ク（霊長目オナガザル科マカク属のサルのなかま）に
 ついて知り、保全を推進するための国際的なキャンペ
 ーンです❣オンラインセミナーとして、日本の動物園
 のシシオザルのこと、野生で暮らすインドのシシオザ
 ルのようすを紹介🌳🌳お話の内容は…「シシオザルに
 活き活きと暮らしてもらう～飼育管理の工夫～」「私
 が出会った野生のシシオザル」インドの研究者からの
 メッセージも紹介予定🤭YouTube配信はコチラ↓↓https://y
 outube.com/live/l1D-86XeWf0?feature=share
LOCATION:YouTube
END:VEVENT
BEGIN:VEVENT
SUMMARY:臨時開園日(Opend)
DTSTART;VALUE=DATE:20260504
DTEND;VALUE=DATE:20260505
UID:555610065762
DESCRIPTION:臨時開園日(Opend)
LOCATION:
END:VEVENT
BEGIN:VEVENT
SUMMARY:第3回「みんなで守ろう！海わたる鳥」展
DTSTART;VALUE=DATE:20260430
DTEND;VALUE=DATE:20260508
UID:213461612910
DESCRIPTION:現在の大阪湾岸の干潟や湿地などの自然の状
 況やネイチャーポジティブの候補地となるフィールド
 などを渡り鳥の写真と共にパネル展示で紹介します。
LOCATION:TENNOJI ZOO MUSEUM　だいしんワクワクホール大
END:VEVENT
BEGIN:VEVENT
SUMMARY:休園日（Closed）
DTSTART;VALUE=DATE:20260510
DTEND;VALUE=DATE:20260511
UID:225020756911
DESCRIPTION:休園日（Closed）
LOCATION:
END:VEVENT
BEGIN:VEVENT
SUMMARY:絵本の読み語り
DTSTART;VALUE=DATE-TIME:20260518T150000Z
DTEND;VALUE=DATE-TIME:20260518T150000Z
UID:145801751792
DESCRIPTION:絵本の読み語りボランティアグループの「Ｚ
 ＯＯ人」（ずーっと）の皆さんが楽しい動物の絵本の
 読み語りを行います。
LOCATION:
END:VEVENT
BEGIN:VEVENT
SUMMARY:休園日（Closed）
DTSTART;VALUE=DATE:20260517
DTEND;VALUE=DATE:20260518
UID:135366196619
DESCRIPTION:休園日（Closed）
LOCATION:
END:VEVENT
END:VCALENDAR
