BEGIN:VCALENDAR
VERSION:2.0
PRODID:-//chikkutakku.com//RDFCal 1.0//EN
X-WR-CALDESC:GoogleカレンダーやiCalendar形式情報を共有シェ
 アしましょう。近所のイベントから全国のイベントま
 で今日のイベント検索やスケジュールを決めるならち
 っくたっく
X-WR-CALNAME:ちっくたっく
X-WR-TIMEZONE:UTC
BEGIN:VEVENT
SUMMARY:野ばらの村のぬりえ ねずみたちの楽しい田園暮
 らし
DTSTART;VALUE=DATE:20260426
DTEND;VALUE=DATE:20260427
UID:177768691377
DESCRIPTION:2026-04-27野ばらの村のぬりえ ねずみたちの楽し
 い田園暮らしジル・バークレムホビージャパン
LOCATION:
END:VEVENT
BEGIN:VEVENT
SUMMARY:更年期を科学する
DTSTART;VALUE=DATE:20260426
DTEND;VALUE=DATE:20260427
UID:586496152767
DESCRIPTION:2026-04-27更年期を科学するフィリッパ ケイ/対
 馬 ルリ子東京書籍
LOCATION:
END:VEVENT
BEGIN:VEVENT
SUMMARY:EU［第5版］
DTSTART;VALUE=DATE:20260427
DTEND;VALUE=DATE:20260428
UID:243216436787
DESCRIPTION:2026-04-28EU［第5版］鷲江 義勝創元社
LOCATION:
END:VEVENT
BEGIN:VEVENT
SUMMARY:心理学史
DTSTART;VALUE=DATE:20260427
DTEND;VALUE=DATE:20260428
UID:672231790490
DESCRIPTION:2026-04-28心理学史今田 寛/澤 幸祐培風館
LOCATION:
END:VEVENT
BEGIN:VEVENT
SUMMARY:デズモンド・イーガン対訳詩集 音楽
DTSTART;VALUE=DATE:20260429
DTEND;VALUE=DATE:20260430
UID:530760889351
DESCRIPTION:2026-04-30デズモンド・イーガン対訳詩集 音楽デ
 ズモンド・イーガン/高橋 美帆関西大学出版部
LOCATION:
END:VEVENT
BEGIN:VEVENT
SUMMARY:大学紛争と大学改革の国際比較
DTSTART;VALUE=DATE:20260429
DTEND;VALUE=DATE:20260430
UID:276420003424
DESCRIPTION:2026-04-30大学紛争と大学改革の国際比較羽田貴
 史/戸村理/蝶慎一/井上美香子/渡辺かよ子/福石賢一東北
 大学出版会
LOCATION:
END:VEVENT
BEGIN:VEVENT
SUMMARY:フォニックスイギリス英語リスニング Book 1
DTSTART;VALUE=DATE:20260430
DTEND;VALUE=DATE:20260501
UID:240864682105
DESCRIPTION:2026-05-01フォニックスイギリス英語リスニング 
 Book 1ジュミック今井クロスメディア・ランゲージ
LOCATION:
END:VEVENT
BEGIN:VEVENT
SUMMARY:【POD】ルボン山と町打場の物語
DTSTART;VALUE=DATE:20260502
DTEND;VALUE=DATE:20260503
UID:247841540413
DESCRIPTION:2026-05-03【POD】ルボン山と町打場の物語大矢 敏
 夫デザインエッグ株式会社
LOCATION:
END:VEVENT
BEGIN:VEVENT
SUMMARY:政治と音楽2
DTSTART;VALUE=DATE:20260506
DTEND;VALUE=DATE:20260507
UID:161714290704
DESCRIPTION:2026-05-07政治と音楽2半澤 朝彦晃洋書房
LOCATION:
END:VEVENT
BEGIN:VEVENT
SUMMARY:CNN ENGLISH EXPRESS (イングリッシュ・エクスプレス) 2
 026年 6月号 [雑誌]
DTSTART;VALUE=DATE:20260506
DTEND;VALUE=DATE:20260507
UID:332522082329
DESCRIPTION:2026-05-07CNN ENGLISH EXPRESS (イングリッシュ・エク
 スプレス) 2026年 6月号 [雑誌]朝日出版社
LOCATION:
END:VEVENT
BEGIN:VEVENT
SUMMARY:創約 とある魔術の禁書目録（15）
DTSTART;VALUE=DATE:20260508
DTEND;VALUE=DATE:20260509
UID:347285458429
DESCRIPTION:2026-05-09創約 とある魔術の禁書目録（15）鎌池 
 和馬/はいむら きよたかKADOKAWA
LOCATION:
END:VEVENT
BEGIN:VEVENT
SUMMARY:教室マインドフルネス
DTSTART;VALUE=DATE:20260510
DTEND;VALUE=DATE:20260511
UID:215946779543
DESCRIPTION:2026-05-11教室マインドフルネス太田千瑞東洋館
 出版社
LOCATION:
END:VEVENT
BEGIN:VEVENT
SUMMARY:ワンダーキッド・レオ セレクション編 2巻 -平凡
 なサッカー少年がイギリスの地で 世界最高峰リーグに
 挑む話ー
DTSTART;VALUE=DATE:20260511
DTEND;VALUE=DATE:20260512
UID:335426078865
DESCRIPTION:2026-05-12ワンダーキッド・レオ セレクション編
  2巻 -平凡なサッカー少年がイギリスの地で 世界最高峰
 リーグに挑む話ーT・Z・レイトン/庭田よう子カンゼン
LOCATION:
END:VEVENT
BEGIN:VEVENT
SUMMARY:ワンダーキッド・レオ セレクション編1巻 -平凡
 なサッカー少年がイギリスの地で世界最高峰リーグに
 挑む話ー
DTSTART;VALUE=DATE:20260511
DTEND;VALUE=DATE:20260512
UID:317547303199
DESCRIPTION:2026-05-12ワンダーキッド・レオ セレクション編
 1巻 -平凡なサッカー少年がイギリスの地で世界最高峰
 リーグに挑む話ーT・Z・レイトン/庭田よう子カンゼン
LOCATION:
END:VEVENT
BEGIN:VEVENT
SUMMARY:革命のヨーロッパ
DTSTART;VALUE=DATE:20260512
DTEND;VALUE=DATE:20260513
UID:974317437468
DESCRIPTION:2026-05-13革命のヨーロッパオイゲン＝ローゼン
 シュトック＝ヒュシー/宮島直樹刀水書房
LOCATION:
END:VEVENT
BEGIN:VEVENT
SUMMARY:世俗歌集 北原白秋のまざあ・ぐうす
DTSTART;VALUE=DATE:20260513
DTEND;VALUE=DATE:20260514
UID:218081801267
DESCRIPTION:2026-05-14世俗歌集 北原白秋のまざあ・ぐうす會
 田瑞樹株式会社音楽之友社
LOCATION:
END:VEVENT
BEGIN:VEVENT
SUMMARY:脊椎の非対称性と脊柱側弯症
DTSTART;VALUE=DATE:20260514
DTEND;VALUE=DATE:20260515
UID:273683482402
DESCRIPTION:2026-05-15脊椎の非対称性と脊柱側弯症Suzanne Cleme
 nts Martin/中村 眞二現代書林
LOCATION:
END:VEVENT
BEGIN:VEVENT
SUMMARY:中間支援組織の有用性と可能性
DTSTART;VALUE=DATE:20260514
DTEND;VALUE=DATE:20260515
UID:856787947676
DESCRIPTION:2026-05-15中間支援組織の有用性と可能性遅 力榕
 晃洋書房
LOCATION:
END:VEVENT
BEGIN:VEVENT
SUMMARY:季刊民族学196 特集 フィールドで読み解くラテン
 アメリカ文学
DTSTART;VALUE=DATE:20260514
DTEND;VALUE=DATE:20260515
UID:432437304240
DESCRIPTION:2026-05-15季刊民族学196 特集 フィールドで読み
 解くラテンアメリカ文学安保寛尚/藤井健太朗/仁平ふく
 み/鋤柄史子/安原瑛治/新谷和輝/山田美雪/山辺弦/棚瀬
 あずさ/南映子/川瀬慈千里文化財団
LOCATION:
END:VEVENT
BEGIN:VEVENT
SUMMARY:【改訂版】英語学：現代英語をより深く知るため
 に
DTSTART;VALUE=DATE:20260517
DTEND;VALUE=DATE:20260518
UID:526012131908
DESCRIPTION:2026-05-18【改訂版】英語学：現代英語をより深
 く知るために菊池清明春風社
LOCATION:
END:VEVENT
BEGIN:VEVENT
SUMMARY:みんなのためのパレスチナ入門（1104）
DTSTART;VALUE=DATE:20260518
DTEND;VALUE=DATE:20260519
UID:100776938847
DESCRIPTION:2026-05-19みんなのためのパレスチナ入門（1104）
 エリアス・サンバー/杉村 昌昭平凡社
LOCATION:
END:VEVENT
BEGIN:VEVENT
SUMMARY:貧困に抗うリベラリズム
DTSTART;VALUE=DATE:20260518
DTEND;VALUE=DATE:20260519
UID:292618461549
DESCRIPTION:2026-05-19貧困に抗うリベラリズム寺尾範野慶應
 義塾大学出版会
LOCATION:
END:VEVENT
BEGIN:VEVENT
SUMMARY:狼皇子と嘘つきな結婚 5
DTSTART;VALUE=DATE:20260519
DTEND;VALUE=DATE:20260520
UID:259919342003
DESCRIPTION:2026-05-20狼皇子と嘘つきな結婚 5音 久無白泉社
LOCATION:
END:VEVENT
BEGIN:VEVENT
SUMMARY:A CUP OF TEA＆ FLOWERS 紅茶と花の香る暮らし
DTSTART;VALUE=DATE:20260519
DTEND;VALUE=DATE:20260520
UID:339616011627
DESCRIPTION:2026-05-20A CUP OF TEA＆ FLOWERS 紅茶と花の香る暮ら
 し中西 玲子ポプラ社
LOCATION:
END:VEVENT
BEGIN:VEVENT
SUMMARY:鉄道から見たインド発展の軌跡
DTSTART;VALUE=DATE:20260522
DTEND;VALUE=DATE:20260523
UID:328427634087
DESCRIPTION:2026-05-23鉄道から見たインド発展の軌跡高津俊
 司成山堂書店
LOCATION:
END:VEVENT
END:VCALENDAR
