BEGIN:VCALENDAR
VERSION:2.0
PRODID:-//chikkutakku.com//RDFCal 1.0//EN
X-WR-CALDESC:GoogleカレンダーやiCalendar形式情報を共有シェ
 アしましょう。近所のイベントから全国のイベントま
 で今日のイベント検索やスケジュールを決めるならち
 っくたっく
X-WR-CALNAME:ちっくたっく
X-WR-TIMEZONE:UTC
BEGIN:VEVENT
SUMMARY:夏迷宮
DTSTART;VALUE=DATE:20260422
DTEND;VALUE=DATE:20260423
UID:307585984374
DESCRIPTION:2026-04-23夏迷宮古川 日出男講談社
LOCATION:
END:VEVENT
BEGIN:VEVENT
SUMMARY:烏と孔雀
DTSTART;VALUE=DATE:20260423
DTEND;VALUE=DATE:20260424
UID:538250508280
DESCRIPTION:2026-04-24烏と孔雀津原 泰水河出書房新社
LOCATION:
END:VEVENT
BEGIN:VEVENT
SUMMARY:了巷説百物語
DTSTART;VALUE=DATE:20260423
DTEND;VALUE=DATE:20260424
UID:195567652011
DESCRIPTION:2026-04-24了巷説百物語京極 夏彦KADOKAWA
LOCATION:
END:VEVENT
BEGIN:VEVENT
SUMMARY:絵本百物語
DTSTART;VALUE=DATE:20260423
DTEND;VALUE=DATE:20260424
UID:301620470677
DESCRIPTION:2026-04-24絵本百物語京極 夏彦/竹原 春泉/桃山人
 KADOKAWA
LOCATION:
END:VEVENT
BEGIN:VEVENT
SUMMARY:鉄鍋のジャン！R　頂上作戦　1
DTSTART;VALUE=DATE:20260423
DTEND;VALUE=DATE:20260424
UID:155337484501
DESCRIPTION:2026-04-24鉄鍋のジャン！R　頂上作戦　1西条真
 二/おやまけいこKADOKAWA
LOCATION:
END:VEVENT
BEGIN:VEVENT
SUMMARY:鉄鍋のジャン！R　頂上作戦　2
DTSTART;VALUE=DATE:20260423
DTEND;VALUE=DATE:20260424
UID:150224161154
DESCRIPTION:2026-04-24鉄鍋のジャン！R　頂上作戦　2西条真
 二/おやまけいこKADOKAWA
LOCATION:
END:VEVENT
BEGIN:VEVENT
SUMMARY:鉄鍋のジャン！R　頂上作戦　3
DTSTART;VALUE=DATE:20260423
DTEND;VALUE=DATE:20260424
UID:202069741694
DESCRIPTION:2026-04-24鉄鍋のジャン！R　頂上作戦　3西条真
 二/おやまけいこKADOKAWA
LOCATION:
END:VEVENT
BEGIN:VEVENT
SUMMARY:鉄鍋のジャン！R　頂上作戦　4
DTSTART;VALUE=DATE:20260423
DTEND;VALUE=DATE:20260424
UID:368417613529
DESCRIPTION:2026-04-24鉄鍋のジャン！R　頂上作戦　4西条真
 二/おやまけいこKADOKAWA
LOCATION:
END:VEVENT
BEGIN:VEVENT
SUMMARY:鉄鍋のジャン！R　頂上作戦　5
DTSTART;VALUE=DATE:20260423
DTEND;VALUE=DATE:20260424
UID:139324500684
DESCRIPTION:2026-04-24鉄鍋のジャン！R　頂上作戦　5西条真
 二/おやまけいこKADOKAWA
LOCATION:
END:VEVENT
BEGIN:VEVENT
SUMMARY:鉄鍋のジャン！R　頂上作戦　6
DTSTART;VALUE=DATE:20260423
DTEND;VALUE=DATE:20260424
UID:154506880352
DESCRIPTION:2026-04-24鉄鍋のジャン！R　頂上作戦　6西条真
 二/おやまけいこKADOKAWA
LOCATION:
END:VEVENT
BEGIN:VEVENT
SUMMARY:鉄鍋のジャン！R　頂上作戦　7
DTSTART;VALUE=DATE:20260423
DTEND;VALUE=DATE:20260424
UID:928545822887
DESCRIPTION:2026-04-24鉄鍋のジャン！R　頂上作戦　7西条真
 二/おやまけいこKADOKAWA
LOCATION:
END:VEVENT
BEGIN:VEVENT
SUMMARY:鉄鍋のジャン！R　頂上作戦　8
DTSTART;VALUE=DATE:20260423
DTEND;VALUE=DATE:20260424
UID:283442033956
DESCRIPTION:2026-04-24鉄鍋のジャン！R　頂上作戦　8西条真
 二/おやまけいこKADOKAWA
LOCATION:
END:VEVENT
BEGIN:VEVENT
SUMMARY:鉄鍋のジャン！R　頂上作戦　9
DTSTART;VALUE=DATE:20260423
DTEND;VALUE=DATE:20260424
UID:203893384447
DESCRIPTION:2026-04-24鉄鍋のジャン！R　頂上作戦　9西条真
 二/おやまけいこKADOKAWA
LOCATION:
END:VEVENT
BEGIN:VEVENT
SUMMARY:鉄鍋のジャン！R　頂上作戦　10
DTSTART;VALUE=DATE:20260423
DTEND;VALUE=DATE:20260424
UID:105605595491
DESCRIPTION:2026-04-24鉄鍋のジャン！R　頂上作戦　10西条真
 二/おやまけいこKADOKAWA
LOCATION:
END:VEVENT
BEGIN:VEVENT
SUMMARY:「巷説百物語」シリーズ【全7冊合本版】
DTSTART;VALUE=DATE:20260423
DTEND;VALUE=DATE:20260424
UID:691082571420
DESCRIPTION:2026-04-24「巷説百物語」シリーズ【全7冊合本版
 】京極夏彦KADOKAWA
LOCATION:
END:VEVENT
BEGIN:VEVENT
SUMMARY:船頭安五郎（一巻）
DTSTART;VALUE=DATE:20260426
DTEND;VALUE=DATE:20260427
UID:166286226283
DESCRIPTION:2026-04-27船頭安五郎（一巻）黒田 硫黄リイド社
LOCATION:
END:VEVENT
BEGIN:VEVENT
SUMMARY:怪と幽 vol.022 2026年5月
DTSTART;VALUE=DATE:20260426
DTEND;VALUE=DATE:20260427
UID:320468392470
DESCRIPTION:2026-04-27怪と幽 vol.022 2026年5月京極 夏彦/綿矢 
 りさ/小川 洋子/澤村伊智/乙 一/山白 朝子KADOKAWA
LOCATION:
END:VEVENT
BEGIN:VEVENT
SUMMARY:怪と幽　vol.022　2026年5月
DTSTART;VALUE=DATE:20260426
DTEND;VALUE=DATE:20260427
UID:105249687026
DESCRIPTION:2026-04-27怪と幽　vol.022　2026年5月京極夏彦/綿矢
 りさ/小川洋子/澤村伊智/乙一/山白朝子/荒俣宏/諸星大
 二郎/高橋葉介/押切蓮介/東雅夫/加門七海KADOKAWA
LOCATION:
END:VEVENT
BEGIN:VEVENT
SUMMARY:はぐれアイドル地獄変 （19）
DTSTART;VALUE=DATE:20260427
DTEND;VALUE=DATE:20260428
UID:299592389365
DESCRIPTION:2026-04-28はぐれアイドル地獄変 （19）高遠 るい
 日本文芸社
LOCATION:
END:VEVENT
BEGIN:VEVENT
SUMMARY:はぐれアイドル地獄変 19
DTSTART;VALUE=DATE:20260427
DTEND;VALUE=DATE:20260428
UID:323005058424
DESCRIPTION:2026-04-28はぐれアイドル地獄変 19高遠るい日本
 文芸社
LOCATION:
END:VEVENT
BEGIN:VEVENT
SUMMARY:逃げ上手の若君 25
DTSTART;VALUE=DATE:20260430
DTEND;VALUE=DATE:20260501
UID:288788400761
DESCRIPTION:2026-05-01逃げ上手の若君 25松井 優征集英社
LOCATION:
END:VEVENT
BEGIN:VEVENT
SUMMARY:東島丹三郎は仮面ライダーになりたい（18）
DTSTART;VALUE=DATE:20260506
DTEND;VALUE=DATE:20260507
UID:133458139479
DESCRIPTION:2026-05-07東島丹三郎は仮面ライダーになりたい
 （18）柴田 ヨクサルヒーローズ
LOCATION:
END:VEVENT
BEGIN:VEVENT
SUMMARY:星の教室
DTSTART;VALUE=DATE:20260514
DTEND;VALUE=DATE:20260515
UID:153522957049
DESCRIPTION:2026-05-15星の教室高田 郁角川春樹事務所
LOCATION:
END:VEVENT
BEGIN:VEVENT
SUMMARY:もえこと畑とお寺ごはん 1
DTSTART;VALUE=DATE:20260514
DTEND;VALUE=DATE:20260515
UID:269203999865
DESCRIPTION:2026-05-15もえこと畑とお寺ごはん 1青江覚峰/か
 ねもりあやみ/久住昌之秋田書店
LOCATION:
END:VEVENT
BEGIN:VEVENT
SUMMARY:シルバーマウンテン（4）
DTSTART;VALUE=DATE:20260517
DTEND;VALUE=DATE:20260518
UID:222172071587
DESCRIPTION:2026-05-18シルバーマウンテン（4）藤田 和日郎
 小学館
LOCATION:
END:VEVENT
BEGIN:VEVENT
SUMMARY:慰謝料狩り 5
DTSTART;VALUE=DATE:20260518
DTEND;VALUE=DATE:20260519
UID:168480497061
DESCRIPTION:2026-05-19慰謝料狩り 5きづきあきら＋サトウナ
 ンキ集英社
LOCATION:
END:VEVENT
BEGIN:VEVENT
SUMMARY:チャンピオン RED (レッド) 2026年 7月号 [雑誌]
DTSTART;VALUE=DATE:20260518
DTEND;VALUE=DATE:20260519
UID:145080420291
DESCRIPTION:2026-05-19チャンピオン RED (レッド) 2026年 7月号 [
 雑誌]秋田書店
LOCATION:
END:VEVENT
END:VCALENDAR
