BEGIN:VCALENDAR
VERSION:2.0
PRODID:-//chikkutakku.com//RDFCal 1.0//EN
X-WR-CALDESC:GoogleカレンダーやiCalendar形式情報を共有シェ
 アしましょう。近所のイベントから全国のイベントま
 で今日のイベント検索やスケジュールを決めるならち
 っくたっく
X-WR-CALNAME:ちっくたっく
X-WR-TIMEZONE:UTC
BEGIN:VEVENT
SUMMARY:時間を哲学する
DTSTART;VALUE=DATE:20260420
DTEND;VALUE=DATE:20260421
UID:159268506619
DESCRIPTION:2026-04-21時間を哲学する平井靖史慶應義塾大学
 出版会
LOCATION:
END:VEVENT
BEGIN:VEVENT
SUMMARY:わが柔術哲学
DTSTART;VALUE=DATE:20260423
DTEND;VALUE=DATE:20260424
UID:160415031218
DESCRIPTION:2026-04-24わが柔術哲学ヒクソン・グレイシー/ピ
 ーター・マグワイア/棚橋 志行亜紀書房
LOCATION:
END:VEVENT
BEGIN:VEVENT
SUMMARY:体育の急所ー哲学・法学からの問いかけー
DTSTART;VALUE=DATE:20260423
DTEND;VALUE=DATE:20260424
UID:223816361013
DESCRIPTION:2026-04-24体育の急所ー哲学・法学からの問いか
 けー山口 裕貴共同文化社
LOCATION:
END:VEVENT
BEGIN:VEVENT
SUMMARY:アフリカ哲学のために
DTSTART;VALUE=DATE:20260426
DTEND;VALUE=DATE:20260427
UID:267892932062
DESCRIPTION:2026-04-27アフリカ哲学のためにスレイマン・バ
 シル・ディアニュ/廣田郷士青土社
LOCATION:
END:VEVENT
BEGIN:VEVENT
SUMMARY:ポストトゥルース時代の哲学
DTSTART;VALUE=DATE:20260429
DTEND;VALUE=DATE:20260430
UID:338002833699
DESCRIPTION:2026-04-30ポストトゥルース時代の哲学竹内綱史
 現代書館
LOCATION:
END:VEVENT
BEGIN:VEVENT
SUMMARY:哲学するAIと歩む新・医学概論 続・勤務医の働き
 方改革
DTSTART;VALUE=DATE:20260429
DTEND;VALUE=DATE:20260430
UID:129080981568
DESCRIPTION:2026-04哲学するAIと歩む新・医学概論 続・勤務
 医の働き方改革杉本俊郎カイ書林
LOCATION:
END:VEVENT
BEGIN:VEVENT
SUMMARY:民主主義と共和主義の哲学
DTSTART;VALUE=DATE:20260430
DTEND;VALUE=DATE:20260501
UID:319684844128
DESCRIPTION:2026-05-01民主主義と共和主義の哲学「未来世界
 を哲学する」編集委員会/神島 裕子/森 悠一郎/福家 佑
 亮/李 舜志丸善出版
LOCATION:
END:VEVENT
BEGIN:VEVENT
SUMMARY:ナッシング・グレートの臨床哲学
DTSTART;VALUE=DATE:20260503
DTEND;VALUE=DATE:20260504
UID:689541288127
DESCRIPTION:2026-05-04ナッシング・グレートの臨床哲学十島 
 空我ナカニシヤ出版
LOCATION:
END:VEVENT
BEGIN:VEVENT
SUMMARY:むかしむかしあるところに哲学者がやってきた
DTSTART;VALUE=DATE:20260518
DTEND;VALUE=DATE:20260519
UID:299657691987
DESCRIPTION:2026-05-19むかしむかしあるところに哲学者がや
 ってきた小川 仁志/おほ しんたろう/谷口 崇三笠書房
LOCATION:
END:VEVENT
END:VCALENDAR
