BEGIN:VCALENDAR
VERSION:2.0
PRODID:-//chikkutakku.com//RDFCal 1.0//EN
X-WR-CALDESC:GoogleカレンダーやiCalendar形式情報を共有シェ
 アしましょう。近所のイベントから全国のイベントま
 で今日のイベント検索やスケジュールを決めるならち
 っくたっく
X-WR-CALNAME:ちっくたっく
X-WR-TIMEZONE:UTC
BEGIN:VEVENT
SUMMARY:催事：クレープ（ルートカフェ神戸）
DTSTART;VALUE=DATE:20260417
DTEND;VALUE=DATE:20260420
UID:129182746401
DESCRIPTION:催事：クレープ（ルートカフェ神戸）
LOCATION:
END:VEVENT
BEGIN:VEVENT
SUMMARY:催事：クレープ（ルートカフェ神戸）
DTSTART;VALUE=DATE:20260417
DTEND;VALUE=DATE:20260420
UID:600371729684
DESCRIPTION:催事：クレープ（ルートカフェ神戸）
LOCATION:
END:VEVENT
BEGIN:VEVENT
SUMMARY:山梨：Ｒ８富士山展望の山
DTSTART;VALUE=DATE:20260417
DTEND;VALUE=DATE:20260420
UID:961851472526
DESCRIPTION:日　　程： 日帰り\n交通手段： 車\nリーダー
 ： 大西真\n形　　態： 会員\n集　　合： 5:30\n募　　集
 ： 募集締切
LOCATION:
END:VEVENT
BEGIN:VEVENT
SUMMARY:Busy
DTSTART;VALUE=DATE:20260418
DTEND;VALUE=DATE:20260421
UID:586787778892
DESCRIPTION:Busy
LOCATION:
END:VEVENT
BEGIN:VEVENT
SUMMARY:履修疑義受付期間
DTSTART;VALUE=DATE:20260417
DTEND;VALUE=DATE:20260421
UID:249650256194
DESCRIPTION:履修疑義受付期間
LOCATION:
END:VEVENT
BEGIN:VEVENT
SUMMARY:新北市排球錦標賽
DTSTART;VALUE=DATE:20260417
DTEND;VALUE=DATE:20260421
UID:278613363485
DESCRIPTION:新北市排球錦標賽
LOCATION:
END:VEVENT
BEGIN:VEVENT
SUMMARY:新北市中等學校排球錦標賽(活動中心)
DTSTART;VALUE=DATE:20260417
DTEND;VALUE=DATE:20260421
UID:146241536689
DESCRIPTION:新北市中等學校排球錦標賽(活動中心)
LOCATION:
END:VEVENT
BEGIN:VEVENT
SUMMARY:審査会
DTSTART;VALUE=DATE-TIME:20260418T000000Z
DTEND;VALUE=DATE-TIME:20260422T010000Z
UID:224271179447
DESCRIPTION:審査会
LOCATION:
END:VEVENT
BEGIN:VEVENT
SUMMARY:  📚 อบรมหลักสูตร “นักบริ
 หารมหาวิทยาลัยอัจฉริยะขั
 ้นสูง (นมส.) RETREAT”
DTSTART;VALUE=DATE-TIME:20260418T020000Z
DTEND;VALUE=DATE-TIME:20260422T093000Z
UID:108284066454
DESCRIPTION: 👥 กลุ่มกิจกรรมเพิ่มเ
 ติม·        🔬 กลุ่มวิชาวิทยา
 ศาสตร์และเทคโนโลยี/ วิชาวิ
 ทยาศาสตร์สุขภาพ📅 ศุกร์ที่
  21 มีนาคม – ศุกร์ที่ 6 มิถุนา
 ยน 2569·        👩‍⚕️กลุ่มมนุษย
 ศาสตร์และสังคมศาสตร์ 📅 เส
 าร์ที่ 18 – พุธที่ 22 เมษายน 2569
 📍 สถานที่: (โตเกียว ญี่ปุ่น)
 (ผู้ช่วยศาสตราจารย์ ดร. นริ
 นธร สมบัตินันท์ แบร์)รองคณ
 บดีฝ่ายบริหารและบริการวิ
 ชาการ รักษาการแทน
LOCATION:ยุวพุทธิกสมาคมแห่งประ
 เทศไทย ในพระบรมราชูปถัมภ์
END:VEVENT
BEGIN:VEVENT
SUMMARY:Rooftop Camels屋上駱駝＋按田佳央理、関東ツアー2026
DTSTART;VALUE=DATE:20260417
DTEND;VALUE=DATE:20260422
UID:191379901591
DESCRIPTION:Rooftop Camels 屋上駱駝 2ndアルバム『Axolotl Mother
 』feat.\n按田佳央理 リリース記念関東ツアー2026\n出演：
 Rooftop Camels屋上駱駝 (本山禎朗(piano) 吉田野乃子(sax))+按
 田佳央理(flute)\n★4月18日(土)18:15開場　19:00開演\nベルベ
 ットサン (東京都杉並区荻窪3-47-21 サンライズ ビル1F)\n
 前売り2500円 当日3000円 +ドリンク代\nhttps://www.velvetsun.jp/
 \n★4月19日(日) 14:30開場 15:00開演　\n赤石商店 (長野県伊
 那市東春近22-5)\n一般 3000円 学生1500円 　\nゲスト：水谷
 浩章 (bass) \nhttps://akaishi-shouten.com/ 　\n★4月20日(月)18:00
 開場 19:00開演\nお堀と青木カフェ(長野県松本市城東2-1-5
 ) 　\n予約3000円+1drink　当日3500円+1drink 　\n松井宏樹 (sax)
  水谷浩章(bass) DUO とのツーマンライヴ \nhttps://www.instagra
 m.com/ohori_to_aoki_cafe/?hl=ja\n★4月21日(火)19:00開場 19:30　\n
 桜座(山梨県甲府市中央1丁目1-7)　　　\n前売3500円 当日4
 000円　別途1Drink600円  中学生\, 小学生無料(要保護者同
 伴)\nゲスト：水谷浩章 (bass) \nhttps://www.sakuraza.jp/\n★4月2
 2日(水)19:30開場 20:00開演 \n神保町試聴室(東京都千代田
 区西神田3-8-5ビル西神田1階) \n予約3000円  当日 3500円 (1
 ドリンク、スナック込) \nゲスト：水谷浩章 (bass) \nhttp:/
 /shicho.org/
LOCATION:東京、伊那、松本、甲府【関東】
END:VEVENT
BEGIN:VEVENT
SUMMARY:115年全國中等學校運動會(嘉義)
DTSTART;VALUE=DATE:20260417
DTEND;VALUE=DATE:20260423
UID:305230198549
DESCRIPTION:115年全國中等學校運動會(嘉義)
LOCATION:
END:VEVENT
BEGIN:VEVENT
SUMMARY: ■115年全國中等學校運動會
DTSTART;VALUE=DATE:20260417
DTEND;VALUE=DATE:20260423
UID:239536239404
DESCRIPTION: ■115年全國中等學校運動會
LOCATION:嘉義縣
END:VEVENT
BEGIN:VEVENT
SUMMARY:Busy
DTSTART;VALUE=DATE:20260417
DTEND;VALUE=DATE:20260423
UID:288131669703
DESCRIPTION:Busy
LOCATION:
END:VEVENT
BEGIN:VEVENT
SUMMARY:舞台『わたしの書、頁を図る』抽選先行受付
DTSTART;VALUE=DATE:20260417
DTEND;VALUE=DATE:20260426
UID:246363423942
DESCRIPTION:舞台『わたしの書、頁を図る』抽選先行受付
LOCATION:
END:VEVENT
BEGIN:VEVENT
SUMMARY:平川さくらまつり
DTSTART;VALUE=DATE:20260417
DTEND;VALUE=DATE:20260506
UID:333824970568
DESCRIPTION:第45回平川さくらまつり【R8-4/18～5/6】 | 平川
 市観光協会
LOCATION:猿賀公園\, 日本、〒036-0242 青森県平川市猿賀石
 林
END:VEVENT
BEGIN:VEVENT
SUMMARY:[5\,6年生]練習@赤羽小(10:00 - 12:00)
DTSTART;VALUE=DATE-TIME:20260417T150000Z
DTEND;VALUE=DATE-TIME:20260514T150000Z
UID:124739243375
DESCRIPTION:[5\,6年生]練習@赤羽小(10:00 - 12:00)
LOCATION:北区立赤羽小学校\, 日本、〒115-0045 東京都北区
 赤羽１丁目２４−６
END:VEVENT
END:VCALENDAR
