BEGIN:VCALENDAR
VERSION:2.0
PRODID:-//chikkutakku.com//RDFCal 1.0//EN
X-WR-CALDESC:GoogleカレンダーやiCalendar形式情報を共有シェ
 アしましょう。近所のイベントから全国のイベントま
 で今日のイベント検索やスケジュールを決めるならち
 っくたっく
X-WR-CALNAME:ちっくたっく
X-WR-TIMEZONE:UTC
BEGIN:VEVENT
SUMMARY:NCAA Men's Golf Region 14 Championship  - Host TJC
DTSTART;VALUE=DATE:20260419
DTEND;VALUE=DATE:20260422
UID:773529534839
DESCRIPTION:NCAA Men's Golf Region 14 Championship  - Host TJC
LOCATION:Woodland Hills Golf Club\, 359 Co Rd 5021\, Nacogdoches\, TX 7596
 4\, USA
END:VEVENT
BEGIN:VEVENT
SUMMARY:Term 2 Week 1 (11 Wk Term)
DTSTART;VALUE=DATE:20260419
DTEND;VALUE=DATE:20260423
UID:289820449458
DESCRIPTION:Term 2 Week 1 (11 Wk Term)
LOCATION:
END:VEVENT
BEGIN:VEVENT
SUMMARY:グローバル土壌週間
DTSTART;VALUE=DATE-TIME:20260418T150000Z
DTEND;VALUE=DATE-TIME:20260423T150000Z
UID:155907608977
DESCRIPTION:グローバル土壌週間
LOCATION:
END:VEVENT
BEGIN:VEVENT
SUMMARY:Semester One Week 6
DTSTART;VALUE=DATE:20260419
DTEND;VALUE=DATE:20260424
UID:738661386601
DESCRIPTION:Semester One Week 6
LOCATION:
END:VEVENT
BEGIN:VEVENT
SUMMARY:Quarter Two Week 2
DTSTART;VALUE=DATE:20260419
DTEND;VALUE=DATE:20260424
UID:711471261754
DESCRIPTION:Quarter Two Week 2
LOCATION:
END:VEVENT
BEGIN:VEVENT
SUMMARY:Term 2 - Week 1
DTSTART;VALUE=DATE:20260419
DTEND;VALUE=DATE:20260424
UID:302749438829
DESCRIPTION:Term 2 - Week 1
LOCATION:
END:VEVENT
BEGIN:VEVENT
SUMMARY:Swimming Lessons (Years 1-6)
DTSTART;VALUE=DATE:20260419
DTEND;VALUE=DATE:20260424
UID:112122656579
DESCRIPTION:Swimming Lessons (Years 1-6)
LOCATION:Graham Condon Recreation and Sport Centre\, 3 Sisson Drive\, Papa
 nui\, Christchurch 8053\, New Zealand
END:VEVENT
BEGIN:VEVENT
SUMMARY:Term 2 - Week 1A
DTSTART;VALUE=DATE:20260419
DTEND;VALUE=DATE:20260424
UID:273568248841
DESCRIPTION:Term 2 - Week 1A
LOCATION:
END:VEVENT
BEGIN:VEVENT
SUMMARY:LAL meetings with Board all week
DTSTART;VALUE=DATE:20260419
DTEND;VALUE=DATE:20260424
UID:214032783742
DESCRIPTION:LAL meetings with Board all week
LOCATION:
END:VEVENT
BEGIN:VEVENT
SUMMARY:Term 2 Week 1
DTSTART;VALUE=DATE:20260419
DTEND;VALUE=DATE:20260424
UID:177829603313
DESCRIPTION:Term 2 Week 1
LOCATION:
END:VEVENT
BEGIN:VEVENT
SUMMARY:Term 2 Week 2
DTSTART;VALUE=DATE:20260419
DTEND;VALUE=DATE:20260424
UID:213900969453
DESCRIPTION:Term 2 Week 2
LOCATION:
END:VEVENT
BEGIN:VEVENT
SUMMARY:Week 1 A
DTSTART;VALUE=DATE:20260419
DTEND;VALUE=DATE:20260424
UID:290003761985
DESCRIPTION:Week 1 A
LOCATION:
END:VEVENT
BEGIN:VEVENT
SUMMARY:Term 2\, Week 1A
DTSTART;VALUE=DATE:20260419
DTEND;VALUE=DATE:20260424
UID:218055376277
DESCRIPTION:Term 2\, Week 1A
LOCATION:
END:VEVENT
BEGIN:VEVENT
SUMMARY:Term 2 Week 1
DTSTART;VALUE=DATE:20260419
DTEND;VALUE=DATE:20260424
UID:204223643438
DESCRIPTION:Term 2 Week 1
LOCATION:
END:VEVENT
BEGIN:VEVENT
SUMMARY:カイアシ類採集：中部大大場先生
DTSTART;VALUE=DATE:20260418
DTEND;VALUE=DATE:20260424
UID:259949239410
DESCRIPTION:カイアシ類採集：中部大大場先生
LOCATION:
END:VEVENT
BEGIN:VEVENT
SUMMARY:日本教育旅行
DTSTART;VALUE=DATE:20260418
DTEND;VALUE=DATE:20260424
UID:244544878154
DESCRIPTION:日本教育旅行
LOCATION:
END:VEVENT
BEGIN:VEVENT
SUMMARY:Term 2 Week 1
DTSTART;VALUE=DATE:20260419
DTEND;VALUE=DATE:20260425
UID:202342208208
DESCRIPTION:Term 2 Week 1
LOCATION:
END:VEVENT
BEGIN:VEVENT
SUMMARY:Δ4月份財產月報△繕造5月份員工薪資
DTSTART;VALUE=DATE:20260418
DTEND;VALUE=DATE:20260425
UID:227321775688
DESCRIPTION:Δ4月份財產月報△繕造5月份員工薪資
LOCATION:
END:VEVENT
BEGIN:VEVENT
SUMMARY:National Library Week
DTSTART;VALUE=DATE:20260419
DTEND;VALUE=DATE:20260426
UID:358926477278
DESCRIPTION:National Library Week
LOCATION:
END:VEVENT
BEGIN:VEVENT
SUMMARY:Bee Healthy Dental Visit 
DTSTART;VALUE=DATE-TIME:20260419T123000Z
DTEND;VALUE=DATE-TIME:20260506T133000Z
UID:249775547403
DESCRIPTION:Bee Healthy Dental Visit 
LOCATION:
END:VEVENT
BEGIN:VEVENT
SUMMARY:○沼津市ニュービジネス創出事業補助金
DTSTART;VALUE=DATE-TIME:20260418T150000Z
DTEND;VALUE=DATE-TIME:20260519T150000Z
UID:134620047982
DESCRIPTION:○沼津市ニュービジネス創出事業補助金
LOCATION:
END:VEVENT
END:VCALENDAR
