BEGIN:VCALENDAR
VERSION:2.0
PRODID:-//chikkutakku.com//RDFCal 1.0//EN
X-WR-CALDESC:GoogleカレンダーやiCalendar形式情報を共有シェ
アしましょう。近所のイベントから全国のイベントま
で今日のイベント検索やスケジュールを決めるならち
っくたっく
X-WR-CALNAME:ちっくたっく
X-WR-TIMEZONE:UTC
BEGIN:VEVENT
SUMMARY:るるぱーてぃー!! vol.5
DTSTART;VALUE=DATE-TIME:20260421T090000Z
DTEND;VALUE=DATE-TIME:20260421T123000Z
UID:209788627037
DESCRIPTION:https://x.com/lnan_nijika/status/2044760421501182337
4/21(火)#え
るなんといっしょ
『るるぱーてぃー!! vol.5』
るるぱにっく‼︎さん主催ライブ4月も出演させて頂き
ます!無銭チケットでチェキ券入特ついてます🎁会い
たいな♡
📍GOTANDA G4
🎤20:50~21:10
💬21:30~22:30🎟️ http://paylove.org/even
ts/1633
🎁コメサありチェキ券1枚+当たり入りラン
ダムブロマイド1枚+ポイント1pt
前方▶︎+2ショッ
ト10秒動画
https://pa
ylove.org/events/1633
公開期間
2026年3月19日(木)
20:30 ~ 2026年4月21日(火) 23:59
会場
GOTANDA G4
出演者
るるぱにっく!!
フラップアップ⤴︎Lって何のLですか?
ミニワチャ
にゃんすきっ♡
?
ゎんみゅー♡?
キミリセット
めろでぃProject<
br>はいどーも!テラスマです!
HEAVENLY
煌きメリー
☆ボップ
灰猫しの(ぷらちなまふぃあ。)
【イベ
ント概要】
■イベント名:るるぱーてぃー!! vol.5
■日程:2026年 4月21日(火)
■開場/開演:17:30/18:00
■会場:GOTANDA G4
【チケット】
■通常エリアチ
ケット:0円
■前方エリアチケット:2\,000円
■当
日チケット:各種+1\,000円
※別途2ドリンク
■再入
場:可能(無料)
▷支払い方法
前売り:クレ
ジットカード / デビットカード
当日券:現金
【ご入場順】
①前方エリアチケット(整理券番号順
)
②通常エリアチケット(整理券番号順)
LOCATION:GOTANDA G4
END:VEVENT
END:VCALENDAR