BEGIN:VCALENDAR
VERSION:2.0
PRODID:-//chikkutakku.com//RDFCal 1.0//EN
X-WR-CALDESC:GoogleカレンダーやiCalendar形式情報を共有シェ
 アしましょう。近所のイベントから全国のイベントま
 で今日のイベント検索やスケジュールを決めるならち
 っくたっく
X-WR-CALNAME:ちっくたっく
X-WR-TIMEZONE:UTC
BEGIN:VEVENT
SUMMARY:(นพ.สสจ.)เชิญเป็นประธานก
 ารประชุม คปสจ.ครั้งที่4/2569
DTSTART;VALUE=DATE-TIME:20260429T023000Z
DTEND;VALUE=DATE-TIME:20260429T050000Z
UID:100621639781
DESCRIPTION:พร้อมทั้ง1.มอบป้ายชุมช
 น บ.ว.ร.ต้นแบบรอบรู้ด้านผลิ
 ตภัณฑ์สุขภาพ\n              2.มอบป
 ระกาศนียลัตรแก่รพ.ที่ผ่าน
 การประเมิน Green&Clean hospital
LOCATION:ณ ห้องประชุมสามัคคี ชั้
 น5 สสจ.
END:VEVENT
END:VCALENDAR
