BEGIN:VCALENDAR
VERSION:2.0
PRODID:-//chikkutakku.com//RDFCal 1.0//EN
X-WR-CALDESC:GoogleカレンダーやiCalendar形式情報を共有シェ
 アしましょう。近所のイベントから全国のイベントま
 で今日のイベント検索やスケジュールを決めるならち
 っくたっく
X-WR-CALNAME:ちっくたっく
X-WR-TIMEZONE:UTC
BEGIN:VEVENT
SUMMARY:Member Night: David Gilliver challenge review\; Member's Print Wal
 k
DTSTART;VALUE=DATE-TIME:20260430T183000Z
DTEND;VALUE=DATE-TIME:20260430T210000Z
UID:100825784310
DESCRIPTION:This meeting will be held at St. Peter’s Church Hall\, Free 
 Street\, Bishop’s Waltham\, SO32 1EE.Review of the David Gilliver ‘Fil
 m Title Dioramas’We are asking for a couple of things:1. Upload no more
  than 5 images of your chosen Film Title Diorama. It would be good to see 
 1 or 2 that show how you reached the final picture in this number\, please
 .2. Usual re-sizing and please re-name each image Name%Film Title Final a
 nd any accompanying images Name%1\,2\, 3\, etc.3. Upload deadline: midnig
 ht 16th April – the plan is to email the pictures to David Gilliver for 
 some feedback.Also on this evening: A Print ‘Show &amp\; Tell’You are 
 invited to bring along 1-2 A4 prints of your choice or even a book you hav
 e created\, to share with fellow members.Discussion will be centred around
  why you like the picture\, what were you trying to achieve – what techn
 iques/settings you decided to use etc. For books – what was the aim of t
 he collection? Holiday memories\; a project?For Discussion if time on the 
 night…….The following link leads to an article by Glyn Dewis – respe
 cted photo editor and educator. Please take the time to read and share you
 r thoughts on the 30th April.Is It Time to Retire the name "Camera Club" ?
  — Glyn Dewis
LOCATION:Church Hall Bishop's Waltham
END:VEVENT
END:VCALENDAR
