BEGIN:VCALENDAR
VERSION:2.0
PRODID:-//chikkutakku.com//RDFCal 1.0//EN
X-WR-CALDESC:GoogleカレンダーやiCalendar形式情報を共有シェ
 アしましょう。近所のイベントから全国のイベントま
 で今日のイベント検索やスケジュールを決めるならち
 っくたっく
X-WR-CALNAME:ちっくたっく
X-WR-TIMEZONE:UTC
BEGIN:VEVENT
SUMMARY:OHS V/JV Boys Baseball @ Louisburg
DTSTART;VALUE=DATE-TIME:20260420T213000Z
DTEND;VALUE=DATE-TIME:20260421T013000Z
UID:100971181139
DESCRIPTION:OHS V/JV Boys Baseball @ Louisburg
LOCATION:
END:VEVENT
END:VCALENDAR
