BEGIN:VCALENDAR
VERSION:2.0
PRODID:-//chikkutakku.com//RDFCal 1.0//EN
X-WR-CALDESC:GoogleカレンダーやiCalendar形式情報を共有シェ
 アしましょう。近所のイベントから全国のイベントま
 で今日のイベント検索やスケジュールを決めるならち
 っくたっく
X-WR-CALNAME:ちっくたっく
X-WR-TIMEZONE:UTC
BEGIN:VEVENT
SUMMARY:クライムキャスト
DTSTART;VALUE=DATE:20260430
DTEND;VALUE=DATE:20260501
UID:101024377405
DESCRIPTION:2026-05-01クライムキャストヨルン・リーエル・
 ホルスト/ヤン＝エーリク・フィエル/中谷 友紀子小学
 館
LOCATION:
END:VEVENT
END:VCALENDAR
