BEGIN:VCALENDAR
VERSION:2.0
PRODID:-//chikkutakku.com//RDFCal 1.0//EN
X-WR-CALDESC:GoogleカレンダーやiCalendar形式情報を共有シェ
 アしましょう。近所のイベントから全国のイベントま
 で今日のイベント検索やスケジュールを決めるならち
 っくたっく
X-WR-CALNAME:ちっくたっく
X-WR-TIMEZONE:UTC
BEGIN:VEVENT
SUMMARY:Year 12 Theatre Night (McK Rd Campus Theatre)
DTSTART;VALUE=DATE-TIME:20260508T090000Z
DTEND;VALUE=DATE-TIME:20260508T103000Z
UID:101099027282
DESCRIPTION:Year 12 Theatre Night (McK Rd Campus Theatre)
LOCATION:
END:VEVENT
END:VCALENDAR
