BEGIN:VCALENDAR
VERSION:2.0
PRODID:-//chikkutakku.com//RDFCal 1.0//EN
X-WR-CALDESC:GoogleカレンダーやiCalendar形式情報を共有シェ
 アしましょう。近所のイベントから全国のイベントま
 で今日のイベント検索やスケジュールを決めるならち
 っくたっく
X-WR-CALNAME:ちっくたっく
X-WR-TIMEZONE:UTC
BEGIN:VEVENT
SUMMARY:Dvořák’s New World - Matinee
DTSTART;VALUE=DATE-TIME:20260430T023000Z
DTEND;VALUE=DATE-TIME:20260430T033000Z
UID:102255621870
DESCRIPTION:A symphonic odysseyGioachino ROSSINI Semiramide: OvertureAnton
 ín DVOŘÁK Symphony No.9 From the New WorldAsher Fisch conductorDvořák
 ’s New World Symphony is one of the most popular works in the orchestral
  repertoire. From its soulful Largo to its stirring finale\, Dvořák’s 
 enduring masterpiece captivates listeners with every note. Paired with Ros
 sini’s sparkling Semiramide Overture\, this concert journeys from operat
 ic brilliance to symphonic grandeur.https://www.waso.com.au/concerts-ticke
 ts/whats-on/concert/dvorak-matinee
LOCATION:State Theatre Centre of WA
END:VEVENT
END:VCALENDAR
