BEGIN:VCALENDAR
VERSION:2.0
PRODID:-//chikkutakku.com//RDFCal 1.0//EN
X-WR-CALDESC:GoogleカレンダーやiCalendar形式情報を共有シェ
 アしましょう。近所のイベントから全国のイベントま
 で今日のイベント検索やスケジュールを決めるならち
 っくたっく
X-WR-CALNAME:ちっくたっく
X-WR-TIMEZONE:UTC
BEGIN:VEVENT
SUMMARY:馬車道 チャーリーズバー / 葵めぐみ(Vo)
DTSTART;VALUE=DATE-TIME:20260520T103000Z
DTEND;VALUE=DATE-TIME:20260520T140000Z
UID:102970477716
DESCRIPTION:045-228-8331\n\n葵めぐみ\,vocal Charlie\,vocal 楠直孝\,
 piano\nhttps://charliesbarjazz.wixsite.com/my-site
LOCATION:神奈川県横浜市中区住吉町6-77-601
END:VEVENT
END:VCALENDAR
