BEGIN:VCALENDAR
VERSION:2.0
PRODID:-//chikkutakku.com//RDFCal 1.0//EN
X-WR-CALDESC:GoogleカレンダーやiCalendar形式情報を共有シェ
 アしましょう。近所のイベントから全国のイベントま
 で今日のイベント検索やスケジュールを決めるならち
 っくたっく
X-WR-CALNAME:ちっくたっく
X-WR-TIMEZONE:UTC
BEGIN:VEVENT
SUMMARY:Chauncy Show
DTSTART;VALUE=DATE-TIME:20260507T220000Z
DTEND;VALUE=DATE-TIME:20260508T020000Z
UID:103049129546
DESCRIPTION:David from Cellar Door is able to run sound. Ian is out of tow
 n
LOCATION:The Freedom Cafe\n37 Main St\, Durham\, NH  03824\, United States
END:VEVENT
END:VCALENDAR
