BEGIN:VCALENDAR
VERSION:2.0
PRODID:-//chikkutakku.com//RDFCal 1.0//EN
X-WR-CALDESC:GoogleカレンダーやiCalendar形式情報を共有シェ
 アしましょう。近所のイベントから全国のイベントま
 で今日のイベント検索やスケジュールを決めるならち
 っくたっく
X-WR-CALNAME:ちっくたっく
X-WR-TIMEZONE:UTC
BEGIN:VEVENT
SUMMARY:Mecha Ghidraを使ったAI-driven Reverse Engineering
DTSTART;VALUE=DATE-TIME:20260425T033000Z
DTEND;VALUE=DATE-TIME:20260425T090000Z
UID:103095180615
DESCRIPTION:https://yamatosecurity.connpass.com/event/389782/
LOCATION:神戸市中央区京町72番地 新クレセントビル4階
END:VEVENT
END:VCALENDAR
